BEGIN:VCALENDAR
VERSION:2.0
PRODID:-//wp-events-plugin.com//7.2.3.1//EN
TZID:Europe/Rome
X-WR-TIMEZONE:Europe/Rome
BEGIN:VEVENT
UID:41556@lazioeventi.com
DTSTART;TZID=Europe/Rome:20250517T200000
DTEND;TZID=Europe/Rome:20250517T220000
DTSTAMP:20250515T212848Z
URL:https://lazioeventi.com/eventi/anteprima-mondi-sonori-festival
SUMMARY:Anteprima Mondi Sonori Festival - Roma - 17 Maggio 25 20:00
DESCRIPTION:In occasione della Notte dei Musei\, sabato 17 maggio alle ore 
 20 al Museo nazionale degli strumenti musicali a Roma\, Peppe Servillo\, a
 ttore\, cantante e interprete tra i più raffinati della scena italiana\, 
 porta in scena Marcovaldo\, il celebre personaggio nato dalla penna di Ita
 lo Calvino.\n\nAttraverso un’attenta selezione di racconti e una lettura
  intensa e teatrale\, Servillo dà voce all’eroe tragicomico delle picco
 le cose\, accompagnato dalle sonorità evocative della chitarra classica d
 i Cristiano Califano\, che sottolinea i passaggi tra malinconia e ironia. 
 Uno spettacolo che commuove e fa sorridere\, sospeso tra prosa\, musica e 
 immaginazione\, in cui lo sguardo incantato di Marcovaldo\, un uomo sempli
 ce\, spaesato e meravigliato\, capace di scorgere frammenti di natura\, po
 esia e umanità anche nella grigia realtà urbana che lo circonda\, ci inv
 ita a riscoprire la bellezza nascosta del quotidiano.\n\nLo spettacolo fa 
 parte del programma della Notte dei Musei 2025 con biglietto d’ingresso 
 a 1 euro.\n\nLo spettacolo è un’anteprima di Mondi Sonori\, un nuovo e 
 originale festival dedicato alla musica come esperienza trasversale\, capa
 ce di intrecciare suono\, parola\, storia e immaginazione con l’ideazion
 e e la direzione artistica dell’Architetto Sonia Martone (direttrice del
  Museo) e di Gianluca Dessì. Un progetto che abbraccia mondi culturali di
 versi e propone un ricco calendario di eventi tra concerti\, lezioni d’a
 scolto\, incontri e spettacoli\, in programma da giugno a ottobre 2025. L
 ’apertura ufficiale del è fissata per domenica 8 giugno e si articoler
 à in quattro sezioni tematiche\, ciascuna con un’identità ben definita
 : Scenari Sonori – Concerti e spettacoli musicali (con la supervisione a
 rtistica di Stefano Saletti)\; Congegni Sonori – Incontri con artisti e 
 musicisti virtuosi dei loro strumenti\; Incanti Sonori – guide all’asc
 olto\, lirica e divulgazione\; Universi Sonori – Concerti di Musica da C
 amera.\n\n \n\nDa giugno a fine ottobre\, Mondi Sonori ospiterà molti pro
 tagonisti della scena musicale italiana e internazionale come Ginevra Di M
 arco\, Faraualla\, Massimo Popolizio\, Fabrizio Lopresti\, Enerbia\, l’O
 rchestra da Camera Fiorentina\, l’Orchestra Europa Incanto\, Riccardo Te
 si\, Pejman Tadayon\, Barnaby Brown\, Stefano Tavernese\, Fabio Rinaudo\, 
 Aran e Nora Spignoli Soria.\n\nMondi Sonori si propone come un viaggio mus
 icale pensato per pubblici di tutte le età\, unendo ascolto\, racconto e 
 dialogo tra le culture. Il Museo Nazionale degli Strumenti Musicali\, affe
 rente alla Direzione Musei nazionali della città di Roma\, con la sua ric
 ca collezione di strumenti antichi\, e del mondo\, crea un connubio natura
 le tra musica ascoltata e cultura della musica. Il costo del biglietto d
 ’ingresso di 6 euro permette - prima della partecipazione al concerto - 
 anche la visita alle sale espositive.\n\nIl programma dettagliato con le s
 chede degli spettacoli sarà presto disponibile sui canali di informazione
  del Museo.\n\n \n\nMondi sonori è un progetto finanziato dal Ministero d
 ella Cultura - Direzione Generale Spettacolo nell'ambito del bando "Valori
 zzazione attività spettacolo dal vivo svolte negli istituti e luoghi dell
 a cultura e da parte di soggetti giuridici creati o partecipati dal minist
 ero della cultura che di occupano di conservazione e valorizzazione del pa
 trimonio culturale"\n\n\nMuseo Nazionale degli Strumenti Musicali - Dirett
 rice: Arch. Sonia Martone\nPiazza di S. Croce in Gerusalemme\, 9/a - 00185
  Roma\n\nINFO & PRENOTAZIONI: Tel: 067014796 – Mail: dms-rm.museostrumen
 ti@cultura.gov.it\n\n
ATTACH;FMTTYPE=image/jpeg:https://lazioeventi.com/wp-content/uploads/2025/
 05/SERVILLO.jpg
CATEGORIES:Musica, Spettacoli e Danza nel Lazio
LOCATION:Roma\, Via Leopardi\, Roma\, Roma\, Lazio\, Italia
GEO:41.8942;12.5017
X-APPLE-STRUCTURED-LOCATION;VALUE=URI;X-ADDRESS=Via Leopardi\, Roma\, Roma\
 , Lazio\, Italia;X-APPLE-RADIUS=100;X-TITLE=Roma:geo:41.8942,12.5017
END:VEVENT
BEGIN:VTIMEZONE
TZID:Europe/Rome
X-LIC-LOCATION:Europe/Rome
BEGIN:DAYLIGHT
DTSTART:20250330T030000
TZOFFSETFROM:+0100
TZOFFSETTO:+0200
TZNAME:CEST
END:DAYLIGHT
END:VTIMEZONE
END:VCALENDAR