BEGIN:VCALENDAR
VERSION:2.0
PRODID:-//wp-events-plugin.com//7.2.3.1//EN
TZID:Europe/Rome
X-WR-TIMEZONE:Europe/Rome
BEGIN:VEVENT
UID:29864@lazioeventi.com
DTSTART;TZID=Europe/Rome:20220327T080000
DTEND;TZID=Europe/Rome:20220327T200000
DTSTAMP:20220215T110711Z
URL:https://lazioeventi.com/eventi/antica-mostra-mercato-lannunziata
SUMMARY:Antica Mostra Mercato L'Annunziata - Morlupo - 27 Marzo 22 08:00
DESCRIPTION:L’Associazione Artigiani Creativi di Strada Civita Castellana
  organizza l’Antica Mostra Mercato L’Annunziata presso Santa Maria Sec
 onda di Morlupo.\n\nLa manifestazione si sostanzia in un mercatino dell’
 artigianato e dei prodotti tipici\, magari con un po’ di vintage e qualc
 he cimelio di antiquariato.\n\nL’evento è sicuramente interessante per 
 la location di Santa Maria Seconda.\n\nL’appuntamento è per domenica 27
  marzo 2022 a Morlupo\, in via Frà Carlo da Sezze\, presso il convento di
  Santa Maria Seconda.
ATTACH;FMTTYPE=image/jpeg:https://lazioeventi.com/wp-content/uploads/2022/
 02/mercato-annunziata.jpg
CATEGORIES:Fiere e Mercatini nel Lazio
LOCATION:Morlupo\, Comune\, Morlupo\, Roma\, Lazio\, Italia
GEO:42.1435;12.5046
X-APPLE-STRUCTURED-LOCATION;VALUE=URI;X-ADDRESS=Comune\, Morlupo\, Roma\, L
 azio\, Italia;X-APPLE-RADIUS=100;X-TITLE=Morlupo:geo:42.1435,12.5046
END:VEVENT
BEGIN:VTIMEZONE
TZID:Europe/Rome
X-LIC-LOCATION:Europe/Rome
BEGIN:DAYLIGHT
DTSTART:20220327T030000
TZOFFSETFROM:+0100
TZOFFSETTO:+0200
TZNAME:CEST
END:DAYLIGHT
END:VTIMEZONE
END:VCALENDAR