BEGIN:VCALENDAR
VERSION:2.0
PRODID:-//wp-events-plugin.com//7.2.3.1//EN
TZID:Europe/Rome
X-WR-TIMEZONE:Europe/Rome
BEGIN:VEVENT
UID:35851@lazioeventi.com
DTSTART;TZID=Europe/Rome:20230616T100000
DTEND;TZID=Europe/Rome:20230616T173000
DTSTAMP:20230612T083650Z
URL:https://lazioeventi.com/eventi/antiquarium-di-lucrezia-romana-4
SUMMARY:Antiquarium di Lucrezia Romana - Roma - 16 Giugno 23 10:00
DESCRIPTION:In occasione delle Giornate dell'archeologia in Europa:\n\nL’
 Antiquarium di Lucrezia Romana è un museo archeologico che in poche sale 
 racconta la storia del territorio Appio-Tuscolano\, dall'epoca preistorica
  fino al medioevo. Ospita una collezione molto varia di reperti recuperati
  nel corso delle indagini archeologiche preventive svolte negli ultimi tre
 nta anni in occasione dell’intensa espansione urbanistica che ha interes
 sato questa parte della città. La prima sala ricavata all’interno di un
 ’ex-cisterna\, espone opere fittili\, oggetti di vetro e gioielli. Le al
 tre tre sale sono organizzate all’interno di un casale dei primi del ‘
 900 e ospitano mosaici\, affreschi e una piccola collezione di statue tra 
 cui una recente acquisizione costituita dalla statua femminile panneggiata
  rinvenuta negli scavi effettuati nel 2015 nella Villa di Sette Bassi.\n\n
 Visita guidata\nAlla scoperta dell'Antiquarium di Lucrezia Romana\nGuidati
  dal personale del Parco archeologico dell'Appia Antica visiteremo l'Antiq
 uarium di Lucrezia Romana\, alla scoperta della ricca collezione comprende
  vasi\, statue\, terrecotte\, oggetti di uso comune\, gioielli\, monete\, 
 iscrizioni che provengono principalmente da abitati\, necropoli e ville di
  età romana che racconta la storia del territorio sud-orientale di Roma.\
 n\n8.00 €\, Ci sono tariffe scontate\nVenerdì 16 giugno de 10:00 à 11:
 30 et de 17:00 à 17:30
ATTACH;FMTTYPE=image/jpeg:https://lazioeventi.com/wp-content/uploads/2023/
 06/Antiquarium-di-Lucrezia-Romana.jpg
CATEGORIES:Arte e Cultura nel Lazio
LOCATION:Roma\, Via Leopardi\, Roma\, Roma\, Lazio\, Italia
GEO:41.8942;12.5017
X-APPLE-STRUCTURED-LOCATION;VALUE=URI;X-ADDRESS=Via Leopardi\, Roma\, Roma\
 , Lazio\, Italia;X-APPLE-RADIUS=100;X-TITLE=Roma:geo:41.8942,12.5017
END:VEVENT
BEGIN:VTIMEZONE
TZID:Europe/Rome
X-LIC-LOCATION:Europe/Rome
BEGIN:DAYLIGHT
DTSTART:20230326T030000
TZOFFSETFROM:+0100
TZOFFSETTO:+0200
TZNAME:CEST
END:DAYLIGHT
END:VTIMEZONE
END:VCALENDAR