BEGIN:VCALENDAR
VERSION:2.0
PRODID:-//wp-events-plugin.com//7.2.3.1//EN
TZID:Europe/Rome
X-WR-TIMEZONE:Europe/Rome
BEGIN:VEVENT
UID:27595@lazioeventi.com
DTSTART;TZID=Europe/Rome:20200913T180000
DTEND;TZID=Europe/Rome:20200914T230000
DTSTAMP:20200904T225714Z
URL:https://lazioeventi.com/eventi/anxur-summer-wine
SUMMARY:Anxur Summer Wine - Terracina - 13 Settembre 20 18:00
DESCRIPTION:ANXUR SUMMER WINE La Cultura e le Tradizioni Terracinesi Due se
 rate dedicate alla celebre produzione vinicola di una città che ha presta
 to il suo nome a una varietà apprezzata a livello nazionale ed internazio
 nale ... il MOSCATO DI TERRACINA. Nella
ATTACH;FMTTYPE=image/jpeg:https://lazioeventi.com/wp-content/uploads/2020/
 09/anxur-wine.jpg
CATEGORIES:Sagre, Gastronomia e Tradizioni nel Lazio
LOCATION:Terracina\, Comune\, Terracina\, Latina\, Lazio\, Italia
GEO:41.2912;13.2492
X-APPLE-STRUCTURED-LOCATION;VALUE=URI;X-ADDRESS=Comune\, Terracina\, Latina
 \, Lazio\, Italia;X-APPLE-RADIUS=100;X-TITLE=Terracina:geo:41.2912,13.2492
END:VEVENT
BEGIN:VTIMEZONE
TZID:Europe/Rome
X-LIC-LOCATION:Europe/Rome
BEGIN:DAYLIGHT
DTSTART:20200329T030000
TZOFFSETFROM:+0100
TZOFFSETTO:+0200
TZNAME:CEST
END:DAYLIGHT
END:VTIMEZONE
END:VCALENDAR