BEGIN:VCALENDAR
VERSION:2.0
PRODID:-//wp-events-plugin.com//7.2.3.1//EN
TZID:Europe/Rome
X-WR-TIMEZONE:Europe/Rome
BEGIN:VEVENT
UID:31626@lazioeventi.com
DTSTART;TZID=Europe/Rome:20220724T213000
DTEND;TZID=Europe/Rome:20220724T233000
DTSTAMP:20220712T081027Z
URL:https://lazioeventi.com/eventi/aperijazz-al-tramonto-2022-07-24
SUMMARY:Aperijazz al tramonto - Tarquinia - 24 Luglio 22 21:30
DESCRIPTION:“Aperijazz al tramonto”\, la rassegna musicale dedicata al 
 jazz del ristorante Arcadia\nTre concerti in programma\, il 10 e 24 luglio
 \, il 7 agosto\, alle 21\,30\, a Tarquinia\, nella terrazza di piazza Gius
 eppe Mazzini\n\nLa splendida terrazza di piazza Giuseppe Mazzini all’omb
 ra di palazzo Vitelleschi\, nel centro storico di Tarquinia\, per ammirare
  i tramonti sul mare. La musica a riempire di note l’atmosfera. \n\nDegu
 stazioni di sfiziosi piatti e dissetanti aperitivi. Sono gli ingredienti d
 i “Aperijazz al tramonto”\, la rassegna musicale organizzata dal risto
 rante Arcadia\, nell’ambito di WeTarquinia\, il progetto di promozione e
  valorizzazione della cittadina tirrenica e del suo territorio. \n\nTre co
 ncerti\, alle 21\,30\,  con l’esibizione di affermati cantanti e musicis
 ti del panorama jazz italiano ed estero. \n\nPrimo appuntamento il 10 lugl
 io con il trio guidato da Alessandro Bravo\, pianista che ha suonato in pr
 estigiose rassegne e vanta collaborazioni con musicisti jazz italiani e in
 ternazionali e l’incisione di numerosi dischi. \n\nIl 24 luglio toccher
 à al trio con Filippo Bianchini\, sassofonista con numerosi dischi all’
 attivo\, concerti in importanti festival e rassegne in Italia e all’este
 ro e collaborazioni con musicisti jazz italiani e internazionali. \n\nA co
 ncludere\, il 7 agosto\, salirà sul palco il trio di Matteo Cidale\, batt
 erista spezzino dalla carriera ricca di collaborazioni\, pubblicazioni di 
 dischi e partecipazioni a festival e rassegne italiani.  \n\nPer tutte le 
 informazioni è possibile chiamare lo 0766 855501 o il 348 2526330. 
ATTACH;FMTTYPE=image/jpeg:https://lazioeventi.com/wp-content/uploads/2022/
 07/Aperijazz-al-tramonto.jpg
CATEGORIES:Musica, Spettacoli e Danza nel Lazio
LOCATION:Tarquinia\, Comune\, Tarquinia\, Viterbo\, Lazio\, Italia
GEO:42.2546;11.7584
X-APPLE-STRUCTURED-LOCATION;VALUE=URI;X-ADDRESS=Comune\, Tarquinia\, Viterb
 o\, Lazio\, Italia;X-APPLE-RADIUS=100;X-TITLE=Tarquinia:geo:42.2546,11.758
 4
END:VEVENT
BEGIN:VTIMEZONE
TZID:Europe/Rome
X-LIC-LOCATION:Europe/Rome
BEGIN:DAYLIGHT
DTSTART:20220327T030000
TZOFFSETFROM:+0100
TZOFFSETTO:+0200
TZNAME:CEST
END:DAYLIGHT
END:VTIMEZONE
END:VCALENDAR