BEGIN:VCALENDAR
VERSION:2.0
PRODID:-//wp-events-plugin.com//7.2.3.1//EN
TZID:Europe/Rome
X-WR-TIMEZONE:Europe/Rome
BEGIN:VEVENT
UID:31732@lazioeventi.com
DTSTART;TZID=Europe/Rome:20220719T180000
DTEND;TZID=Europe/Rome:20220828T230000
DTSTAMP:20220719T160744Z
URL:https://lazioeventi.com/eventi/aperitivo-e-cena-open-air
SUMMARY:Aperitivo e cena open-air - Ariccia - 19 Luglio 22 18:00
DESCRIPTION:Dal martedì alla domenica\, aperitivo e cena (mercoledì\, sab
 ato e domenica anche pranzo).\n\nBirreria e drink fino a tarda sera. Nel w
 eekend\, serate a tema con musica dal vivo.\n\nSeduti tra le querce secola
 ri\, immersi nella natura\, all'aperto in totale sicurezza\, street food c
 ontadino\, birre artigianali indipendenti e i prodotti del Mercato Contadi
 no di filiera corta.
ATTACH;FMTTYPE=image/jpeg:https://lazioeventi.com/wp-content/uploads/2022/
 07/parco-romano-sera.jpg
CATEGORIES:Fiere e Mercatini nel Lazio,Sagre, Gastronomia e Tradizioni nel
 Lazio
LOCATION:Ariccia\, Comune\, Ariccia\, Roma\, Lazio\, Italia
GEO:41.72;12.671
X-APPLE-STRUCTURED-LOCATION;VALUE=URI;X-ADDRESS=Comune\, Ariccia\, Roma\, L
 azio\, Italia;X-APPLE-RADIUS=100;X-TITLE=Ariccia:geo:41.72,12.671
END:VEVENT
BEGIN:VTIMEZONE
TZID:Europe/Rome
X-LIC-LOCATION:Europe/Rome
BEGIN:DAYLIGHT
DTSTART:20220327T030000
TZOFFSETFROM:+0100
TZOFFSETTO:+0200
TZNAME:CEST
END:DAYLIGHT
END:VTIMEZONE
END:VCALENDAR