BEGIN:VCALENDAR
VERSION:2.0
PRODID:-//wp-events-plugin.com//7.2.3.1//EN
TZID:Europe/Rome
X-WR-TIMEZONE:Europe/Rome
BEGIN:VEVENT
UID:42263@lazioeventi.com
DTSTART;TZID=Europe/Rome:20250830T193000
DTEND;TZID=Europe/Rome:20250830T234500
DTSTAMP:20250812T143303Z
URL:https://lazioeventi.com/eventi/apertura-straordinaria-notturna-del-par
 co-dei-mostri
SUMMARY:Apertura straordinaria notturna del Parco dei Mostri - Bomarzo - 30
  Agosto 25 19:30
DESCRIPTION:Il 30 agosto torna ad illuminarsi il Parco monumentale voluto d
 all’enigmatico Vicino Orsini nel 1552 con un’apertura serale straordin
 aria dalle ore 19.30 alle 24.00\n\nSi potrà approfittare di visite guidat
 e prenotando al nr 0761 924029 o alla mail info@parcodeimostri.com entro i
 l 28 agosto. \n\nIl biglietto d’ingresso è acquistabile esclusivamente 
 online https://prenotazioni.sacrobosco.eu il costo del ticket è di € 18
  per adulti € 10 bambini dai 4 ai 13 anni.\n\nAll’interno del giardino
  il ristorante La Locanda del Mostro effettuerà il servizio di ristorazio
 ne\, pizzeria e apericena dalle ore 19.30 prenotabile al nr 0761924682 lal
 ocandadelmostro@gmail.com\n\nPer ulteriori informazioni consultare il sito
  del Sacro Bosco www.sacrobosco.eu
ATTACH;FMTTYPE=image/jpeg:https://lazioeventi.com/wp-content/uploads/2025/
 08/iBIO9V9geuHk.jpg
CATEGORIES:Arte e Cultura nel Lazio
LOCATION:Bomarzo\, Comune di Bomarzo\, Bomarzo\, Viterbo\, Lazio\, Italia
GEO:42.4912;12.2513
X-APPLE-STRUCTURED-LOCATION;VALUE=URI;X-ADDRESS=Comune di Bomarzo\, Bomarzo
 \, Viterbo\, Lazio\, Italia;X-APPLE-RADIUS=100;X-TITLE=Bomarzo:geo:42.4912
 ,12.2513
END:VEVENT
BEGIN:VTIMEZONE
TZID:Europe/Rome
X-LIC-LOCATION:Europe/Rome
BEGIN:DAYLIGHT
DTSTART:20250330T030000
TZOFFSETFROM:+0100
TZOFFSETTO:+0200
TZNAME:CEST
END:DAYLIGHT
END:VTIMEZONE
END:VCALENDAR