BEGIN:VCALENDAR
VERSION:2.0
PRODID:-//wp-events-plugin.com//7.2.3.1//EN
TZID:Europe/Rome
X-WR-TIMEZONE:Europe/Rome
BEGIN:VEVENT
UID:28714@lazioeventi.com
DTSTART;TZID=Europe/Rome:20211031T103000
DTEND;TZID=Europe/Rome:20211031T173000
DTSTAMP:20211012T061853Z
URL:https://lazioeventi.com/eventi/aperture-del-bunker-soratte-2021-10-31
SUMMARY:Aperture del Bunker Soratte - Sant'Oreste - 31 Ottobre 21 10:30
DESCRIPTION:Nel 1937\, per volere di Benito Mussolini\, il Soratte fu sc
 elto per ospitare un rifugio antiaereo per poche persone con alti compiti
  di governo in caso di attacco sferrato sulla capitale. Questa “cittadel
 la sotterranea”\, scavata nella roccia\, ancora oggi rappresenta la pi
 ù importante e vasta opera ipogea di ingegneria bellica d’Italia\, este
 sa per ben 4\,2 km su più livelli.\n\nLa visita guida all’interno del B
 unker Soratte è organizzata e condotta dall’Associazione Bunker Soratte
 .\n\nLa visita delle Gallerie del Monte Soratte è accessibile a tutti e n
 on presenta particolari difficoltà\, è sconsigliato solo l’ingresso co
 n passeggini e/o carrozzine. Gli spazi sono sufficientemente ampi da garan
 tire un tour agevole a tutti i partecipanti che sono comunque sempre suddi
 visi in gruppi di non oltre 50 persone e la presenza di almeno due accompa
 gnatori garantisce supporto e assistenza costanti.\n\nIl percorso è lu
 ngo circa 1 km con dislivello irrilevante.\n\n 	Per ogni data sono previs
 ti almeno 2 ingressi a numero chiuso: alle 10:30 e alle 15:30.\n 	I bigli
 etti potranno essere ritirati presso la Casa delle Arti e dei Mestieri 20 
 minuti prima dell’inizio del tour.\n 	La durata media di ogni visita gui
 data è di circa 2 ore.\n 	Il contributo richiesto è di 10\,00 € (co
 n riduzioni sul sito).\n
ATTACH;FMTTYPE=image/jpeg:https://lazioeventi.com/wp-content/uploads/2021/
 10/calendario_2021.jpg
CATEGORIES:Arte e Cultura nel Lazio
LOCATION:Sant'Oreste\, Comune\, Sant'Oreste\, Roma\, Lazio\, Italia
GEO:42.2344;12.5192
X-APPLE-STRUCTURED-LOCATION;VALUE=URI;X-ADDRESS=Comune\, Sant'Oreste\, Roma
 \, Lazio\, Italia;X-APPLE-RADIUS=100;X-TITLE=Sant'Oreste:geo:42.2344,12.51
 92
END:VEVENT
BEGIN:VTIMEZONE
TZID:Europe/Rome
X-LIC-LOCATION:Europe/Rome
BEGIN:STANDARD
DTSTART:20211031T020000
TZOFFSETFROM:+0200
TZOFFSETTO:+0100
TZNAME:CET
END:STANDARD
END:VTIMEZONE
END:VCALENDAR