BEGIN:VCALENDAR
VERSION:2.0
PRODID:-//wp-events-plugin.com//7.2.3.1//EN
TZID:Europe/Rome
X-WR-TIMEZONE:Europe/Rome
BEGIN:VEVENT
UID:28478@lazioeventi.com
DTSTART;TZID=Europe/Rome:20211030T150000
DTEND;TZID=Europe/Rome:20211030T190000
DTSTAMP:20210911T070232Z
URL:https://lazioeventi.com/eventi/apollo-dionisiaco-roma-2021-celebra-la-
 rinascita-della-vita
SUMMARY:Apollo dionisiaco Roma 2021 celebra la rinascita della vita - Roma 
 - 30 Ottobre 21 15:00
DESCRIPTION:L’annuale internazionale Apollo dionisiaco celebra il senso d
 ella bellezza dell’arte poetica e figurativa di poeti e artisti affermat
 i ed emergenti sul territorio mondiale\, sabato 30 ottobre 2021 dalle ore 
 15\,15 alle ore 19\,00 presso il Salone del duecentesco Castello della Cas
 telluccia in Roma\, Via Carlo Cavina\, 40.\n\nL’Accademia Internazionale
  di Significazione Poesia e Arte Contemporanea\, polo no profit di libera 
 creazione\, ricerca e significazione del linguaggio poetico e artistico\, 
 in convenzione formativa con l’Università degli Studi di Roma Tre\, con
  il patrocinio della Regione Lazio\, di Roma Capitale e promossa dall’Is
 tituto Italiano di Cultura di New York\, presidente fondatrice la prof.ssa
  Fulvia Minetti\, vicepresidente il dott. Renato Rocchi\, direttore artist
 ico Antonino Bumbica\, ha selezionato con la giuria dei semiologi\, fra 78
 6 pregevoli realizzazioni provenienti dai quattro continenti del mondo\, l
 e opere con riconoscimento al merito che intervengono in voce ed in mostra
  in corso di cerimonia. Tutti i poeti e gli artisti con riconoscimento al 
 merito ricevono il diploma dell’Accademia\, la critica in semiotica este
 tica all’opera a firma della prof.ssa Fulvia Minetti e la pubblicazione 
 nell’Antologia Accademica della Poesia Contemporanea online e nella Most
 ra Accademica dell’Arte Contemporanea online su www.accademiapoesiarte.c
 om\, aperta anche alle opere dei poeti e degli artisti finalisti.\n\nAlla 
 terna dei vincitori è conferita la medaglia “Apollo dionisiaco”\, per
  fusione a cera persa del Laboratorio orafo di Via Margutta 51 in Roma\, e
 ffigie del bacio di sintesi armonica del dionisiaco inconscio e dell’apo
 llineo cosciente. L’evento artistico e letterario celebra l’espression
 e creativa\, come spazio oltre lo spazio\, tempo oltre il tempo\, intensit
 à di senso della vita e nuovo volto per la rinascita di sé e di mondo.\n
 \nL’archetipo della palingenesi abita tutte le figure delle opere artist
 iche\, come la vite\, il Cristo\, il pellicano\, la melagrana\, Arlecchino
 \, l’albero\, la rosa\, Dioniso e Apollo\, tramonto e alba\, caos e cosm
 o\, la crisalide e la farfalla\, solstizio ed equinozio\, la sponda marina
 \, l’orizzonte\, la mimesi\, la parola\, la fenice\, il croco\, la donna
 \, la terra\, la sezione aurea\, l’uroboro\, la luna\, la partenza\, l
 ’oro filosofale\, il labirinto\, per una metamorfosi vitalistica. Contro
  il giudizio omologante e la quantificazione e per la libertà di essere\,
  l’analisi critica in semiotica estetica delle opere dell’Annuale Inte
 rnazionale Apollo dionisiaco valorizza il senso della bellezza dell’arte
  come arto del vivere\, che muove e congiunge ombra e luce\, silenzio e pa
 rola\, emozione e pensiero. Il convegno è occasione di viaggio nei signif
 icati di opere in poesia\, opere in pittura\, scultura\, grafica e fotogra
 fia.\n\nPer la sezione poesia il primo premio\, trofeo aureo Apollo dionis
 iaco\, è conferito a Leonardo Rossi\, per l’opera La frescura\, il seco
 ndo premio\, trofeo argenteo Apollo dionisiaco a Davide Rocco Colacrai\, C
 risto con violino\, il terzo premio\, trofeo argenteo brunito\, a Elisabet
 ta Liberatore\, Neve.\n\nIl riconoscimento al merito speciale della giuria
  (ex aequo) a: Vito Ugo L'Episcopo (alla memoria)\, Prologo alla sintassi 
 del morire\, Alberto Lotti\, Il viaggio\, Alessandro Inghilterra\, Il bene
  mio più caro (Elegia del tempo)\, Alessandro Izzi\, Il suono delle scava
 trici\, Anna Maria Gargiulo\, Oltre\, Anna Santarelli\, Eterno ritorno\, E
 ugenio Cavacciuti in Arte Ettore Fobo\, Lode a ciò che annunciano i venti
 \, Franco De Luca\, Poiein\, Franco Pastore\, Non vi sono parole\, Giovann
 i De Crescenzo\, Girasole\, Giuliano Scaglione in Arte Giuliano Leandro Lo
 y\, Ti ho cercato\, Giulio Bernini\, Fra poco è l'alba\, Joseph Barnato\,
  Cordigliere d'effimero\, Loretta Stefoni\, Quel silenzio\, Maria Inversi\
 , Bellezza\, Massimiliano Giannocco\, Temporale\, Michela Zanarella\, Anch
 e gli alberi s'innamorano\, Nunzio Buono\, Una poesia povera\, Paola Guarn
 accia\, Epigramma\, Rony Rodolfo Rigacci\, Il salone del tempo\, Rosy Gall
 ace\, Certe volte\, Stefano Zangheri\, in vena\, Valentina Rizzo\, Battiti
  dimenticati\, Valeria D'Amico\, Avremo\, Vittorio Di Ruocco\, Se tu mi re
 galassi l'infinito. Il riconoscimento al merito (ex aequo) a: Afroditi Mer
 miga-Vlachaki\, Tutto l'universo\, Alessia Guarraci\, Decantazione silenzi
 osa\, Andrea Di Massimo\, Alba nera\, Antonietta Pastorelli\, Al balcone d
 i gerani rossi\, Chiara Conti\, Città eterna\, Daniela Cicognini\, L'atte
 sa\, Eva Villani\, Di terra gelida sento i grani\, Franca Donà\, Ho visto
  piangere le rose\, Francesca Frisano\, I luoghi dell'infinito\, Francesco
  D'Andrea\, La sapienza\, Gabriella Capone\, Ischia\, Gabriella Paci\, Cos
 a resta di una storia d'amore che ha perduto l'amore?\, Gianfranco Rossodi
 vita\, Setacci\, Giovanna Panzolini\, Tra le stagioni del Cuore\, Giovanni
  Guaglianone\, Dipinto\, Giuseppe Bianco\, Se t'incontrerò...\, Giuseppe 
 Giacalone\, Nella stanza\, Giuseppina Crifasi\, Poesia triste\, Jeovano de
  Matos Francisco\, Il poeta Ubuntu\, Lucia Fornaini\, Vorìa\, Lucia Lo Bi
 anco\, Per diventare materia dentro un sogno\, Luciano Postogna\, Passaggi
 o\, Massimo Mezzetti\, Le realtà\, Massimo Vito Avantaggiato\, Urbis imag
 o\, Maurizio Bacconi\, Attimi\, Mihail Banciu\, Vedovo transfrontaliero\, 
 Shui Cao\, Regno innevato\, Sonia Giovannetti\, Preludio\, Stefania Vitell
 i\, Divorzio\, Tina Ferreri Tiberio\, I luoghi del cuore. Per la sezione a
 rte Cesar Ceballos\, con l’opera Wine &amp\; Philosphy at Keti &amp\; El
 ia è insignito del primo premio\, trofeo aureo Apollo dionisiaco\, il sec
 ondo premio\, trofeo argenteo Apollo dionisiaco\, è conferito a Johan Sch
 warzkächel in Arte Mark Pol\, Imagine 2\, il terzo premio\, trofeo argent
 eo brunito\, è assegnato a Giovanna Giulia Simeoni\, Relatività classica
  - Orror del vano di un polveroso croco. Il riconoscimento al merito speci
 ale della giuria (ex aequo) a: Benito Maglitto\, Figura con ombrello\, Ben
 jamin-François Prou\, Les pieds dans l'or\, Elena Buran\, Generazione rib
 elle\, Francesco Scanu Lussu\, Armonico infinito\, François Noël\, Get O
 ut The Fog\, Gianfranco Gobbini\, Visione desertica\, Giovanni Gambasin\, 
 Notte e Giorno\, Giuliano Giuliani\, Al Café Del Mar\, Igor Eugen Prokop\
 , The power of Nature\, Isabella Angelini\, Tiphareth\, Karin Monschauer\,
  Vista lago\, Roberto Morreale\, Crocefisso ad una rosa\, Roberto Ramirez 
 Anchique\, L'oro di Marte\, Thierry Singer in Arte Prince Thierry Singer d
 e Polignac - Spencer\, Ares\, Victor Vergauwen\, Ondergang (Destino). Il r
 iconoscimento al merito (ex aequo) a: Ada Caccin\, Attesa\, Alessio German
 o\, Automa\, Angelo Mastria\, Mimesi\, Antoniomaria Francesco Zannoni\, Se
 x\, Aref Damee\, Ecstasy\, Camelia Rostom\, Parole in circolo\, Catia Lell
 i\, Riflessi\, Claudio Limiti\, Caducità\, Daniele Porchera\, Tate Museum
 \, Donato Musto\, La bellezza salverà il mondo\, Enzo Crispino\, Il rumor
 e del silenzio...\, Gina Fortunato\, Luce\, Giovanni Branciforte\, Sangue 
 e acqua\, Ionel Cuculiuc\, Meditazione\, Josefina Temín\, Enredadera\, Ma
 rcello La Neve\, Natura morta\, Maria Luisa Bertoni\, Hera\, Marzia Giacob
 be\, Arlecchinata\, Pietro Cernigliaro\, Il mio viaggio\, Rosa Marasco\, P
 andemia\, Sibilla Fanciulli\, Let the sunshine in\, Vito Fulgione\, Partir
 e. Con il diploma di distinta partecipazione che premia il pregio creativo
  dei minori è insignito il giovanissimo artista Mariano Spampinato\, per 
 l’opera Bimbo di luna. Il giornalista Giuseppe Palmieri\, primo Direttor
 e dell’Agenzia di Stampa AdnKronos e il prof. Raffaele Occulto\, già Do
 cente Universitario presso la Facoltà di Scienze della Formazione dell’
 Università degli Studi di Roma Tre\, sono ospiti d’onore in cerimonia. 
 Presenta la premiazione la conduttrice Adea Nicoletti e accompagnano gli a
 scolti Luigi Aloisi alla chitarra e Mauro Menegazzi alla fisarmonica\, aug
 urando a tutti di portare la vita nell’arte e l’arte nella vita\, perc
 hé l’infinito sia al moto d’innumerevoli inizi.\n\nAccademia Internaz
 ionale di Significazione Poesia e Arte Contemporanea www.accademiapoesiart
 e.it
ATTACH;FMTTYPE=image/jpeg:https://lazioeventi.com/wp-content/uploads/2021/
 09/Immagine-comunicato-Annuale-internazionale-Apollo-dionisiaco-2021.jpg
CATEGORIES:Arte e Cultura nel Lazio
LOCATION:Roma\, Via Leopardi\, Roma\, Roma\, Lazio\, Italia
GEO:41.8942;12.5017
X-APPLE-STRUCTURED-LOCATION;VALUE=URI;X-ADDRESS=Via Leopardi\, Roma\, Roma\
 , Lazio\, Italia;X-APPLE-RADIUS=100;X-TITLE=Roma:geo:41.8942,12.5017
END:VEVENT
BEGIN:VTIMEZONE
TZID:Europe/Rome
X-LIC-LOCATION:Europe/Rome
BEGIN:DAYLIGHT
DTSTART:20210328T030000
TZOFFSETFROM:+0100
TZOFFSETTO:+0200
TZNAME:CEST
END:DAYLIGHT
END:VTIMEZONE
END:VCALENDAR