BEGIN:VCALENDAR
VERSION:2.0
PRODID:-//wp-events-plugin.com//7.2.3.1//EN
TZID:Europe/Rome
X-WR-TIMEZONE:Europe/Rome
BEGIN:VEVENT
UID:43490@lazioeventi.com
DTSTART;TZID=Europe/Rome:20260104T093000
DTEND;TZID=Europe/Rome:20260104T150000
DTSTAMP:20251228T221041Z
URL:https://lazioeventi.com/eventi/appia-antica-da-santa-maria-maria-delle
 -mole-alla-villa-dei-quintili
SUMMARY:Appia Antica: da Santa Maria Maria delle Mole alla villa dei Quinti
 li - Ciampino - 4 Gennaio 26 09:30
DESCRIPTION:Domenica 4 gennaio trek culturale sulla via Appia Antica\, una
  via infinita\, ricca di tombe storiche e di testimonianze eterne. Per and
 are oltre il sentiero…là dove i nostri padri ci hanno lasciato un’ere
 dità invidiata da tutto il mondo. Saremo all’interno del Parco Regional
 e dell’Appia Antica\, istituito nel 1988 dopo battaglie di cittadini e s
 oprattutto di Antonio Cederna.  Oggi questo percorso è anche la 1° tap
 pa del Cammino naturale dei Parchi\, da Roma a L’Aquila. Partiremo dall
 a stazione di Santa Maria delle Mole (Ciampino) siamo all’altezza del X 
 miglio e da quì cammineremo a ritroso lungo la Regina Viarum. Incontrerem
 o decine di tombe piccole e grandi: famose e non. Entreremo e visiteremo (
 approfittando dell’entrata gratuita) la Villa dei Quintili. Tutto questo
  grazie anche alla presenza di una guida turistica che ci racconterà (dur
 ante le brevi pause) delle pillole storiche. Torneremo a recuperare le nos
 tre auto prendendo il treno alla stazione di Capannelle. (Costo biglietto 
 1\,10€)\nLunghezza Km 13 circa Dislivello nullo\n\nAPPUNTAMENTO: alla st
 azione di Santa Maria delle Mole alle 9.30 (Ciampino)\nCOSA PORTARE: scarp
 oncini da trekking (morbidi e non rigidi) giacca antivento\; vestirsi a st
 rati\; acqua a sufficienza e pranzo al sacco .. il caffè e i dolcetti li 
 offriamo noi \nQUOTA DI PARTECIPAZIONE: \n15 € – Trek riservato ai s
 oci dell’Ass. Nomos Trek\nPer i non tesserati inviare comunicazione via 
 tel/sms etc… con i propri dati (Nome\, cognome\, luogo\, data di nascita
  e C.F.) entro le 18 del giorno precedente l’escursione\n\nINFORMAZIONI 
 e PRENOTAZIONI: (preferibilmente whatsapp)\nMarco Marini Cell 3478247257 
 \nGuida Ambientale escursionistica\nLaura De Angelis Cell 3455101698\nGuid
 a Turistica nazionale\nPer ricevere aggiornamenti sull’evento e vedere t
 utte le escursioni:\n1) Mettere “parteciperò”\n2) Mettere “mi piace
 ” alla pagina Nomos Trek – Escursioni e Trekking e cliccare sul tasto 
 “segui” – https://www.facebook.com/NomosTrek\n3) iscriversi al grup
 po pubblico Nomos Trek- Associazione Escursionistica –https://www.facebo
 ok.com/groups/341852695915250\n4) Chat Telegram https://t.me/+5JYvtRdqIH9
 jZDJk\n5) https://www.tiktok.com/@nomostrek\n6) https://www.instagram.co
 m/nomostrekescursioni/?hl=it\n7) https://twitter.com/nomos_trek\n Visita
  il sito: www.nomostrek.com\n9) https://whatsapp.com/channel/0029VaD7W1h
 GZNCxYwLH5C1Y\n10) https://www.threads.net/@marco71marini\n11) https://w
 ww.messenger.com/channel/NomosTrek\n12) https://t.me/nomostrekescursioni\
 nL'iniziativa è riservata ai soci in regola con l'iscrizione relativa all
 'anno 2026 ed in possesso della relativa tessera. Le Guide si riservano il
  diritto insindacabile di modificare il programma stabilito in caso di con
 dizioni meteorologiche avverse tali da rendere pericoloso l'itinerario\, i
 n caso di impraticabilità di un sentiero\, in caso di impossibilità di u
 n partecipante a continuare l'escursione.Si prega inoltre di avvertire gl
 i accompagnatori della presenza di eventuali patologie\, o di problematich
 e che potrebbero manifestarsi nel corso dell'escursione\, grazie per la co
 llaborazione.
ATTACH;FMTTYPE=image/jpeg:https://lazioeventi.com/wp-content/uploads/2025/
 12/appia.jpg
CATEGORIES:Sport, Tempo Libero e Divertimento nel Lazio
LOCATION:Ciampino\, Comune\, Ciampino\, Roma\, Lazio\, Italia
GEO:41.8004;12.5908
X-APPLE-STRUCTURED-LOCATION;VALUE=URI;X-ADDRESS=Comune\, Ciampino\, Roma\, 
 Lazio\, Italia;X-APPLE-RADIUS=100;X-TITLE=Ciampino:geo:41.8004,12.5908
END:VEVENT
BEGIN:VTIMEZONE
TZID:Europe/Rome
X-LIC-LOCATION:Europe/Rome
BEGIN:STANDARD
DTSTART:20251026T020000
TZOFFSETFROM:+0200
TZOFFSETTO:+0100
TZNAME:CET
END:STANDARD
END:VTIMEZONE
END:VCALENDAR