BEGIN:VCALENDAR
VERSION:2.0
PRODID:-//wp-events-plugin.com//7.2.3.1//EN
TZID:Europe/Rome
X-WR-TIMEZONE:Europe/Rome
BEGIN:VEVENT
UID:39826@lazioeventi.com
DTSTART;TZID=Europe/Rome;VALUE=DATE:20240921
DTEND;TZID=Europe/Rome;VALUE=DATE:20240923
DTSTAMP:20240913T160321Z
URL:https://lazioeventi.com/eventi/appiaday
SUMMARY:AppiaDay - Roma - 21 Settembre 24 00:00
DESCRIPTION:Nona edizione di Appia Day\, con l’apertura straordinaria e g
 ratuita  dei monumenti e tanti eventi tra Roma e Brindisi per vivere l’a
 rcheologia e il territorio a piedi e in  bici. \n\nUn’occasione per cele
 brare il fascino e l’incanto dell’Appia Antica e immaginarla come la p
 orta  d’accesso a una nuova idea di città che investe sul suo territori
 o\, sulla sua cultura\, sul suo paesaggio  e si mostra più attenta ai cit
 tadini\, più moderna\, più verde\, più vivibile\, più sana. \n\nVisite
  guidate alla  scoperta delle storie millenarie del più suggestivo museo 
 a cielo aperto del mondo e ancora trekking\,  archeotour in bici\, walkabo
 ut\, street food\, musica\, attività per bambini.\n\nAPPIADAY ROMA – EV
 ENTO PRINCIPALE ARCHEOGRAB\n22 settembre – ArcheoGRAB è il percorso che
  Velolove ha disegnato per celebrare la bellezza della via Appia antica.\n
 Un percorso a tappe di 20 km per pedoni e pedali\, 7 tappe in altrettanti 
 siti che saranno illustrati da volontari del Touring Club Italiano. I volo
 ntari apporranno un timbrino alla mappa che avrai ritirato alla partenza. 
 Alla fine del percorso troverai la maglietta APPIADAY in edizione limitata
  UNESCO2024.\nArcheoGRAB 2024 sarà eccezionalmente guidato dall’archeol
 ogo Presidente del Municipio VII Francesco Laddaga e avrà l’assistenza 
 tecnica itinerante di DOCTORBIKE.\nINFO E PRENOTAZIONI infoappiaday@gmail.
 com\nPARTENZA: Ore 9.00 Colosseo\nTappa 1: Arco di Druso – ARRIVO Mausol
 eo di Cecilia Metella dove potrai ritirare la tua maglietta. All’arrivo 
 troverai anche rivisitazioni storiche\, prodotti tipici\, siti gratuiti\, 
 visite guidate e musica. Potrai percorrere ArcheoGRAB anche in autonomia s
 eguendo la traccia e collezionando i timbrini sulla mappa che troverai all
 ’Arco di Druso.\nCoordinamento Touring Club Italiano e Legambiente. Si r
 ingrazia il Municipio VII per la collaborazione.\nScarica qui il PDF.\n\nA
 PPIADAY ROMA – TOURING CLUB ITALIANO\n22 settembre – Passeggiata 1: tr
 a il I e il II miglio dell’Appia Antica – Monumenti\, personaggi e tes
 timonianze.\nAppuntamento Arco di Druso Ore 10.00 durata 2ore\nEvento grat
 uito Sistema amplificazione euro 2 – Prenotazione: roma@volontaritouring
 .it\n\nAPPIADAY ROMA – TOURING CLUB ITALIANO\n22 settembre – Passeggia
 ta 2: I luoghi simbolo dell’Appia antica. Arrivo Cecilia Metella cuore d
 ell’evento Appia Day\nAppuntamento Basilica di San Sebastiano Ore 10.30 
 durata 2 ore\nEvento gratuito Sistema amplificazione euro 2 – Prenotazio
 ne: roma@volontaritouring.it\n\nAPPIADAY ROMA – TOURING CLUB ITALIANO\n2
 2 settembre – Passeggiata 3: L’Appia antica nei disegni e nelle parole
  di turisti e viaggiatori del passato.\nAppuntamento: Mausoleo di Cecilia 
 Metella Ore 16.00 durata 2 ore circa\nPrenotazione dal 16 al 20 settembre 
 – roma@volontaritouring.it\nEvento gratuito Sistema amplificazione euro 
 2 – Prenotazione: roma@volontaritouring.it\n\nAPPIA DAY – ROMA CARTIER
 A LATINA\nparco appia antica\nDomenica 22 settembre – Ore 10.00 – 18.0
 0\nVia Appia Antica\, 42/50\nApertura dello Stazzo del Pastore con visite 
 guidate.\nLaboratori naturalistici per bambini con prenotazione sul posto 
 dalle ore 11.00 alle ore 13.00\ne dalle ore 15.00 alle ore 17.00.\nVisite 
 guidate agli impianti della ex Cartiera alle ore 10.30\, 11.30 e 12.30.\nP
 renotazione sul posto max 30 persone.\nInfo: educazione@parcoappiaantica.i
 t\n\nAPPIA DAY – ROMA CARTIERA LATINA\nDomenica 22 settembre – Ore 17.
 00\nVisita guidata teatralizzata “I 7 vizi di Shakespeare: l’Avarizia 
 – Mercante di Venezia”.\nVisita guidata e performance teatrale tra gli
  storici macchinari della Cartiera Latina\, dove si snoderà la vicenda de
 l Mercante di Venezia\, rappresentante dell’avarizia\, uno dei 7 vizi di
  Shakespeare.\nIl commercio è un mondo con regole a sé. L’usura\, l’
 avarizia\, la giustizia\, sono tutti temi che nel contesto del dramma dive
 ntano un simbolo delle relazioni umane basate sul profitto e sulla mancanz
 a di empatia.\nPrenotazione obbligatoria: parcoappiantica.eventbrite.it\nI
 nfo: educazione@parcoappiaantica.it\n\nAPPIA DAY ROMA – VALLE DELLA CAFF
 ARELLA\nDomenica 22 settembre – ore 9.00 – 18.00\nApertura straordinar
 ia Le vigne del Suburbio (ingresso via Cilicia)\nVisite guidate storico-na
 turalistiche con ingresso all’area umida alle ore 10.00 e alle ore 16.30
 .\nPrenotazione obbligatoria: parcoappiantica.eventbrite.it\nInfo: educazi
 one@parcoappiaantica.it\n\nAPPIADAY ROMA – Via Appia. La strada che ci h
 a insegnato a viaggiare\n22 settembre.\nVisita alla mostra “Via Appia. L
 a strada che ci ha insegnato a viaggiare.\nComplesso di Capo di Bove \, 7.
 6-1.12.2024). Installazione immersiva con fotografie di Andrea Frazzetta.\
 nMaggiori info qui: https://www.parcoarcheologicoappiaantica.it/mostre/via
 -appia-la-strada-che-ci-ha-insegnato-a-viaggiare-7-giugno-1-dicembre-2024/
 \n\nAPPIADAY ROMA – Concerto Orchestra di Musica Popolare di Testaccio\n
 Concerto ore 15.00.\nChiesa di San Nicola – Castrum Caetani\n\nAPPIADAY 
 ROMA – FIAB Roma Ruotalibera\nDomenica 22 settembre – Ciclo escursione
  sull’Appia antica nel territorio dei Castelli Romani\, con visita guida
 ta al Museo Archeologico di Velletri.\nAppuntamento Stazione Termini ore 7
 .30 Info e prenotazioni: pietrasilviafrancesca@gmail.com 3487362286(whatsa
 pp) – walterdedo14@gmail.com 3386245006(whatsapp)\n\nAPPIADAY ROMA – A
 PPIA ANTICA 39\nLaboratorio Mindfulness – ore 9:00/10:00 max 15 partecip
 anti\nVisita guidata allo scavo – ore 10:00/11:00 max 30 partecipanti 
 –\nLaboratorio Mindfulness – ore 12:00/13:00 max 15 partecipanti\nChia
 ra Maria Marchetti – prenotazione eventbrite:\n\nAPPIADAY ROMA – Giard
 ino Chiesa San Nicola Cecilia Metella\nACCAMPAMENTO MILITARE ROMANO DELLA 
 LEGIO SECUNDA PARTHICA SEVERIANA – APS\nA celebrazione dell’ingresso d
 ell’Appia Antica nel Patrimonio UNESCO\nIn collaborazione con la Rete as
 sociativa per la valorizzazione della via appia Antica – Castelli romani
 .\nSABATO 21 settembre\n10:00 – 13:00 e 15.00 20.00\nCastra aperti al pu
 bblico – Spiegazioni didattiche – In tunica\n12:00 – 13:00: Scuola l
 egionaria per bambini e per adulti\n17:00 – 18:00: In assetto da battagl
 ia:\n18:00 – 19:00: Scuola legionaria per bambini e per adulti\nDOMENICA
  22 settembre\n09:00: – 13:00 e 15.00 20.00 Castra aperti al pubblico 
 – Spiegazioni didattiche – In tunica\n10:00: – 10:15: Riti legionari
 \n11:00 – 12:00: In assetto da battaglia: Manovre militari con legione\;
  Dimostrazione pratica del tiro degli arcieri contro “testudo”\; Spieg
 azione storica della legione\; Spiegazione delle armature e delle funzioni
  delle varie figure legionarie\; Spiegazione e dimostrazione pratica delle
  tecniche di combattimento romane.\n\nAPPIADAY ROMA – Giardino Chiesa Sa
 n Nicola Cecilia Metella\n\nAPPIADAY ROMA – Bike Square\nCiclo escursion
 e lungo l’APPIA ANTICA fino ai Castelli Romani con bici proprie o nolegg
 iando le nostre ebike.\nAppuntamento: Ore 9.00 Porta San Sebastiano – No
 leggio Ebike: Via della Piramide Cestia\, 33\nReferenti: Giampi: 320797748
 5 Max 3519816630\nCi fermeremo lungo il percorso per fare una degustazione
 /PIC-nic…. all’aperto\nInfo: Bikesquare.eu\n\nAPPIADAY ROMA – Gruppo
  di Lavoro Mobilità sostenibile Municipio IV\nAppuntamento Largo Camesena
  (Staz Tiburtina) ore 9.30 Arrivo Cecilia Metella
ATTACH;FMTTYPE=image/jpeg:https://lazioeventi.com/wp-content/uploads/2024/
 09/appia-day.jpg
CATEGORIES:Arte e Cultura nel Lazio,Musica, Spettacoli e Danza nel
 Lazio,Sport, Tempo Libero e Divertimento nel Lazio
LOCATION:Roma\, Via Leopardi\, Roma\, Roma\, Lazio\, Italia
GEO:41.8942;12.5017
X-APPLE-STRUCTURED-LOCATION;VALUE=URI;X-ADDRESS=Via Leopardi\, Roma\, Roma\
 , Lazio\, Italia;X-APPLE-RADIUS=100;X-TITLE=Roma:geo:41.8942,12.5017
END:VEVENT
BEGIN:VTIMEZONE
TZID:Europe/Rome
X-LIC-LOCATION:Europe/Rome
BEGIN:DAYLIGHT
DTSTART:20240331T030000
TZOFFSETFROM:+0100
TZOFFSETTO:+0200
TZNAME:CEST
END:DAYLIGHT
END:VTIMEZONE
END:VCALENDAR