BEGIN:VCALENDAR
VERSION:2.0
PRODID:-//wp-events-plugin.com//7.2.3.1//EN
TZID:Europe/Rome
X-WR-TIMEZONE:Europe/Rome
BEGIN:VEVENT
UID:34191@lazioeventi.com
DTSTART;TZID=Europe/Rome:20230603T103000
DTEND;TZID=Europe/Rome:20230604T170000
DTSTAMP:20230221T080757Z
URL:https://lazioeventi.com/eventi/appuntamento-in-giardino
SUMMARY:Appuntamento in Giardino - Tivoli - 3 Giugno 23 10:30
DESCRIPTION:"Appuntamento in Giardino" è un'iniziativa proposta dall'APGI 
 - Associazione Parchi e Giardini d'Italia. La manifestazione\, pensata com
 e un'autentica festa del giardino\, nasce in accordo con l'iniziativa "Ren
 dez-vous aux jardins"\, che si svolgerà in contemporanea in numerosi Paes
 i europei.\n\nSabato 3 e domenica 4 giugno 2023\n\nPer l'occasione sarà p
 ossibile partecipare a tre speciali visite guidate organizzate a Parco Vil
 la Gregoriana\, volte a raccontarne le storia e ad approfondire i temi leg
 ati al fragile equilibrio della Valle dell’Inferno oggi minacciato dai c
 ambiamenti climatici.\n\nProgramma delle visite guidate:\n\nOre 10:30 - "V
 illa Gregoriana e l’evoluzione del giardino romantico"\nUna visita speci
 ale per approfondire la costruzione Ottocentesca del Parco con le sue visu
 ali\, prospettive\, salti di quota\, in un continuo confronto tra artifici
 ale e naturale. Una passeggiata per riconoscere insieme il limite tra la m
 ano dell’uomo e la natura rigogliosa\, dalle teorie inglesi del giardino
  romantico su cui si costruì Villa Gregoriana al processo di manutenzione
  odierno legato a doppio taglio ai cambiamenti climatici.\n\nOre 11:30 - "
 Il Giardiniere racconta"\nUna passeggiata nel giardino di Villa Gregoriana
  accompagnati da chi\, ogni giorno\, se ne prende cura: i giardinieri. La 
 visita sarà un’occasione per leggere l’evoluzione del panorama custod
 ito nella forra carsica di Parco Villa Gregoriana\, approfondendo i temi l
 egati al fragile equilibrio della Valle dell’Inferno per comprendere l
 ’importanza della manutenzione e della cura delle numerose specie che re
 ndono Villa Gregoriana un luogo unico nel suo genere.\n\nOre 15:30 - "La s
 ocietà delle piante: organismi in connessione"\nUna passeggiata immersi n
 ella cornice storica di Parco Villa Gregoriana con lo sguardo rivolto alle
  piante. Novanta minuti per rimanere incantati dalla bellezza dei luoghi e
  cambiare modo di vederle ed ascoltarle\, per rimanere stupefatti dalle lo
 ro capacità e dalla loro intelligenza\; novanta minuti per toccare con ma
 no come un paesaggio rappresenti esso stesso una identità culturale e\, a
 l tempo stesso\, una opportunità per tutelare l’ambiente.\nOrari\n\nVil
 la Gregoriana e l’evoluzione del giardino romantico ore 10.30\nIl Giardi
 niere racconta ore 11.30\nLa società delle piante: organismi in connessio
 ne ore 15.30\n\nBiglietti\nSe ti iscrivi al FAI in loco o rinnovi il giorn
 o dell’evento entri gratuitamente e ti rimborsiamo il biglietto.\nIscrit
 ti FAI: € 6\nIntero: € 16 \nResidenti Comune di Tivoli € 9 \nRidotto
  6-18 anni: € 3 \nStudenti 19-25 anni: € 12 \nConvenzione National Tru
 st\, i 200 del FAI\, FAI Donor Card\, altre Convezioni\, Corporate Golden 
 Donor\, Sponsor: € 6 \nDisabili: € 6 \nFamiglia (2 adulti e figli 6-18
  anni): € 35 \nRidotto 0-5 anni: gratuito
ATTACH;FMTTYPE=image/jpeg:https://lazioeventi.com/wp-content/uploads/2022/
 10/parco-villa-gregoriana.jpg
CATEGORIES:Arte e Cultura nel Lazio,Sport, Tempo Libero e Divertimento nel
 Lazio
LOCATION:Tivoli\, Comune\, Tivoli\, Roma\, Lazio\, Italia
GEO:41.9639;12.7985
X-APPLE-STRUCTURED-LOCATION;VALUE=URI;X-ADDRESS=Comune\, Tivoli\, Roma\, La
 zio\, Italia;X-APPLE-RADIUS=100;X-TITLE=Tivoli:geo:41.9639,12.7985
END:VEVENT
BEGIN:VTIMEZONE
TZID:Europe/Rome
X-LIC-LOCATION:Europe/Rome
BEGIN:DAYLIGHT
DTSTART:20230326T030000
TZOFFSETFROM:+0100
TZOFFSETTO:+0200
TZNAME:CEST
END:DAYLIGHT
END:VTIMEZONE
END:VCALENDAR