BEGIN:VCALENDAR
VERSION:2.0
PRODID:-//wp-events-plugin.com//7.2.3.1//EN
TZID:Europe/Rome
X-WR-TIMEZONE:Europe/Rome
BEGIN:VEVENT
UID:43034@lazioeventi.com
DTSTART;TZID=Europe/Rome:20251111T203000
DTEND;TZID=Europe/Rome:20251111T223000
DTSTAMP:20251106T223210Z
URL:https://lazioeventi.com/eventi/aprendan-del-fuego
SUMMARY:APRENDAN DEL FUEGO - Roma - 11 Novembre 25 20:30
DESCRIPTION:Frutto della collaborazione tra IILA e Sapienza Università di 
 Roma\, l’opera del collettivo cileno Pierre Menard porta per la prima vo
 lta in scena in Italia la figura reale dietro uno dei personaggi più oscu
 ri della narrativa di Roberto Bolaño.\n\nMartedì 11 novembre 2025\, pres
 so il Nuovo Teatro Ateneo della Sapienza Università di Roma\, andrà in s
 cena\, nella sua unica data\, la prima italiana di Aprendan del Fuego\, sp
 ettacolo del collettivo cileno Pierre Menard\, tra le più interessanti re
 altà emergenti della scena performativa latinoamericana. L’evento è re
 alizzato in collaborazione tra l’IILA – Organizzazione Internazionale 
 Italo-Latino Americana e la Sapienza Università di Roma\, nell’ambito d
 i un impegno condiviso per la promozione del teatro contemporaneo latinoam
 ericano.\n\nLo spettacolo affronta una delle figure più controverse e sfu
 ggenti della storia recente del Cile: Carlos Lehman\, ufficiale dell’Aer
 onautica cilena\, artista autodidatta\, infiltrato nei circoli artistici e
  intellettuali di sinistra alla vigilia del colpo di Stato del 1973. Per d
 ecenni rimasto ai margini della cronaca e della storiografia ufficiale\, L
 ehman ha ispirato due opere fondamentali dello scrittore Roberto Bolaño: 
 La letteratura nazista in America e Stella distante\, in cui appare sotto 
 lo pseudonimo di Carlos Wieder. Aprendan del Fuego tenta di restituirne un
  ritratto autentico e disturbante\, attraverso materiali d’archivio\, do
 cumenti inediti\, testimonianze e opere d’arte. Il risultato è una rifl
 essione sulle responsabilità dell’arte\, sui limiti della finzione e su
 ll’ambiguità morale del potere creativo.\n\nConcepito come una lezione 
 performativa\, Aprendan del Fuego fonde teatro documentario\, installazion
 e audiovisiva e performance dal vivo. In scena l’attrice Heidrun Breier 
 dà voce al lavoro di ricerca e agli interrogativi che esso solleva. La re
 gia è firmata da Ítalo Gallardo\, già fondatore del collettivo La Laura
  Palmer\, mentre la drammaturgia è di Tomás Henríquez. Il dispositivo s
 cenico prevede video analogici\, proiezioni in tempo reale\, paesaggi sono
 ri eseguiti dal vivo da Roberto Collío\, elementi pittorici e installativ
 i\, in un intreccio di linguaggi che restituisce la complessità del caso 
 Lehman e della memoria storica cilena.\n\nLa storia che lo spettacolo mett
 e in scena è nata dal ritrovamento\, in Cile e in Europa\, di documenti e
  testimonianze relativi a Lehman. Particolarmente rilevante è il contribu
 to dell’artista Jaime Rivera\, esiliato a Barcellona\, che fu suo insegn
 ante e testimone diretto di alcune delle sue azioni artistiche più contro
 verse. Fu proprio Rivera\, negli anni Novanta\, a raccontare la vicenda a 
 Roberto Bolaño. Attraverso questo passaggio\, la storia dell’uomo si è
  trasformata in mito letterario\, fino a oggi mai indagata a fondo.\n\nIl 
 collettivo Pierre Menard – al suo primo debutto in Italia – si present
 a come un gruppo transdisciplinare nato in Cile\, che lavora a cavallo tra
  le arti performative\, il cinema espanso e la ricerca documentaria. Apren
 dan del Fuego è il progetto inaugurale della compagnia e ha già suscitat
 o grande attenzione nei principali spazi culturali cileni ed europei. Dopo
  la prima assoluta al Centro Culturale Matucana 100 di Santiago\, lo spett
 acolo è stato presentato in forma di studio a Barcellona (Nau Ivanow\, Sa
 la Fènix) e ha proseguito il suo percorso di ricerca attraverso residenze
  in Italia presso Inteatro Villa Nappi di Polverigi.\n\nCritici e osservat
 ori internazionali ne hanno riconosciuto l’impatto. Javier Ibacache ha s
 critto che si tratta di “uno dei montaggi più severi sulla dittatura ci
 lena\; è toccante e affronta l’argomento da una prospettiva diversa”.
  Jorge Letelier ha sottolineato che “ciò che è in mostra è sotto il v
 elo inquietante e scomodo del possibile”\, mentre la rivista culturale A
 sfaltos ha definito lo spettacolo “una riflessione tagliente sulla polit
 ica del male e le perversioni dello sguardo”.\n\nAprendan del Fuego è u
 na coproduzione tra il Colectivo Pierre Menard ed Espacio Checoslovaquia. 
 Il progetto ha ricevuto il sostegno del Ministero della Cultura cileno att
 raverso il Fondo Regionale per le Arti Performative 2025\, e la collaboraz
 ione di enti e istituzioni come Nau Ivanow (Spagna)\, Inteatro Villa Nappi
  (Italia)\, Teatro Nacional Chileno\, Balmaceda Arte Joven e Fundación Sa
 ntiago OFF. Il progetto è sostenuto anche da DIRAC - Ministerio de las Re
 laciones Exteriores de Chile\, Fundación Santiago OFF ed ha il patrocinio
  dell'Ambasciata Cilena in Italia.\n\nLa prima italiana rappresenta un’o
 ccasione unica per scoprire una nuova voce del teatro contemporaneo cileno
  e per riflettere\, attraverso l’arte\, sulle contraddizioni della stori
 a recente dell’America Latina.\n\nColectivo Pierre Menard (Cile)\nAPREND
 AN DEL FUEGO\nRegia Ítalo Gallardo\nDrammaturgia Tomás Henríquez\nCon H
 eidrun Breier\nPaesaggi sonori dal vivo Roberto Collío\nInstallazioni aud
 iovisive Patricio Poblete\nLuci Francisco Herrera\nDebutto internazionale 
 in Italia\n\nInfo e acquisto biglietti\nBiglietti in vendita qui: https://
 www.vivaticket.com/it/ticket/aprendan-del-fuego/286250\nMail: segreteria.n
 uovoteatroateneo@uniroma1.it\nTelefono: +390649914115\n\nSapienza CREA - N
 uovo Teatro Ateneo\nCentro di servizi per le attività ricreative\, cultur
 ali\, artistiche\, sociali e dello spettacolo\nSapienza Università di Rom
 a\nPiazzale Aldo Moro 5\, 00185 Roma\nEdificio CU017\n\nLINK VIVATICKET: h
 ttps://www.vivaticket.com/it/ticket/aprendan-del-fuego/286250\n\nInstagram
 : @sapienzacrea\n
ATTACH;FMTTYPE=image/jpeg:https://lazioeventi.com/wp-content/uploads/2025/
 11/2160x1080_Invito_Aprendan_del_fuego_finale.jpg
CATEGORIES:Musica, Spettacoli e Danza nel Lazio
LOCATION:Roma\, Via Leopardi\, Roma\, Roma\, Lazio\, Italia
GEO:41.8942;12.5017
X-APPLE-STRUCTURED-LOCATION;VALUE=URI;X-ADDRESS=Via Leopardi\, Roma\, Roma\
 , Lazio\, Italia;X-APPLE-RADIUS=100;X-TITLE=Roma:geo:41.8942,12.5017
END:VEVENT
BEGIN:VTIMEZONE
TZID:Europe/Rome
X-LIC-LOCATION:Europe/Rome
BEGIN:STANDARD
DTSTART:20251026T020000
TZOFFSETFROM:+0200
TZOFFSETTO:+0100
TZNAME:CET
END:STANDARD
END:VTIMEZONE
END:VCALENDAR