BEGIN:VCALENDAR
VERSION:2.0
PRODID:-//wp-events-plugin.com//7.2.3.1//EN
TZID:Europe/Rome
X-WR-TIMEZONE:Europe/Rome
BEGIN:VEVENT
UID:32230@lazioeventi.com
DTSTART;TZID=Europe/Rome:20250410T160000
DTEND;TZID=Europe/Rome:20250831T223000
DTSTAMP:20250410T133617Z
URL:https://lazioeventi.com/eventi/aprilia-film-festival
SUMMARY:Bando "Aprilia Film Festival" - Aprilia - 10 Aprile 25 16:00
DESCRIPTION:L’Aprilia Film Festival\, manifestazione dedicata al cinema i
 ndipendente\, apre ufficialmente le selezioni per la sua settima edizione\
 , che si terrà a ottobre 2025. \n\nIdeato e diretto artisticamente dall
 ’attore e regista Federico Paolini\, il festival si è affermato negli a
 nni come un punto di riferimento per il cinema emergente\, accogliendo gra
 ndi nomi del panorama cinematografico italiano e offrendo un'importante ve
 trina a talenti provenienti da tutto il mondo.\n\nA confermare il prestigi
 o dell’evento\, il padrino ufficiale del festival sin dalla prima edizio
 ne è il regista\, attore e sceneggiatore Massimiliano Bruno\, mentre la m
 adrina della scorsa edizione è stata l’attrice e modella Alice Sabatini
 .\n\nUna collaborazione preziosa e fondamentale quella con Isolda degli Ar
 tisti\, Fondata dal CEO e produttore musicale Carlo Avarello\, che per il 
 secondo anno consecutivo ha scelto di sostenere il nostro progetto. Grazie
  a questa sinergia\, verrà assegnato lo speciale premio Miglior Videoclip
 \, un riconoscimento che celebra l’eccellenza nella fusione tra linguagg
 io cinematografico e musica. \n\nNegli anni\, il festival ha ospitato pers
 onalità di spicco dell’industria cinematografica\, tra cui:\nMichela An
 dreozzi (regista e attrice)\,Alex Polidori (doppiatore e cantante)\,Manuel
  Meli (doppiatore)\,Monica Ward (doppiatrice e direttrice di doppiaggio)\,
 Davide Lepore (doppiatore e direttore di doppiaggio)\,Davide Manca (dirett
 ore della fotografia)\,Ornella Morsilli\, Flavia Poerio\, Flavia Toti Lomb
 ardozzi (casting director)\,Vito Zito (scenografo)\,Elio Film (produzione)
 \,Luciano Fontana (regista 8 ½)\,Daniele Barbiero\, Alberto Gelpi (regist
 i)\,Fabio Antonelli (compositore)\,Pietro De Silva (attore\, La vita è be
 lla)\,Perla Liberatori (doppiatrice)\,Daniele Poli (direttore della fotogr
 afia)\n\nIl festival\, patrocinato negli anni da Comune di Aprilia\, Regio
 ne Lazio\, Provincia di Latina\, Nuovo Imaie e Proloco di Aprilia\, e sost
 enuto da sponsor prestigiosi come Urban Vision\, Centro Commerciale Aprili
 a2\, Confapi e Tecnomat\, si pone l’obiettivo di valorizzare e portare i
 l cinema indipendente anche nella provincia\, offrendo agli autori emergen
 ti una piattaforma per esprimere il proprio talento e farsi conoscere da p
 ubblico e addetti ai lavori.\n\nLe opere possono essere inviate tramite la
  piattaforma FilmFreeway al seguente link: https://filmfreeway.com/APRILIA
 FILMFESTIVAL   (il link anche in BIO sui nostri social)\n\nTutte le inform
 azioni aggiornate\, incluse le date precise e la location dell’edizione 
 2025\, saranno comunicate nei prossimi mesi sui canali ufficiali del festi
 val: Instagram & Facebook → @apriliafilmfestival\n\nPer info e richieste
 : apriliafilmfestival@gmail.com
ATTACH;FMTTYPE=image/jpeg:https://lazioeventi.com/wp-content/uploads/2023/
 04/cover_photo.webp
CATEGORIES:Musica, Spettacoli e Danza nel Lazio
LOCATION:Aprilia\, Comune\, Aprilia\, Latina\, Lazio\, Italia
GEO:41.5937;12.6486
X-APPLE-STRUCTURED-LOCATION;VALUE=URI;X-ADDRESS=Comune\, Aprilia\, Latina\,
  Lazio\, Italia;X-APPLE-RADIUS=100;X-TITLE=Aprilia:geo:41.5937,12.6486
END:VEVENT
BEGIN:VTIMEZONE
TZID:Europe/Rome
X-LIC-LOCATION:Europe/Rome
BEGIN:DAYLIGHT
DTSTART:20250330T030000
TZOFFSETFROM:+0100
TZOFFSETTO:+0200
TZNAME:CEST
END:DAYLIGHT
END:VTIMEZONE
END:VCALENDAR