BEGIN:VCALENDAR
VERSION:2.0
PRODID:-//wp-events-plugin.com//7.2.3.1//EN
TZID:Europe/Rome
X-WR-TIMEZONE:Europe/Rome
BEGIN:VEVENT
UID:38464@lazioeventi.com
DTSTART;TZID=Europe/Rome;VALUE=DATE:20240222
DTEND;TZID=Europe/Rome;VALUE=DATE:20240304
DTSTAMP:20240206T123556Z
URL:https://lazioeventi.com/eventi/arancione-con-un-super-cast
SUMMARY:"Arancione" con un super cast - Roma - 22 Febbraio 24 00:00
DESCRIPTION:Al Teatro Golden DAL 22 FEBBRAIO AL 3 MARZO 2024\n\nFABRIZI
 O COLICA\, LEONARDO BOCCI\, PATRIZIA LORETI\, PAOLA MICHELINI\, MAURO CONT
 E\n\nIN\n\nARANCIONE\n\nL’arancione non è solo un mix tra il giallo e i
 l rosso ma è anche il titolo di un nuovo spettacolo nel quale questi  du
 e colori simboleggiano rispettivamente il “Chi siamo” e “Chi gli alt
 ri vorrebbero che fossimo”. Una commedia originale\, divertente ed imper
 dibile\, è pronta ad approdare al teatro Golden dal 22 febbraio al 3 marz
 o 2024 con un cast super atteso e composto da: Fabrizio Colica\, Leonardo 
 Bocci\, Patrizia Loreti\, Paola Michelini\, Mauro Conte\, per la regia  d
 i Fabrizio Colica e l’aiuto regia di Riccardo Sinibaldi. “Arancione”
  è una commedia ambientata a ora di cena\, ma senza una cena vera e propr
 ia. È un continuo abbattimento delle aspettative\, dalle più piccole\, c
 ome quelle di una delusione nel non trovare un pasto pronto in casa di chi
  li ha invitati\, a quelle più grandi\, come quelle di un figlio che si m
 ette con una persona del suo stesso sesso.\n\nÈ una commedia umoristica c
 ontemporanea che non contrasta gli stereotipi\, ma li abbraccia. Il testo 
 ruota attorno la figura del padrone di casa\, Fabrizio\, che invita suo f
 ratello e la sua ex\, per presentare loro il suo nuovo fidanzato. Gli i
 nvitati finiranno per essere di più\, per una serie di eventi del tutto c
 asuali che “se succedessero in un testo teatrale\, la gente non ci crede
 rebbe”.
ATTACH;FMTTYPE=image/jpeg:https://lazioeventi.com/wp-content/uploads/2024/
 02/loca-arancione-bianca.jpg
CATEGORIES:Musica, Spettacoli e Danza nel Lazio
LOCATION:Roma\, Via Leopardi\, Roma\, Roma\, Lazio\, Italia
GEO:41.8942;12.5017
X-APPLE-STRUCTURED-LOCATION;VALUE=URI;X-ADDRESS=Via Leopardi\, Roma\, Roma\
 , Lazio\, Italia;X-APPLE-RADIUS=100;X-TITLE=Roma:geo:41.8942,12.5017
END:VEVENT
BEGIN:VTIMEZONE
TZID:Europe/Rome
X-LIC-LOCATION:Europe/Rome
BEGIN:STANDARD
DTSTART:20231029T020000
TZOFFSETFROM:+0200
TZOFFSETTO:+0100
TZNAME:CET
END:STANDARD
END:VTIMEZONE
END:VCALENDAR