BEGIN:VCALENDAR
VERSION:2.0
PRODID:-//wp-events-plugin.com//7.2.3.1//EN
TZID:Europe/Rome
X-WR-TIMEZONE:Europe/Rome
BEGIN:VEVENT
UID:33266@lazioeventi.com
DTSTART;TZID=Europe/Rome:20221218T090000
DTEND;TZID=Europe/Rome:20221218T130000
DTSTAMP:20221129T062958Z
URL:https://lazioeventi.com/eventi/arce-terra-di-confine
SUMMARY:Arce terra di confine - Arce - 18 Dicembre 22 09:00
DESCRIPTION:Il progetto “Arce terra di confine”\, ideato dalla Pro Loco
  di Arce con il contributo della Regione Lazio\, persegue e rafforza l’i
 mpegno rivolto alla promozione e alla valorizzazione delle risorse sociali
  e storico-culturali del territorio comunale e della media Valle de Liri.\
 n\nIl cammino è sviluppato lungo l’antico confine tra Regno delle Due S
 icilie\, di cui Arce faceva parte\, e lo Stato Pontificio. Il tratto di ta
 le storica frontiera\, che ancora oggi definisce i limiti territoriali del
  Comune di Arce\, si sviluppa per circa 20 km: dalla Torre medievale di S.
  Eleuterio all’oasi naturalistica di Isoletta d’Arce.\n\nIl percorso e
  i siti di interesse sono segnalati per mezzo di segnaletica e pannellisti
 ca permanente dotata di QR CODE per approfondimenti e informazioni.\n\nIl 
 percorso può essere effettuato a piedi\, in bici o a cavallo ed è posto 
 tra le direttrici già attive del cammino di San Benedetto e della via Fra
 ncigena.\n\nAl percorso sono connesse alcune attività collegate alle pecu
 liarità dei luoghi:\n\n 	visite ai siti archeologici e ai luoghi storici 
 come il parco archeologico di Fregellae\, le dogane borboniche o la narraz
 ione degli eventi storici avvenuti in questi luoghi.\n 	visite ai cippi di
  confine tra Regno delle Due Sicilie e Stato Pontificio\, restaurati e rip
 ristinati per l’occasione.\n 	escursioni in barca: sarà possibile effet
 tuare escursioni guidate sul fiume Liri.\n 	bird watching: osservazione de
 lla fauna presente presso il lago di S. Giacomo a Collemezzo e alla riserv
 a naturale del lago di Isoletta.\n 	aree ricreative: presso le quali è po
 ssibile svolgere attività all’aperto con l’utilizzo dell’area picni
 c attrezzata nell’area della riserva naturale di Isoletta.\n\nAi fruitor
 i del percorso sono proposte le strutture di ristorazione e di accoglienza
  partners del progetto\; inoltre sono segnalati i punti vendita di prodott
 i tipici locali la cui qualità è garantita dal brand “Arce terra di co
 nfine”.\n\nIl percorso ha inizio dal largario antistante la Torre mediev
 ale di S. Eleuterio nel Comune di Arce\, luogo in cui è installato un inf
 o point permanente\, recante la cartellonistica di presentazione con relat
 ive tematiche e attività proposte.\n\nAl progetto è collegato il brand 
 “ARCE terra di confine”. La creazione del marchio ha come presupposto 
 il riconoscimento del territorio quale custode delle memorie individuali e
  collettive di una collettività specifica\, ma\, soprattutto\, la valoriz
 zazione in situ dei beni che il territorio abbraccia attraverso la creazio
 ne di una rete\, di un sistema di rapporti reciproci di scambio\, in una l
 ogica di condivisione e sussidiarietà.\n\nDall’intento di promuovere il
  volto più autentico del territorio\, in cui persistono colture legate al
 la tradizione\, è scaturita l’esigenza di creare un brand che coinvolge
 sse quelle realtà produttive locali accomunabili per l’impiego di mater
 ie prime autoctone e pratiche tracciabili.\nProduttori oleari\, vinicoli\,
  panificatori\, caseari\, salumieri\, ortofrutticoli\, apicoltori\, alleva
 tori\, ristoratori e artigiani.\nI prodotti presentati con lo specifico ma
 rchio “ARCE terra di confine” avranno una garanzia di tracciabilità e
  saranno pubblicizzati sui canali mediatici e proposti in tutte le sedi di
  rappresentanza.\n\nDATE DEGLI EVENTI\n\nCONFERENZA DI PRESENTAZIONE: dome
 nica 11 dicembre 2022 alle ore 11:00 presso sala conferenze del Comune di 
 Arce in piazza Umberto I.\n\nINAUGURAZIONE DEL PERCORSO: domenica 18 dicem
 bre 2022 dalle ore 9:00 presso la Torre medievale di S.Eleuterio nel Comun
 e di Arce.\n\nProgramma giornata inaugurale:\nOre 9:00 - Ritrovo\, colazio
 ne e partenza dei gruppi escursionistici\n(per il ritorno sarà possibile 
 usufruire del servizio navetta. Info: 393 231 7395)\nOre 11:00 - Presentaz
 ione del percorso\nSaluto delle autorità\nPresentazione delle Associazion
 i trekking ospiti\nConvegno: Storia e storie di una terra di confine\nFerd
 inando Corradini: Una frontiera lunga tredici secoli\nAntonio Farinelli: L
 e dogane del Regno\, i cippi di confine e il trattato del 1840\nMarco Germ
 ani (archeomarco): Lungo il confine tra preistoria e antichità\nDanila Ca
 rducci: Escursione filosofico-letteraria sul concetto di confine\nModerato
 re: Fernando Riccardi\n\nPresentazione del brand e dei partners di “ARCE
  terra di confine”\nConduce Massimo Marzilli\n\nNel corso della giornata
 :\n- area food con degustazione delle produzioni enogastronomiche arcesi\n
 - servizio bike rental (prenotazioni: 346 650 8972)
ATTACH;FMTTYPE=image/jpeg:https://lazioeventi.com/wp-content/uploads/2022/
 11/arce-terra-cofine.jpg
CATEGORIES:Varie,Sport, Tempo Libero e Divertimento nel Lazio
LOCATION:Arce\, Comune\, Arce\, Frosinone\, Lazio\, Italia
GEO:41.5881;13.5725
X-APPLE-STRUCTURED-LOCATION;VALUE=URI;X-ADDRESS=Comune\, Arce\, Frosinone\,
  Lazio\, Italia;X-APPLE-RADIUS=100;X-TITLE=Arce:geo:41.5881,13.5725
END:VEVENT
BEGIN:VTIMEZONE
TZID:Europe/Rome
X-LIC-LOCATION:Europe/Rome
BEGIN:STANDARD
DTSTART:20221030T020000
TZOFFSETFROM:+0200
TZOFFSETTO:+0100
TZNAME:CET
END:STANDARD
END:VTIMEZONE
END:VCALENDAR