BEGIN:VCALENDAR
VERSION:2.0
PRODID:-//wp-events-plugin.com//7.2.3.1//EN
TZID:Europe/Rome
X-WR-TIMEZONE:Europe/Rome
BEGIN:VEVENT
UID:35407@lazioeventi.com
DTSTART;TZID=Europe/Rome;VALUE=DATE:20230519
DTEND;TZID=Europe/Rome;VALUE=DATE:20230602
DTSTAMP:20230511T125834Z
URL:https://lazioeventi.com/eventi/arcipelago-esistenziale
SUMMARY:Arcipelago esistenziale - Roma - 19 Maggio 23 00:00
DESCRIPTION:A cura di Gianluca Marziani\n\nDal 19 maggio al 01 giugno 2023 
 Medina Art Gallery presenta “Arcipelago esistenziale”\, mostra persona
 le di Giulio Marchetti a cura di Gianluca Marziani nella galleria di via M
 erulana 220 a Roma.\n\nL’evento di opening si terrà il giorno 19 maggi
 o 2023 dalle ore 18:00 alle ore 21:00 in via Merulana 220 con la presentaz
 ione del curatore.\n\nGiulio Marchetti\, visual-artist e poeta romano\, ma
 tura artisticamente durante il rapido sviluppo della cultura digitale. La 
 sua tecnica dà vita ad una vincente fusione tra i linguaggi tradizionali
  e la grammatica elettronica\, attraverso una straordinaria capacità di 
 manipolare ogni arte e tecnologia in senso esteso.\n\nIl nome della mostra
  deriva dall’insieme delle opere che\, come isole\, creano un arcipelago
  geograficamente casuale e randomico. Le opere non possono essere classifi
 cate in categorie tematiche o cronologiche\, ma insieme diventano “arcip
 elaghi di esistenza comune”\, dove siamo portati a ragionare secondo “
 gruppi svincolati dal tempo e dallo spazio\, dove i filoni tematici proced
 ono in modo incoerente\, seguendo la téchne e lo zeitgeist\, il potenzia
 le d’accesso tecnologico\, la capacità di sfruttamento dello scibile e
 lettronico. Le vecchie categorie rigide sono oggi arcipelaghi che fluttuan
 o come natanti in cerca di approdi sempre diversi e rinnovabili” spiega 
 il curatore Gianluca Marziani.\n\n“GIULIO MARCHETTI APPARTIENE AD UNA GE
 NIA DI ARTISTI CRESCIUTI FUORI DALLA FILIERA DEL SISTEMA NOVECENTESCO\, PI
 Ù LIBERI NEI METODI D’INGAGGIO DI MOLTE PRECEDENTI GENERAZIONI. IL SUO
  APPROCCIO\, CONSAPEVOLE DEI TRACCIATI FORMATIVI\, HA CAPITO UN DATO DI SO
 STANZA: NON SI PUÒ APPARTENERE AL PRESENTE DIGITALE SE NON SI SELEZIONAN
 O I GIUSTI COLLANTI UMANISTICI\, OPERANDO CON APPROCCI NON PIÙ ACCADEMIC
 I E STRINGENTI\, AL CONTRARIO ELABORANDO UN PERSONALE SISTEMA INTEGRATO CH
 E SI MUOVA SU DIREZIONI RIZOMATICHE\, SECONDO SCHEMI CHE SUPERANO IL VERTI
 CALISMO GERARCHICO E LE VECCHIE IDEOLOGIE ORIZZONTALI." - GIANLUCA MARZIA
 NI\n\nGiulio Marchetti è nato a Roma nel 1982. Ha fondato il “Gruppo M
 ira”. Nel dicembre 2020 è uscita su la Repubblica la sua opera Dramazo
 n. Le sue opere sono state pubblicate dalle maggiori riviste di settore\, 
 tra cui Artribune ed Exibart. Tra le collaborazioni artistiche\, si segnal
 a la partnership con il cantante e performer Achille Lauro (Sanremo ed Eur
 ovision 2022). Nell’autunno 2022 lancia la sua prima mostra nel Metavers
 o TIME e partecipa alla mostra collettiva Retina (galleria InQuadro)\, in 
 occasione della RAW Art Night promossa dalla Rome Art Week. Il felice inco
 ntro con il critico Gianluca Marziani\, curatore in Italia di Banksy\, met
 te in cantiere ulteriori autorevoli iniziative\, tra cui Logos Infinito (p
 rogetto di arte diffusa sulla parola – nuovo spazio d’arte contemporan
 ea Recanati) e la mostra personale “Giulio Marchetti. Arcipelago esisten
 ziale”\, a cui collabora anche Davide Gavioli\, già̀ Social Media Man
 ager per Arte Fiera\, per un progetto di influencer marketing a promozione
  della mostra.\n\nIn breve:\nTitolo Mostra: “Arcipelago esistenziale”\
 nOpening Mostra: venerdì 19 maggio alle ore 18:00.\nDurata Mostra: dal 1
 9 maggio al 01 giugno 2023.\n\nOrario apertura: Dal lunedì al venerdì 
 10:00-13:00 e 15:00-19:00
ATTACH;FMTTYPE=image/jpeg:https://lazioeventi.com/wp-content/uploads/2023/
 05/giulio_marchetti_leaflet.jpg
CATEGORIES:Arte e Cultura nel Lazio
LOCATION:Roma\, Via Leopardi\, Roma\, Roma\, Lazio\, Italia
GEO:41.8942;12.5017
X-APPLE-STRUCTURED-LOCATION;VALUE=URI;X-ADDRESS=Via Leopardi\, Roma\, Roma\
 , Lazio\, Italia;X-APPLE-RADIUS=100;X-TITLE=Roma:geo:41.8942,12.5017
END:VEVENT
BEGIN:VTIMEZONE
TZID:Europe/Rome
X-LIC-LOCATION:Europe/Rome
BEGIN:DAYLIGHT
DTSTART:20230326T030000
TZOFFSETFROM:+0100
TZOFFSETTO:+0200
TZNAME:CEST
END:DAYLIGHT
END:VTIMEZONE
END:VCALENDAR