BEGIN:VCALENDAR
VERSION:2.0
PRODID:-//wp-events-plugin.com//7.2.3.1//EN
TZID:Europe/Rome
X-WR-TIMEZONE:Europe/Rome
BEGIN:VEVENT
UID:43232@lazioeventi.com
DTSTART;TZID=Europe/Rome;VALUE=DATE:20251129
DTEND;TZID=Europe/Rome;VALUE=DATE:20251229
DTSTAMP:20251128T102632Z
URL:https://lazioeventi.com/eventi/arcipelago-metropolitano
SUMMARY:Arcipelago Metropolitano - Zagarolo - 29 Novembre 25 00:00
DESCRIPTION:Al via “Arcipelago Metropolitano”\, una rassegna di 4 Festi
 val natalizi che mettono al centro famiglia e sostenibilità. \n\nDall’a
 rtigianato al mondo del gaming per riscoprire il valore di stare insieme i
 n 4 tappe tra Roma e provincia. \n\nDal 29 novembre al 28 dicembre 2025\n
 \nUn Natale intergenerazionale pensato per creare un ponte tra grandi e pi
 ccini\, con lo scopo di favorire\, e riscoprire\, il valore dello scambio 
 e della partecipazione attiva in famiglia.\n\nDall’artigianato al mondo 
 del gaming arriva “Arcipelago Metropolitano”\, rassegna ideata con lo 
 scopo di mettere al centro le persone\, le relazioni e la sostenibilità\,
  superando il consumismo seriale.\n\nCon il contributo di Roma Città Metr
 opolitana\, e in collaborazione con ATCL\, le tappe di “Arcipelago Metro
 politano – Rotte comuni\, orizzonti solidali” si snoderanno attraverso
  4 simboliche isole tematiche pronte a regalare un viaggio esperienziale a
 lle famiglie che potranno esplorare i vari percorsi per lasciarsi travolge
 re da un tripudio di emozioni\, gioia e meraviglia.\n\nDal 29 novembre al 
 28 dicembre 2025\, tra l’elegante Palazzo Rospigliosi di Zagarolo e il d
 inamico Fusolab 3.0 di Roma (situato nel quartiere Alessandrino in Viale d
 ella Bella Villa  96).\n\nL'iniziativa\, voluta fortemente dalla Consigli
 era delegata alla cultura Tiziana Biolghini\,  intende proporre una perso
 nale reinterpretazione del Natale in chiave contemporanea e solidale.\n\nP
 er garantire a tutti i componenti della famiglia di assaporare il gusto di
  vivere le giornate festive insieme e comprendere più da vicino le esigen
 ze di ognuno\, tra mercatini\, laboratori\, giochi\, incontri\, concerti\,
  spettacoli live.\n\nTutti gli appuntamenti saranno ad ingresso rigorosame
 nte gratuito.\n\nSi parte il 29 e 30 novembre con “Playstory – La Sagr
 a del Gioco e della Creatività” a Palazzo Rospigliosi\, Piazza della In
 dipendenza 6\,  Zagarolo (RM).\nL’isola del gioco come linguaggio comun
 e: dal Museo del Giocattolo alla VR\, tra retrogame\, boardgame\, Minecraf
 t\, simulatori\, Game Vintage Market e attività interattive per tutte le 
 età.\n\nDal 6 all’8 dicembre al via “Bamboom – Piccola Fiera per Pi
 ccoli Monelli”\nFusolab 3.0\, Roma.\nL’isola “Bambini e Futuro”: m
 ostra mercato handmade\, laboratori creativi\, giochi analogici e digitali
 \, area editoria\, forum su educazione e benessere\, area scambio e tre sp
 ettacoli al giorno dedicati all’infanzia.\n\nTorna anche “FRA’ – F
 iera del Regalo Accessibile”\n6–7–8 e 13–14 e 20–21 dicembre · 
 Fusolab 3.0\, Roma\nL’isola dell’artigianato e delle autoproduzioni: c
 reazioni uniche con prezzo massimo 50€\, artigiani e maker\, workshop\, 
 area bambini\, street food e performance di artisti di strada e busker.\n\
 nE nel gran finale “Ensemble! – Suoni e sapori dal mondo”\n27–28 d
 icembre · Fusolab 3.0\, Roma\nL’isola “Culture e Sapori”: concerti\
 , danze\, proiezioni\, mercatino e assaggi dal mondo curati dalle comunit
 à straniere di Roma\, per chiudere la rassegna con una grande tavola comu
 ne.\n\nArcipelago Metropolitano trasforma il periodo natalizio in un’occ
 asione per vivere la città metropolitana come uno spazio condiviso\, dove
  rotte diverse si incontrano in orizzonti solidali:\n\nfamiglie\, giovani\
 , associazioni\, artigiani\, comunità migranti e appassionati di gioco tr
 ovano luoghi in cui riconoscersi e incontrarsi.\n\nInfo su: https://fusola
 b.net/arcipelagometropolitano\n\nTutti gli appuntamenti sono gratuiti con 
 prenotazione su https://fusolab.net/biglietti
ATTACH;FMTTYPE=image/jpeg:https://lazioeventi.com/wp-content/uploads/2025/
 11/locandina-eventi-festival.jpg
CATEGORIES:Fiere e Mercatini nel Lazio,Musica, Spettacoli e Danza nel
 Lazio
LOCATION:Zagarolo\, Comune\, Zagarolo\, Roma\, Lazio\, Italia
GEO:41.84;12.8293
X-APPLE-STRUCTURED-LOCATION;VALUE=URI;X-ADDRESS=Comune\, Zagarolo\, Roma\, 
 Lazio\, Italia;X-APPLE-RADIUS=100;X-TITLE=Zagarolo:geo:41.84,12.8293
END:VEVENT
BEGIN:VTIMEZONE
TZID:Europe/Rome
X-LIC-LOCATION:Europe/Rome
BEGIN:STANDARD
DTSTART:20251026T020000
TZOFFSETFROM:+0200
TZOFFSETTO:+0100
TZNAME:CET
END:STANDARD
END:VTIMEZONE
END:VCALENDAR