BEGIN:VCALENDAR
VERSION:2.0
PRODID:-//wp-events-plugin.com//7.2.3.1//EN
TZID:Europe/Rome
X-WR-TIMEZONE:Europe/Rome
BEGIN:VEVENT
UID:30482@lazioeventi.com
DTSTART;TZID=Europe/Rome:20220501T103000
DTEND;TZID=Europe/Rome:20220501T170000
DTSTAMP:20220412T204509Z
URL:https://lazioeventi.com/eventi/area-archeologica-aquinum-2022-05-01
SUMMARY:Area Archeologica Aquinum - Castrocielo - 1 Maggio 22 10:30
DESCRIPTION:Apertura straordinaria Area Archeologica Aquinum nei giorni 1
 8 aprile \, 24 aprile e 1 maggio 2022 con orari visite guidate: 10.30 – 
 11.30 / 16.00 – 17.00\n\nLe visite sono gratuite ed è gradita la prenot
 azione\, telefonando al seguente numero 0776.79001  (interno 3).
ATTACH;FMTTYPE=image/jpeg:https://lazioeventi.com/wp-content/uploads/2022/
 04/aquinum.jpg
CATEGORIES:Arte e Cultura nel Lazio
LOCATION:Castrocielo\, Comune\, Castrocielo\, Frosinone\, Lazio\, Italia
GEO:41.5311;13.6962
X-APPLE-STRUCTURED-LOCATION;VALUE=URI;X-ADDRESS=Comune\, Castrocielo\, Fros
 inone\, Lazio\, Italia;X-APPLE-RADIUS=100;X-TITLE=Castrocielo:geo:41.5311,
 13.6962
END:VEVENT
BEGIN:VTIMEZONE
TZID:Europe/Rome
X-LIC-LOCATION:Europe/Rome
BEGIN:DAYLIGHT
DTSTART:20220327T030000
TZOFFSETFROM:+0100
TZOFFSETTO:+0200
TZNAME:CEST
END:DAYLIGHT
END:VTIMEZONE
END:VCALENDAR