BEGIN:VCALENDAR
VERSION:2.0
PRODID:-//wp-events-plugin.com//7.2.3.1//EN
TZID:Europe/Rome
X-WR-TIMEZONE:Europe/Rome
BEGIN:VEVENT
UID:40061@lazioeventi.com
DTSTART;TZID=Europe/Rome:20241021T203000
DTEND;TZID=Europe/Rome:20241025T223000
DTSTAMP:20241015T150804Z
URL:https://lazioeventi.com/eventi/argot-40-quarantanni-di-ricerca-teatral
 e-2
SUMMARY:ARGOT 40\, quarant’anni di ricerca teatrale - Roma - 21 Ottobre 2
 4 20:30
DESCRIPTION:L’Argot compie 40 anni. Con resilienza\, tenacia e perseveran
 za\, senza mai smarrire la rotta\, ha attraversato generazioni e generazio
 ni di autori\, attori e registi e corsi e ricorsi storici riuscendo a mant
 enere la sua natura e a resistere nel tempo adattandosi camaleonticamente 
 ai cambiamenti storici e culturali di questa città.\n\nCINEMARGOT. Rasseg
 na cinema di film tratti da spettacoli nati all’Argot\n\nRassegna inaugu
 rale dal 21 al 25 ottobre ore 20:30\n\n21 ottobre\nBarbara di Angelo Orlan
 do\n(ospiti: Angelo Orlando\, Valerio Mastandrea\, Daniele Silvestri\, Mas
 similiano Bruno e altri componenti del cast)\n\n22 ottobre\nDall’alto di
  una fredda torre di Francesco Frangipane\n(ospiti: Francesco Frangipane\,
  Filippo Gili e altri componenti del cast)\n\n23 ottobre\nNaja di Angelo L
 ongoni\n(ospiti: Angelo Longoni\, Enrico Lo Verso\, Francesco Siciliano\, 
 Adelmo Togliani e altri componenti del cast)\n\n24 ottobre\nShakespea Re d
 i Napoli di Ruggero Cappuccio e Nadia Baldi\n(ospiti: Ruggero Cappuccio\, 
 Nadia Baldi e altri componenti del cast)\n\n25 ottobre\nCuore cattivo di U
 mberto Marino\n(ospiti: Umberto Marino\, Kim Rossi Stuart\, Massimo Wertmu
 ller\, Massimo Ghini e altri componenti del cast)
ATTACH;FMTTYPE=image/jpeg:https://lazioeventi.com/wp-content/uploads/2024/
 10/image-1.jpeg
CATEGORIES:Musica, Spettacoli e Danza nel Lazio
LOCATION:Roma\, Via Leopardi\, Roma\, Roma\, Lazio\, Italia
GEO:41.8942;12.5017
X-APPLE-STRUCTURED-LOCATION;VALUE=URI;X-ADDRESS=Via Leopardi\, Roma\, Roma\
 , Lazio\, Italia;X-APPLE-RADIUS=100;X-TITLE=Roma:geo:41.8942,12.5017
END:VEVENT
BEGIN:VTIMEZONE
TZID:Europe/Rome
X-LIC-LOCATION:Europe/Rome
BEGIN:DAYLIGHT
DTSTART:20240331T030000
TZOFFSETFROM:+0100
TZOFFSETTO:+0200
TZNAME:CEST
END:DAYLIGHT
END:VTIMEZONE
END:VCALENDAR