BEGIN:VCALENDAR
VERSION:2.0
PRODID:-//wp-events-plugin.com//7.2.3.1//EN
TZID:Europe/Rome
X-WR-TIMEZONE:Europe/Rome
BEGIN:VEVENT
UID:42607@lazioeventi.com
DTSTART;TZID=Europe/Rome;VALUE=DATE:20251002
DTEND;TZID=Europe/Rome;VALUE=DATE:20251013
DTSTAMP:20250929T103732Z
URL:https://lazioeventi.com/eventi/arresti-molto-molto-domiciliari
SUMMARY:Arresti molto...molto domiciliari - Roma - 2 Ottobre 25 00:00
DESCRIPTION:Dal 2 al 12 ottobre 2025 Enzo Casertano\, Beatrice Fazi\, 
 Alessandra Merico\, Mara Liuzzi\, Andrea Mautone in Arresti molto… mol
 to domiciliari\n\ndi Marina Pizzi\, regia Toni Fornari\, una produzion
 e Goldenstar AM srl Teatro Golden\n\nUna nuova stagione ricca di novità 
 e tanti artisti sul palco del Teatro Golden\, diretto da Andrea Maia\, che
  torna a colorare la platea di sorrisi ed emozioni.\n\nSi parte con una co
 mmedia “Arresti molto...molto domiciliari”\, di Marina Pizzi e per la 
 regia di Toni Fornari\, con Enzo Casertano\, Beatrice Fazi\, Alessandra Me
 rico\, Mara Liuzzi\, Andrea Mautone.\n\nQuesta nuova produzione Goldenstar
  Am srl Teatro Golden\, in scena dal 2 al 12 ottobre 2025\, vanta il patro
 cinio dell’Ordine degli Avvocati di Velletri\, presieduto dall’Avvocat
 o Stefano Armati\, e dell’Associazione “Tradizione &amp\; Innovazione 
 Forense” sedi di Roma e Velletri\, presieduta dall’Avvocato Gaetano Pa
 rrello\, proprio perché il tema portante della commedia è in qualche mod
 o la giustizia\, con le sue varie sfaccettature e contraddizioni.\n\nUno s
 pettacolo decisamente ironico\, ma che cerca di fornire allo spettatore an
 che uno spunto per non dimenticare quanto sia importante non prendere la v
 ita con leggerezza ed agire nella legalità.\n\nGargiulo Salvatore detto S
 asà è\, o meglio\, sarebbe\, un uomo tranquillo \, accomodante e almeno 
 apparentemente\, tutto famiglia\, lavoro e maratone.\n\nA rompere un equil
 ibro che a fatica riesce a governare\, tra sua moglie Nora\, una donna dec
 isa\, intraprendente e gelosa\,  Giuseppina\, suocera incombente\, e sua
  figlia Paola\, dagli stravaganti interessi\, arriva un infausto avviso di
  garanzia che lo costringe agli arresti domiciliari.\n\nSasà\, geometra r
 esponsabile del Comune\, è accusato di aver firmato e autorizzato la real
 izzazione di un centro commerciale in una zona sismica.\n\nLe giornate di 
 convivenza a tempo pieno in famiglia diventano un inferno.\n\nNora\, vegan
 a crudista prepara per Sasà delicatezze immangiabili.\n\nRigida sostenitr
 ice del “semplifica\, riduci\, elimina” si accanisce punitiva nel “d
 ecluttering”degli oggetti … di suo marito\, su cui effettua un control
 lo a vista\, sospettosa di eventuali tradimenti.\n\nPaola\, ex fidanzata d
 i Raffaele\,  losco personaggio che ha coinvolto il futuro suocero nella 
 speculazione incriminata\, si sta preparando agli esami di infermiera e ut
 ilizza Sasà come cavia rassegnata\, visto che non può uscire.\n\nSu tutt
 o regna Giuseppina\, una vivacissima settantenne di oggi\, di professione 
 vedova single\, alle prese con creme\, ritocchi e bellezza\,  polemica e 
 ostile al genero.\n\nA rendere incandescente la situazione\, il ferreo e c
 ostante controllo da parte di Antonio un ligio agente della Polizia che 
 finirà per essere suo malgrado coinvolto nella vicenda .\n\nIn questa aff
 ollata atmosfera si snoda la nostra storia\, dando vita a situazioni esila
 ranti\,  colpi di scena\, rivelazioni impreviste\, momenti di grande dive
 rtimento ma anche di toccante sincerità\, fino a quando non verrà a gall
 a la verità.\n\nCe la faranno l’esaurito ma non vinto geometra maratone
 ta Sasà e la sua effervescente famiglia a superare le prove che l’aspet
 tano?\n\nIn un turbinio di equivoci si arriverà ad un finale inaspettato 
 dove  la leggerezza della comicità ci farà intuire che spesso le viciss
 itudini della vita ci possono rendere migliori e felici…\n\nOrari spetta
 coli\n\n 	giovedì – venerdì ore 21.00\n 	sabato ore 17.00 e 21.0
 0\n 	domenica ore 17.00.\n\nBotteghino\n\nindirizzo\n\nVia Taranto\, 36 
 – Roma 00182  telefono\n\n06.70493826
ATTACH;FMTTYPE=image/jpeg:https://lazioeventi.com/wp-content/uploads/2025/
 09/Mara-Liuzzi.jpeg
CATEGORIES:Musica, Spettacoli e Danza nel Lazio
LOCATION:Roma\, Via Leopardi\, Roma\, Roma\, Lazio\, Italia
GEO:41.8942;12.5017
X-APPLE-STRUCTURED-LOCATION;VALUE=URI;X-ADDRESS=Via Leopardi\, Roma\, Roma\
 , Lazio\, Italia;X-APPLE-RADIUS=100;X-TITLE=Roma:geo:41.8942,12.5017
END:VEVENT
BEGIN:VTIMEZONE
TZID:Europe/Rome
X-LIC-LOCATION:Europe/Rome
BEGIN:DAYLIGHT
DTSTART:20250330T030000
TZOFFSETFROM:+0100
TZOFFSETTO:+0200
TZNAME:CEST
END:DAYLIGHT
END:VTIMEZONE
END:VCALENDAR