BEGIN:VCALENDAR
VERSION:2.0
PRODID:-//wp-events-plugin.com//7.2.3.1//EN
TZID:Europe/Rome
X-WR-TIMEZONE:Europe/Rome
BEGIN:VEVENT
UID:40177@lazioeventi.com
DTSTART;TZID=Europe/Rome:20241023T103000
DTEND;TZID=Europe/Rome:20241124T190000
DTSTAMP:20241030T101342Z
URL:https://lazioeventi.com/eventi/art-is-timeless
SUMMARY:Art is Timeless - Roma - 23 Ottobre 24 10:30
DESCRIPTION:Dalla Visione di Roma al Flower Power\, una visione artistica p
 olicentrica\, tra scuola romana e giovani talenti internazionali\n\nLo sco
 rso 23 ottobre ha aperto ufficialmente al pubblico la Clode Art Gallery\, 
 il nuovo spazio espositivo diretto dalla gallerista Claudia "Clode" Guitto
 \, situato in via dei Greci 7\, nel cuore storico di Roma. Con la mostra c
 ollettiva inaugurale\, in corso fino al 24 novembre p.v.\, la galleria si 
 vuole imporre come punto di riferimento per l'arte moderna e contemporanea
 \, unendo in un ambiente innovativo e interattivo nomi di spicco della sce
 na artistica italiana e internazionale.\n\nL’esposizione accompagna infa
 tti il visitatore in un viaggio visivo attraverso una selezione di opere c
 he abbracciano diverse epoche\, stili e sensibilità artistiche. Emilio Le
 ofreddi è presente con Visione del suono\, proseguendo con Roma\, Surfing
  Pegaso\, Love Song 10 e Normacolor compagni di viaggio\, una serie di ope
 re che spaziano tra temi urbani e interpretazioni visionarie.\n\nFranco An
 geli è rappresentato da due lavori intensi\, Senza titolo e Lavagna\, seg
 uito da Mimmo Rotella con la sua Una modella per l’arte\, e Tano Festa c
 on un un’opera Senza titolo. Il percorso continua con Renato Mambor\, ch
 e in Angelo e Colosseo porta un omaggio alla città di Roma\, mentre di Gi
 osetta Fioroni è proposto un quadro Senza titolo.\n\nMario Schifano\, con
  il suo Albero della vita\, espone un’opera che rappresenta la sua sensi
 bilità per il paesaggio e la natura\, mentre Renato Guttuso\, nel Ritratt
 o della moglie Mimì\, aggiunge una nota intima alla collettiva. Antonio D
 el Donno contribuisce con un Senza titolo del 2012\, mentre Esteban Villal
 ta Marzi presenta Kitty\, un’opera di forte impatto.\n\nL’itinerario p
 rosegue con Odio di Marco Tamburro\, riflessione intensa e viscerale sui c
 onflitti interiori\; Flower Power di Cristina Chionni (C3R)\, un’esplosi
 one di vitalità moderna ispirata all’epoca hippy\; Boom di Fabiana Di D
 onato\, sintesi di energia e libertà attraverso uno stile grafico e immed
 iato\; La memoria di Pavone di Juanni Wang\, lavoro che affonda in una dim
 ensione lirica\; Lì dove mente trema di Alessandro Cannistrà opera tridi
 mensionale di ricerca dalle sfumature intense\; Daniela Forcella con The T
 raveller 2 invita a un viaggio immaginario che fonde pittura e scultura\, 
 mentre Elena Sterbini presenta due varianti de Gli spettatori. Chiude il p
 ercorso Soffiando sulle regole di Elo\, opera che invita a lasciarsi trasp
 ortare dalla libertà dell’arte.\n\nClode Art Gallery\, spazio espositiv
 o dalla visione giovane e dinamica\, vuol essere anche un centro culturale
  per eventi\, presentazioni e progetti artistici\, grazie alla collaborazi
 one con l’Officina Canova. Tra i futuri progetti in programma\, una pers
 onale di Daniela Forcella e un’esplorazione nel mondo degli NFT e della 
 stampa 3D\, creando un connubio tra tradizione e innovazione\, in linea co
 n la filosofia del suo slogan: “ART IS TIMELESS”.\n\nOrari: Martedì -
  Sabato 10:30-13:30 / 14:30-19:00\nDomenica e Lunedì su appuntamento
ATTACH;FMTTYPE=image/jpeg:https://lazioeventi.com/wp-content/uploads/2024/
 10/Art-is-timeless-2.jpeg
CATEGORIES:Arte e Cultura nel Lazio
LOCATION:Roma\, Via Leopardi\, Roma\, Roma\, Lazio\, Italia
GEO:41.8942;12.5017
X-APPLE-STRUCTURED-LOCATION;VALUE=URI;X-ADDRESS=Via Leopardi\, Roma\, Roma\
 , Lazio\, Italia;X-APPLE-RADIUS=100;X-TITLE=Roma:geo:41.8942,12.5017
END:VEVENT
BEGIN:VTIMEZONE
TZID:Europe/Rome
X-LIC-LOCATION:Europe/Rome
BEGIN:DAYLIGHT
DTSTART:20240331T030000
TZOFFSETFROM:+0100
TZOFFSETTO:+0200
TZNAME:CEST
END:DAYLIGHT
BEGIN:STANDARD
DTSTART:20241027T020000
TZOFFSETFROM:+0200
TZOFFSETTO:+0100
TZNAME:CET
END:STANDARD
END:VTIMEZONE
END:VCALENDAR