BEGIN:VCALENDAR
VERSION:2.0
PRODID:-//wp-events-plugin.com//7.2.3.1//EN
TZID:Europe/Rome
X-WR-TIMEZONE:Europe/Rome
BEGIN:VEVENT
UID:33706@lazioeventi.com
DTSTART;TZID=Europe/Rome;VALUE=DATE:20230114
DTEND;TZID=Europe/Rome;VALUE=DATE:20230116
DTSTAMP:20230109T091423Z
URL:https://lazioeventi.com/eventi/arte-in-danza-2
SUMMARY:Arte in danza - Priverno - 14 Gennaio 23 00:00
DESCRIPTION:Workshop | Concorso | Convegni | Spettacoli\n\nIl 14 e 15 genna
 io 2023\, appuntamento con la seconda edizione di Arte in danza: un fine s
 ettimana all’insegna della danza\, con la direzione artistica di Filippo
  Venditti e Barbara Tudini \, tra le suggestive atmosfere del Borgo di Fos
 sanova.\n\nIl Borgo di Fossanova\, nel cuore della pianura pontina\, si pr
 epara ad accogliere - sabato 14 e domenica 15 gennaio 2023 - la seconda ed
 izione di Arte in danza\, evento di studio e spettacolo\, arte e cultura\,
  in uno dei luoghi più affascinanti d’Italia.\n\nIl progetto\, sostenut
 o dal Comune di Priverno\, Regione Lazio \, nasce da un’idea di Filippo 
 Venditti e Barbara Tudini: al centro dell’iniziativa\, la volontà di ri
 chiamare in un centro di storica bellezza come Fossanova un’appassionata
  comunità di artisti\, giovani allievi e spettatori della danza\, dando v
 ita ad un appuntamento di arricchimento e condivisione culturale aperto a 
 tutti. In programma ad Arte in danza 2023: stage con docenti di fama inter
 nazionale e un concorso per giovani talenti. Un fine settimana interamente
  dedicato all’arte tersicorea e alle sue mille sfaccettature: come mater
 ia di studio\, linguaggio espressivo\, occasione di confronto\, scambio di
  idee ed emozioni.\n\n“La danza è di grande interesse per i nostri giov
 ani ed è motivo di crescita\, impegno e sacrificio\, oltre che un sogno\,
  per molti\, ancora da realizzare - sottolineano i curatori dell’iniziat
 iva\, Barbara Tudini e Filippo Venditti. - Diventare ballerini non è semp
 lice e in Italia sono ancora poche le opportunità per gli aspiranti\n\npr
 ofessionisti: per questo\, abbiamo pensato di dar vita ad Arte in danza\, 
 in quanto importante occasione di incontro tra giovani allievi e grandi ar
 tisti. Un contesto in cui scuole di danza\, ballerine e ballerini\, potran
 no mettere in mostra il proprio talento\, in un clima di sana competizione
  e con la concreta possibilità di ricevere premi e borse di studio”.\n\
 nAll’intento dei direttori artistici di realizzare un fine settimana di 
 alta formazione si è aggiunta la volontà di coniugare la bellezza dell
 ’arte tersicorea con le suggestioni architettoniche di Fossanova\, borgo
  medievale e complesso monastico cistercense tra i più belli d’Italia\,
  identificato dalla Regione Lazio come eccellenza del nostro patrimonio st
 orico e artistico. Classico\, neoclassico\, contemporaneo\, modern\, hip h
 op\, urban\, improvvisazione: questi gli stili di danza che animeranno gli
  spazi dell'Auditorium dell'Infermeria dei Conversi di Fossanova\, luminos
 o edificio risalente al XIII secolo\, oggi adibito ad Auditorium e spazio 
 culturale per mostre e manifestazioni.\n\nArte in danza 2023 | PROGRAMMA\n
 \nStage\n\nSi terranno sabato 14 gennaio le classi di danza (aperte ad all
 ieve e allievi da tutta Italia) con i maestri\, coreografi e direttori di 
 importanti realtà di formazione professionale. Ospiti\, per le lezioni di
  tecnica classica e punte\, Tadeus Matacz\, Direttore della scuola di John
  Cranko a Stoccarda\, Nicoletta Pizzariello\, docente dell’Accademia Naz
 ionale di Danza \, Cristina Saso \, Resident Ballet Mistress e Talent Scou
 t della European School of Ballet diretta da Jean Yves Esquerre\; per il c
 ontemporaneo\, Michele Merola\, direttore artistico della MM Contemporary 
 Dance Company e del progetto di perfezionamento professionale Agora Coachi
 ng Project\, e Dario Lupinacci\, coreografo di Fama Internazionale \, Marc
 o Ludani\, coreografo e Direttore Artistico della compagnia Ocram Dance Mo
 vement\; per le lezioni di riequilibrio posturale per danzatori\, Annamari
 a Salzano\, dott ssa in Fisioterapia e Posturologia\, docente di Anatomia 
 applicata alla danza presso la Scuola dell’Opera di Roma.\n\nConcorso\n\
 nI maestri faranno parte della Giuria della prima edizione del Concorso Ar
 te in Danza\, in programma a Fossanova nella giornata di domenica 15 Genna
 io\, aperto ad allieve/i\, scuole di danza\, danzatrici e danzatori di tut
 te le nazionalità. Un’ulteriore opportunità\, per i giovani talenti\, 
 di farsi notare dai maestri e direttori presenti in commissione e di ricev
 ere borse di studio per formazione\, perfezionamento e tirocinio professio
 nale. La competizione prevede quattro livelli: Primi passi (7/9 anni)\, Al
 lievi (10/12 anni)\, Juniores (13/16 anni)\, Seniores (17/26 anni)\; tre s
 ezioni: solisti\, passo a due\, gruppi\; quattro categorie: classico/neocl
 assico\, contemporaneo\, modern\, hip hop/fusion e contaminazioni.\n\nAd A
 rte in danza\, formazione\, competizione e approfondimento: un’occasione
  per apprendere da vicino il metodo di insegnamento di alcuni tra i più p
 restigiosi centri di formazione professionale\, per immergersi nella creat
 ività contemporanea e per mettersi alla prova in palcoscenico.\n\nArte in
  danza sarà l’occasione per tornare ad assaporare la magia del teatro\,
  dopo anni difficili per l’intero settore\, ma anche per conoscere i div
 ersi volti della danza in un contesto di scambio artistico-culturale tra m
 aestri e allievi\, protagonisti della scena e pubblico. “Grazie ad alcun
 i dei massimi esponenti dell’arte tersicorea\, il pubblico potrà tornar
 e ad ammirare la danza e apprezzare\, nello stesso tempo\, la bellezza del
  territorio di Priverno e Fossanova - sottolineano i curatori. - Un evento
  nato per promuovere la cultura della danza e dello spettacolo dal vivo\, 
 che mira ad un arricchimento formativo e alla valorizzazione della storia 
 di questi luoghi meravigliosi”.
ATTACH;FMTTYPE=image/jpeg:https://lazioeventi.com/wp-content/uploads/2023/
 01/arte-in-danza-jpeg.jpg
CATEGORIES:Musica, Spettacoli e Danza nel Lazio,Varie
LOCATION:Priverno\, Comune di Priverno\, Priverno\, Latina\, Lazio\, Italia
GEO:41.4734;13.1817
X-APPLE-STRUCTURED-LOCATION;VALUE=URI;X-ADDRESS=Comune di Priverno\, Priver
 no\, Latina\, Lazio\, Italia;X-APPLE-RADIUS=100;X-TITLE=Priverno:geo:41.47
 34,13.1817
END:VEVENT
BEGIN:VTIMEZONE
TZID:Europe/Rome
X-LIC-LOCATION:Europe/Rome
BEGIN:STANDARD
DTSTART:20221030T020000
TZOFFSETFROM:+0200
TZOFFSETTO:+0100
TZNAME:CET
END:STANDARD
END:VTIMEZONE
END:VCALENDAR