BEGIN:VCALENDAR
VERSION:2.0
PRODID:-//wp-events-plugin.com//7.2.3.1//EN
TZID:Europe/Rome
X-WR-TIMEZONE:Europe/Rome
BEGIN:VEVENT
UID:39958@lazioeventi.com
DTSTART;TZID=Europe/Rome:20241006T180000
DTEND;TZID=Europe/Rome:20241006T200000
DTSTAMP:20240927T080220Z
URL:https://lazioeventi.com/eventi/arte-lotta-resilienza-la-storia-di-arte
 misia-gentileschi
SUMMARY:Arte\, lotta\, resilienza: la storia di Artemisia Gentileschi - Rom
 a - 6 Ottobre 24 18:00
DESCRIPTION:Arte\, lotta\, resilienza: la storia di Artemisia Gentileschi r
 ivive nello spettacolo di Controtempo Theatre \n\nOspite di ExtraOrdinario
  Live Festival\, rassegna artistica multidisciplinare e inclusiva che appr
 ofondisce temi quali diversità sociale\, culturale\, di genere\, filosofi
 ca\; disabilità\; ambiente ed ecosostenibilità\, Controtempo Theatre sar
 à in scena con lo spettacolo Artemisia Gentileschi il 6 ottobre alle ore 
 18:00 presso il Teatro Furio Camillo di Roma\, con la regia di Lilith Peti
 llo. \n\nLa grandezza di Artemisia non risiede solo nel suo talento di pit
 trice (o pittora come lei stessa si definiva): è considerata un’icona f
 emminista rivoluzionaria e un’artista innovativa per l’energia travolg
 ente che seppe infondere nella rappresentazione della figura femminile. La
  formazione di Artemisia avvenne nell’atelier del padre che era frequent
 ato da molti pittori\, tra i quali Agostino Tassi. La diciottenne Artemisi
 a è lusingata dalle sue attenzioni\, forse si innamora\, forse crede alle
  sue promesse di matrimonio.\n\nIn un giorno di maggio del 1611\, mentre O
 razio lavora sulle impalcature della Loggetta delle Muse\, Agostino stupra
  Artemisia. La Gentileschi decide di denunciare il Tassi per stupro in un
 ’epoca in cui la violenza sessuale non era considerata un reato contro l
 a donna\, ma contro l’onore della famiglia. Lo spettacolo teatrale\, att
 uale e profondo\, con Lilith Petillo e Venanzio Amoroso\, pone la figura d
 i Artemisia in relazione agli uomini che le hanno\, in qualche modo\, “c
 ondizionato” l’esistenza. Sembra quasi trascorrere una vita sotto proc
 esso. La troviamo immersa in un contesto “amaro” con le sue paure ed a
 nsie\, le sue colpe\, a lottare con tenacia per la propria affermazione co
 me donna e come artista.  Arte\, lotta\, resilienza\, questi i punti focal
 i della rappresentazione. La regia si concentra sull’aspetto contemporan
 eo di tale vicenda lasciando un messaggio positivo. \n\nArtemisia ci inseg
 na che il dolore e la vergogna possono essere sublimate in bellezza. La su
 a vita rappresenta una rivincita contro una società gretta e maschilista.
  In un mondo in cui la violenza sulle donne è un dramma ancora esistente\
 , storie come la sua possono essere un esempio per tutte le donne\, affinc
 hé non si perda mai la propria voce e la forza di lottare attivamente con
 tro abitudini tossiche e comportamenti profondamente umilianti. \n\nContat
 ti per informazioni e prenotazioni: extraordinariofestivalroma@gmail.com /
  346 734 6677\n\nExtraOrdinario Live Festival è ideato ed organizzato da 
 Controtempo Theatre. Il progetto è realizzato con il sostegno del Ministe
 ro della Cultura - Direzione Generale Spettacolo ed è vincitore dell'Avvi
 so Pubblico Lo spettacolo dal vivo fuori dal Centro -Anno 2024 promosso da
  Roma Capitale - Dipartimento Attività Culturali in collaborazione con LE
 A e SIAE.
ATTACH;FMTTYPE=image/jpeg:https://lazioeventi.com/wp-content/uploads/2024/
 09/Foto-Artemisia-1.jpg
CATEGORIES:Musica, Spettacoli e Danza nel Lazio
LOCATION:Roma\, Via Leopardi\, Roma\, Roma\, Lazio\, Italia
GEO:41.8942;12.5017
X-APPLE-STRUCTURED-LOCATION;VALUE=URI;X-ADDRESS=Via Leopardi\, Roma\, Roma\
 , Lazio\, Italia;X-APPLE-RADIUS=100;X-TITLE=Roma:geo:41.8942,12.5017
END:VEVENT
BEGIN:VTIMEZONE
TZID:Europe/Rome
X-LIC-LOCATION:Europe/Rome
BEGIN:DAYLIGHT
DTSTART:20240331T030000
TZOFFSETFROM:+0100
TZOFFSETTO:+0200
TZNAME:CEST
END:DAYLIGHT
END:VTIMEZONE
END:VCALENDAR