BEGIN:VCALENDAR
VERSION:2.0
PRODID:-//wp-events-plugin.com//7.2.3.1//EN
TZID:Europe/Rome
X-WR-TIMEZONE:Europe/Rome
BEGIN:VEVENT
UID:31118@lazioeventi.com
DTSTART;TZID=Europe/Rome;VALUE=DATE:20220716
DTEND;TZID=Europe/Rome;VALUE=DATE:20220724
DTSTAMP:20220526T102445Z
URL:https://lazioeventi.com/eventi/artepiano-international-festival-compet
 ition
SUMMARY:ArtePiano International Festival & Competition - Castelnuovo di Far
 fa - 16 Luglio 22 00:00
DESCRIPTION:Una stagione estiva musicale tutta da scoprire\nCresce l’atte
 sa per una stagione estiva musicale tutta da scoprire. Sulla spinta del co
 ncerto di presentazione del 4 dicembre 2021 (tutto esaurito già due mesi 
 prima) è iniziato il conto alla rovescia per assicurarsi il biglietto i 
 “7 concerti per 7 sere” del Festival. A poche ore dalla prevendita si 
 registra un boom di richieste da parte dei fruitori dei concerti dal vivo 
 e degli appassionati di musica classica\, merito sicuramente della levatur
 a internazionale di concertisti famosi in tutto il mondo quali dal Sud Afr
 ica (Niel du Preez)\, dal Giappone (Yuki Negishi – Aisa Ijiri)\, dall’
 Italia (Roberto Russo)\, dalla Spagna (Concepción Pérez-Boj)\, dalla Sve
 zia (Kristin Malmborg)\, dal Regno Unito (Phil Merriman)\, dalla Bulgaria 
 (Pavle Krstic) e infine dalla Serbia (LP Duo).\n\nLa forte richiesta di bi
 glietti\, la limitata capienza della Chiesa di San Nicola da Bari (solo 18
 0 posti) e una politica dei prezzi promozionale\, sta scatenando una corsa
  senza precedenti per assicurarsi il biglietto unico (Festival Pass) di 
 € 35\,00 (il più richiesto) che comprende l’ingresso ai 7 concerti se
 rali\, all’apericena post concerto del 16 luglio e alla cena di gala pos
 t concerto del 23 luglio 2022.\n\nArtePiano International Festival &amp\; 
 Competition sarà il primo del suo genere nella provincia di Rieti. Il fes
 tival è aperto a tutti i pianisti di età pari o superiore a 13 anni inte
 ressati a sviluppare le proprie abilità pianistiche. Ci saranno 20 spazi 
 disponibili per gli studenti partecipanti\, provenienti da tutto il mondo\
 , attratti dal luogo e dalla nostra facoltà di insegnamento composta da 4
  insegnanti di fama internazionale: Niel du Preez (Sud Africa)\, Yuki Negi
 shi (Giappone)\, Mark Nixon (Sud Africa)\, Roberto Russo (Italia). La sett
 imana sarà scandita da lezioni mattutine e pomeridiane aperte al pubblico
  durante le quali sarà possibile ascoltare musica e condividere l’esper
 ienza con gli studenti. Ogni sera sarà previsto un concerto con Musicisti
  di fama mondiale.\n\n&nbsp\;\n\nPROGRAMMA\n\n 	Sabato 16 Luglio – Solo\
 , Duo &amp\; 8 mani piano extravaganza.\n 	Domenica 17 Luglio – Violonce
 llo\, Opera &amp\; Piano\n 	Lunedì 18 Luglio – Jazz Piano Hour\n 	Marte
 dì 19 Luglio – Claude Debussy &amp\; Mario Russo\n 	Mercoledì 20 Lugli
 o – Solo Piano Recital – Pavle Krstic\n 	Giovedì 21 Luglio - ArtePian
 o International Competition 2022 – Showcase Concert\n 	Venerdì dì 22 L
 uglio - ArtePiano International Competition 2022 - FINAL ROUND Winner’s 
 Ceremony\n 	Sabato 23 Luglio – LPDUO Live\n\n&nbsp\;\n\nGli spettacoli s
 aranno preceduti da attività ricreative culturali e corsi di gastronomia 
 Sabina a base di olio e.v.o.\n\nI concerti verranno diffusi in diretta in 
 tutto il centro storico\, attraverso apparecchi installati in tutte le vie
  del borgo.\n\nI Biglietti cartacei sono disponibili presso gli info point
 s a Castelnuovo di Farfa\n\nI Biglietti online sono disponibili al seguent
 e indirizzo https://arte-piano.com/product/festival-pass/\n\n&nbsp\;\n\nAR
 TE PIANO\n\nIL DIRETTORE CREATIVO\n\nDANIELE CIFERRI
ATTACH;FMTTYPE=image/jpeg:https://lazioeventi.com/wp-content/uploads/2022/
 05/ArtePiano-Programma2022-web.jpg
CATEGORIES:Musica, Spettacoli e Danza nel Lazio
LOCATION:Castelnuovo di Farfa\, Comune\, Castelnuovo di Farfa\, Rieti\, Laz
 io\, Italia
GEO:42.232;12.743
X-APPLE-STRUCTURED-LOCATION;VALUE=URI;X-ADDRESS=Comune\, Castelnuovo di Far
 fa\, Rieti\, Lazio\, Italia;X-APPLE-RADIUS=100;X-TITLE=Castelnuovo di Farf
 a:geo:42.232,12.743
END:VEVENT
BEGIN:VTIMEZONE
TZID:Europe/Rome
X-LIC-LOCATION:Europe/Rome
BEGIN:DAYLIGHT
DTSTART:20220327T030000
TZOFFSETFROM:+0100
TZOFFSETTO:+0200
TZNAME:CEST
END:DAYLIGHT
END:VTIMEZONE
END:VCALENDAR