BEGIN:VCALENDAR
VERSION:2.0
PRODID:-//wp-events-plugin.com//7.2.3.1//EN
TZID:Europe/Rome
X-WR-TIMEZONE:Europe/Rome
BEGIN:VEVENT
UID:31887@lazioeventi.com
DTSTART;TZID=Europe/Rome;VALUE=DATE:20220826
DTEND;TZID=Europe/Rome;VALUE=DATE:20220829
DTSTAMP:20220803T124615Z
URL:https://lazioeventi.com/eventi/arti-e-mestieri-festa-di-santantonino
SUMMARY:Arti e Mestieri - Festa di Sant'Antonino - Fara in Sabina - 26 Agos
 to 22 00:00
DESCRIPTION:"ARTI E MESTIERI - FESTA DI SANT'ANTONINO" - (10° edizione)\nC
 entro Storico di Fara in Sabina (RI)\n"Musica popolare\, Folklore\,Arti\, 
 Mestieri\,Artigianato\,Prodotti tipici ...a spasso nel tempo per le vie di
  un antico centro storico"\n\nRICERCA ESPOSITORI \nper  Mercatino di Arti
 \, Mestieri\, Artigianato\, Prodotti Tipici\n&nbsp\;\n\nDa Venerdì 26  a
  Domenica 28 Agosto 2022 nel centro storico di Fara in Sabina (RI) saranno
  organizzate una serie di iniziative ed eventi culturali dedicati alla val
 orizzazione delle eccellenze artigianali\, artistiche e dei prodotti tipic
 i di qualità diffusi nel nostro territorio\, che permetteranno a turisti 
 e visitatori occasionali di conoscere culture e tradizioni locali.   Le 
 tre giornate saranno arricchite da numerose iniziative in programma che fa
 ranno da cornice al mercatino artistico artigianale: intrattenimento music
 ale\,artisti di strada\, giocolieri\, teatro e spettacoli folkloristici.\n
 \nNei giorni di  Sabato 27 e Domenica 28 Agosto\, gli artigiani presenti 
 potranno organizzare liberamente propri laboratori e dimostrazioni al pubb
 lico delle tecniche di lavorazione e vendere i propri prodotti .   Lo sp
 azio utilizzato sarà quello della piazza e dei vicoli del centro storico 
 dove si svolgerà la manifestazione.\n\nPer contatti e informazioni   : 
 Uff. Promozione del Territorio - 328/7425694 - t.tidona@comunefarainsabina
 .rieti.it\n\nIl termine per l'invio delle adesioni degli artigiani che int
 endono esporre  è fissato per il 20/08/2022.
LOCATION:Fara in Sabina\, Comune\, Fara in Sabina\, Rieti\, Lazio\, Italia
GEO:42.2099;12.7291
X-APPLE-STRUCTURED-LOCATION;VALUE=URI;X-ADDRESS=Comune\, Fara in Sabina\, R
 ieti\, Lazio\, Italia;X-APPLE-RADIUS=100;X-TITLE=Fara in Sabina:geo:42.209
 9,12.7291
END:VEVENT
BEGIN:VTIMEZONE
TZID:Europe/Rome
X-LIC-LOCATION:Europe/Rome
BEGIN:DAYLIGHT
DTSTART:20220327T030000
TZOFFSETFROM:+0100
TZOFFSETTO:+0200
TZNAME:CEST
END:DAYLIGHT
END:VTIMEZONE
END:VCALENDAR