BEGIN:VCALENDAR
VERSION:2.0
PRODID:-//wp-events-plugin.com//7.2.3.1//EN
TZID:Europe/Rome
X-WR-TIMEZONE:Europe/Rome
BEGIN:VEVENT
UID:43094@lazioeventi.com
DTSTART;TZID=Europe/Rome:20251130T173000
DTEND;TZID=Europe/Rome:20251130T190000
DTSTAMP:20251113T121422Z
URL:https://lazioeventi.com/eventi/artisti-per-la-pace
SUMMARY:Artisti per la Pace - Fiumicino - 30 Novembre 25 17:30
DESCRIPTION:Rassegna\nARTISTI PER LA PACE:\n\nORGANIZZAZIONE: Giuseppe Micc
 oli\n\nsponsor ufficiale\nFARMACIA SOCIALE SALVO D'ACQUISTO del dottor Mar
 co Tortorici.\n\n"ARTISTI PER LA PACE" con "ENSEMBLE ARMONIA NASCOSTA".\n\
 nL'evento\, parte dell'iniziativa:\n"Riempiamo le piazze contro gli orrori
  IN PALESTINA\, e per una pace duratura nel mondo intero".\nQuesta Rassegn
 a vuole essere un momento di riflessione e di speranza per una risoluzione
  pacifica dei conflitti globali.\n"LA PIAZZA DELL'UMANITÀ"\n"C'è una mal
 attia da cui non bisognerebbe mai guarire:\nessere malati di pace.\nDa que
 sta patologia non dobbiamo mai guarire"\nDon Tonino Bello\nL'Ensemble Armo
 nia Nascosta con la loro musica\, porteranno un messaggio di pace e di uni
 tà\, invitando tutti a unirsi per chiedere una fine alle violenze e una p
 ace duratura in Palestina e in tutto il mondo.\n\nL'evento è gratuito e a
 perto a tutti. È invitata la partecipazione di cittadini\, associazioni e
  istituzioni per sostenere questa importante iniziativa.\n\nData: Domenica
  30 Novembre\nOra: 17.30\nLuogo: Casa della Partecipazione\,\nVia Del Butt
 ero\,10 \,\nMaccarese-Fiumicino\n\nPer informazioni:\nGIUSEPPE MICCOLI\n33
 8-8150437\nMail: Giuseppemiccoli12@gmail.com\n\nL’Ensemble Armonia Nasco
 sta nasce al Teatro “Le Sedie” di Roma attraverso un'intensa esperienz
 a artistica che ha portato alla produzione di numerose Musiche di Scena pe
 r pièce teatrali come “Signora Ava” (F. Jovine)\, “Stavolta m’amm
 azzo sul serio” (A. Amurri) e “Notizie degli scavi” (F. Lucentini) 
 – con gli adattamenti teatrali di Andrea Pergolari.\nSempre al Teatro "L
 e Sedie" avviene l’incontro con Emanuele Salce che invita l’Ensemble a
 ll’inaugurazione della Mostra\n“Luciano Salce: L’Ironia è una cosa 
 seria” Edizione Centenaria\na Villa Giulia\, Roma.\nIl gruppo svolge att
 ività concertistica in Italia e all'estero soprattutto in Germania (Monac
 o\, Norimberga\, Erlangen ecc.) presentando i due Album discografici finor
 a prodotti:\n• “from hollywood a cinecittà”\n(Italian and American 
 Soundtracks)\n• “while the music plays on”\n(Smooth and Classic Jazz
 )\nBirgit Cicha – Solo Voice\nAlessandra Belfiore – Color Voice\nSecon
 do Flex – Cajon\nBiagio Biondi - Bass\nFranco Di Luca – Piano & Arr.\n
 \nUn ringraziamento speciale agli amici musicisti per la loro partecipazio
 ne e disponibilità per la causa della Pace.\nGrazie di cuore all'amico Ma
 rco Tortorici ed alla Farmacia Sociale Salvo D'Acquisto di Palidoro che ha
 nno generosamente partecipato
ATTACH;FMTTYPE=image/jpeg:https://lazioeventi.com/wp-content/uploads/2025/
 11/artisti-per-la-pace.jpg
CATEGORIES:Arte e Cultura nel Lazio,Musica, Spettacoli e Danza nel
 Lazio,Varie
LOCATION:Fiumicino\, Comune\, Fiumicino\, Roma\, Lazio\, Italia
GEO:41.8026;12.2551
X-APPLE-STRUCTURED-LOCATION;VALUE=URI;X-ADDRESS=Comune\, Fiumicino\, Roma\,
  Lazio\, Italia;X-APPLE-RADIUS=100;X-TITLE=Fiumicino:geo:41.8026,12.2551
END:VEVENT
BEGIN:VTIMEZONE
TZID:Europe/Rome
X-LIC-LOCATION:Europe/Rome
BEGIN:STANDARD
DTSTART:20251026T020000
TZOFFSETFROM:+0200
TZOFFSETTO:+0100
TZNAME:CET
END:STANDARD
END:VTIMEZONE
END:VCALENDAR