BEGIN:VCALENDAR
VERSION:2.0
PRODID:-//wp-events-plugin.com//7.2.3.1//EN
TZID:Europe/Rome
X-WR-TIMEZONE:Europe/Rome
BEGIN:VEVENT
UID:43133@lazioeventi.com
DTSTART;TZID=Europe/Rome:20251214T190000
DTEND;TZID=Europe/Rome:20251214T210000
DTSTAMP:20251118T151656Z
URL:https://lazioeventi.com/eventi/artsvision
SUMMARY:Artsvision - Roma - 14 Dicembre 25 19:00
DESCRIPTION:Il Teatro Monteverde apre le sue porte a una serata che unisce 
 parola e suono in un dialogo armonico: il 14 dicembre il Teatro presenta l
 ’ evento musicale ArtsVision \, un appuntamento dedicato alla forza evoc
 ativa delle arti performative e alla loro capacità di creare legami tra p
 ubblico e artisti.\n\nL’iniziativa nasce dalla volontà di valorizzare i
 l quartiere di Monteverde come punto di riferimento culturale della città
 . Artsvision\, si propone come un percorso che alterna momenti di ascolto 
 musicale a letture interpretate\, guidando gli spettatori in un viaggio na
 rrativo costruito attraverso voci\, melodie e riflessioni.\n\nLa serata of
 frirà interpretazioni di testi scelti per la loro capacità di parlare al
  presente\, accompagnate da interventi musicali che ne amplificheranno il 
 carattere emotivo.\n\nL’obiettivo non è solo intrattenere\, ma creare u
 no spazio di incontro tra sensibilità diverse\, dove ogni spettatore poss
 a riconoscersi in un’immagine\, un brano o una frase.\n\nIl teatro Monte
 verde\, da tempo impegnato nella promozione artistica sul territorio roman
 o\, rinnova così il proprio impegno nel sostenere realtà emergenti e nel
  proporre eventi che diano centralità all’esperienza culturale dal vivo
 . Artsvision\, vuole essere un momento in cui la comunità possa ritrovars
 i attorno alle arti\, riscoprendo la loro funzione sociale e il loro poter
 e di connessione.\n\nIl Teatro Monteverde\, con la sua atmosfera raccolta 
 e la sua storia profondamente intrecciata con il quartiere\, rappresenta l
 a cornice ideale per un evento che mette al centro la bellezza della parol
 a e della musica. L’iniziativa del 14 dicembre aspira a diventare un app
 untamento riconoscibile per il pubblico locale e un’occasione per riacce
 ndere il desiderio di partecipare attivamente alla vita culturale del terr
 itorio.\n\nArtsvision non è solo un titolo evocativo\, ma la promessa di 
 una serata in cui l’arte circola libera\, come un vento che attraversa e
  unisce.
ATTACH;FMTTYPE=image/jpeg:https://lazioeventi.com/wp-content/uploads/2025/
 11/Il-Teatro-Monteverde-di-Roma-Presenta1-1-2.jpg
CATEGORIES:Arte e Cultura nel Lazio
LOCATION:Roma\, Via Leopardi\, Roma\, Roma\, Lazio\, Italia
GEO:41.8942;12.5017
X-APPLE-STRUCTURED-LOCATION;VALUE=URI;X-ADDRESS=Via Leopardi\, Roma\, Roma\
 , Lazio\, Italia;X-APPLE-RADIUS=100;X-TITLE=Roma:geo:41.8942,12.5017
END:VEVENT
BEGIN:VTIMEZONE
TZID:Europe/Rome
X-LIC-LOCATION:Europe/Rome
BEGIN:STANDARD
DTSTART:20251026T020000
TZOFFSETFROM:+0200
TZOFFSETTO:+0100
TZNAME:CET
END:STANDARD
END:VTIMEZONE
END:VCALENDAR