BEGIN:VCALENDAR
VERSION:2.0
PRODID:-//wp-events-plugin.com//7.2.3.1//EN
TZID:Europe/Rome
X-WR-TIMEZONE:Europe/Rome
BEGIN:VEVENT
UID:35759@lazioeventi.com
DTSTART;TZID=Europe/Rome;VALUE=DATE:20250531
DTEND;TZID=Europe/Rome;VALUE=DATE:20250602
DTSTAMP:20250506T054052Z
URL:https://lazioeventi.com/eventi/asinitaly
SUMMARY:AsinItaly - Allumiere - 31 Maggio 25 00:00
DESCRIPTION:Fiera e Festa dell'asino\n\nStreet food di prodotti tipici loca
 li di primissima qualità\, dalle lumache \, alla cane maremmana \, pasta 
  con il grano del senatore Cappelli \, bruschette \, mentucciata \, formag
 gi di latte d'asina \, miele \, zafferano\, dolci\, frutta  e tanto altro 
 \, ovviamente fiumi di vino delle fantastiche cantine di Allumiere !!\n\nS
 tand enogastronomici sempre aperti .\nInizio manifestazione sabato ore 15.
 00.\n\nEsposizione di tutte la razze d'Italia riconosciute.\n(Piazza della
  Repubblica )\nStand enogastronomii ed espositori  aperti tutto il giorno 
 ..\n\nPER I BAMBINI\n- Passeggiate con gli asinelli per le vie del paese a
  cura dell'associazione country Food.\n- gonfiabili e tanti giochi
ATTACH;FMTTYPE=image/jpeg:https://lazioeventi.com/wp-content/uploads/2023/
 06/asinitaly.jpg
CATEGORIES:Fiere e Mercatini nel Lazio
LOCATION:Allumiere\, Comune\, Allumiere\, Roma\, Lazio\, Italia
GEO:42.1563;11.9021
X-APPLE-STRUCTURED-LOCATION;VALUE=URI;X-ADDRESS=Comune\, Allumiere\, Roma\,
  Lazio\, Italia;X-APPLE-RADIUS=100;X-TITLE=Allumiere:geo:42.1563,11.9021
END:VEVENT
BEGIN:VTIMEZONE
TZID:Europe/Rome
X-LIC-LOCATION:Europe/Rome
BEGIN:DAYLIGHT
DTSTART:20250330T030000
TZOFFSETFROM:+0100
TZOFFSETTO:+0200
TZNAME:CEST
END:DAYLIGHT
END:VTIMEZONE
END:VCALENDAR