BEGIN:VCALENDAR
VERSION:2.0
PRODID:-//wp-events-plugin.com//7.2.3.1//EN
TZID:Europe/Rome
X-WR-TIMEZONE:Europe/Rome
BEGIN:VEVENT
UID:33335@lazioeventi.com
DTSTART;TZID=Europe/Rome:20221207T203000
DTEND;TZID=Europe/Rome:20221207T233000
DTSTAMP:20221202T105024Z
URL:https://lazioeventi.com/eventi/assokappa-magic-show-roma
SUMMARY:AssoKappa Magic Show Roma - Roma - 7 Dicembre 22 20:30
DESCRIPTION:La grande magia torna a Roma\n\nSi terrà mercoledì 7 Dicembre
  alle ore 20:30 presso il Teatro Don Bosco di Cinecittà (sito in via Publ
 io Valerio 63)\, lo show di Natale più magico che si sia MAI visto.\nL’
 evento prodotto da AssoKappa (il #1 Shop Online di Magia e Cartomagia) ved
 rà la partecipazione dei migliori artisti della scena “magica” romana
 .\n\nInterverranno: Jack Nobile (noto youtuber\, che è riuscito a trasfor
 mare l’amore per la magia in un lavoro di successo)\, Daniele Lepantinì
  (anche conosciuto come Mago Lupus)\, Matteo Fraziano (Prestigiatore e Ill
 usionista) e Andrea Sestieri (Illusionista\, prestigiatore\, mago).\n\nLa 
 serata sarà presentata da Francesco Leardini noto anche come il prestigia
 tore Mister Ardin e dall’attore Enio Drovandi famoso per i suoi personag
 gi all’interno di film cult del cinema italiano come Sapore di Mare\, Am
 ici Miei\, Eccezzziunale Veramente. Ha lavorato anche con Steno e Corbucci
 .\nLa regia e l’organizzazione sono affidate a Francesco Leardini.\n\nPa
 rtner dello show il Club Magico Fernando Riccardi .\n\nQuesto evento nasce
  dalla forte esigenza di realizzare un momento di leggerezza dopo i lunghi
  ultimi due anni di chiusura.\nIllusioni\, magia\, saranno protagoniste di
  questa serata dedicata alle famiglie\, dove grandi e piccini potranno res
 tare incantati dinanzi alla bravura dei protagonisti dello show.\nUno spet
 tacolo perfetto per tutta la famiglia.\n\nI biglietti sono disponibili sul
  sito https://billetto.it/it/e/740941 o presso AssoKappa Roma sito in Via 
 Livilla 11.
ATTACH;FMTTYPE=image/jpeg:https://lazioeventi.com/wp-content/uploads/2022/
 12/AssoKappa-Magic-Show-ROMA.jpg
CATEGORIES:Sport, Tempo Libero e Divertimento nel Lazio
LOCATION:Roma\, Via Leopardi\, Roma\, Roma\, Lazio\, Italia
GEO:41.8942;12.5017
X-APPLE-STRUCTURED-LOCATION;VALUE=URI;X-ADDRESS=Via Leopardi\, Roma\, Roma\
 , Lazio\, Italia;X-APPLE-RADIUS=100;X-TITLE=Roma:geo:41.8942,12.5017
END:VEVENT
BEGIN:VTIMEZONE
TZID:Europe/Rome
X-LIC-LOCATION:Europe/Rome
BEGIN:STANDARD
DTSTART:20221030T020000
TZOFFSETFROM:+0200
TZOFFSETTO:+0100
TZNAME:CET
END:STANDARD
END:VTIMEZONE
END:VCALENDAR