BEGIN:VCALENDAR
VERSION:2.0
PRODID:-//wp-events-plugin.com//7.2.3.1//EN
TZID:Europe/Rome
X-WR-TIMEZONE:Europe/Rome
BEGIN:VEVENT
UID:38171@lazioeventi.com
DTSTART:20250221T200000Z
DTEND:20250222T213000Z
DTSTAMP:20250120T101943Z
URL:https://lazioeventi.com/eventi/atina-jazz-winter-gennaio
SUMMARY:Atina Jazz Winter - Atina - 21 Febbraio 25 21:00
DESCRIPTION:Concerti a ingresso libero fino ad esaurimento posti. \n\nSi co
 nsiglia la prenotazione all'indirizzo mail kunoichi2008@hotmail.it o diret
 tamente sui social ufficiali del Festival.\nVi aspettiamo!
ATTACH;FMTTYPE=image/jpeg:https://lazioeventi.com/wp-content/uploads/2023/
 12/atina_jazz_winter2025.webp
CATEGORIES:Musica, Spettacoli e Danza nel Lazio
LOCATION:Atina\, Comune\, Atina\, Frosinone\, Lazio\, Italia
GEO:41.6344;13.7876
X-APPLE-STRUCTURED-LOCATION;VALUE=URI;X-ADDRESS=Comune\, Atina\, Frosinone\
 , Lazio\, Italia;X-APPLE-RADIUS=100;X-TITLE=Atina:geo:41.6344,13.7876
END:VEVENT
END:VCALENDAR