BEGIN:VCALENDAR
VERSION:2.0
PRODID:-//wp-events-plugin.com//7.2.3.1//EN
TZID:Europe/Rome
X-WR-TIMEZONE:Europe/Rome
BEGIN:VEVENT
UID:25086@lazioeventi.com
DTSTART:20250918T170000Z
DTEND:20250928T220000Z
DTSTAMP:20250918T081341Z
URL:https://lazioeventi.com/eventi/attraversamenti-multipli
SUMMARY:Attraversamenti Multipli - Roma - 18 Settembre 25 18:00
DESCRIPTION:Danza - Teatro - Musica - Site specific - Nella natura urbana\n
 \nCOEXISTENCE / COESISTENZA è la key word / il tema che accompagna il 25
 ° viaggio di Attraversamenti Multipli e sottotraccia continua ed essere p
 resente la parola che ci ha guidato nel percorso delle edizioni 2023 e 202
 4: fragile.\n\nAttraversamenti Multipli 2025 mette al centro delle sue azi
 oni il concetto della COESISTENZA con l’altro da sé.\nIl nostro pianeta
  è fragile sempre più colpito da guerre\, emergenze climatiche\, disegua
 glianze e crisi umanitarie. Viviamo in un pianeta danneggiato ma è l’u
 nico pianeta che abbiamo.\nIn questo scenario globale diventa vitale il te
 ma della sostenibilità - ambientale e sociale - e la possibilità di cost
 ruire trame e dinamiche di COESISTENZA. Non siamo autosufficienti\, siamo 
 una realtà articolata e complessa dove tutto è connesso attraverso relaz
 ioni non lineari: terra\, clima\, esseri umani\, animali\, piante\, cultur
 e.\n\nLa coesistenza è una postura\, è un punto da cui partire per costr
 uire traiettorie capaci di includere e di accogliere\, capaci di delineare
  il pianeta terra come un luogo dove tutt_ hanno diritto a esistere e a vi
 vere (esseri umani\, culture\, animali\, piante\, …)\n\nAlessandra Ferra
 ro e Pako Graziani / Margine Operativo\n\nCOMPAGNIE / ARTISTƏ in azione a
  Attraversamenti Multipli 2025\n(in ordine di apparizione)\nSAMER ZAHER / 
 BEIRUT PHYSICAL LAB (Libano) | CHRISTOPHE AL HABER (Libano) | NICOLA GALLI
  | RODRIGO D’ERASMO | LACASADARGILLA ROBERTO LATINI + GIANLUCA MISITI | 
 FLxER + LIZ | MICHELLE SCAPPA | CATERINA PALAZZI + FRANCESCO BUCCI | ARNAU
  PÉREZ (Spagna) | FABRIZIO SAIU MICHELE DI STEFANO / MK | MARGINE OPERATI
 VO | FRANCESCO LEINERI + ANGELICA SIMEONI | ELISA SBARAGLI / TIR DANZA |\n
 CARLO MASSARI / C&amp\;C COMPANY | MICHELA DEPETRIS / CODEDUOMO | ULTIMI F
 UOCHI TEATRO | CORNELIA | ATELIERSI |\nCAMPSIRAGO RESIDENZA | LEONARDO DEL
 OGU + VALERIO SIRNA / DOM- ANDREA MINEO / COLLETTIVO CLOWN | SILVIA MARTIN
 I / CORDATA F.O.R.\n\nIl viaggio di Attraversamenti Multipli - il festival
  multidisciplinare dedicato alle arti performative contemporanee\, curato 
 dal gruppo Margine Operativo con la direzione artistica di Alessandra Ferr
 aro e Pako Graziani - nella sua\n25a edizione prosegue il suo percorso di 
 confronto con gli spazi pubblici\, la ricerca sulle interazioni / espansio
 ni tra diversi linguaggi artistici e crea dinamiche per sperimentare intre
 cci innovativi ed ecosostenibili tra le pratiche delle arti sceniche\, gli
  spazi urbani naturali e le comunità.\n\nCOEXISTENCE / COESISTENZA è la
  key word / il tema che accompagna il 25° viaggio di Attraversamenti Mult
 ipli e sottotraccia continua ed essere presente la parola che ci ha guidat
 o nel percorso delle edizioni 2023 e 2024: fragile.\n\nAll’interno di un
  arco progettuale focalizzato sulla sostenibilità\n\nAttraversamenti Mult
 ipli dal 18 al 28 settembre abita la natura urbana del Parco di Torre del 
 Fiscale (Roma) - che è parte del Parco Archeologico dell’Appia Antica -
  e propone un multiforme programma di performance\, spettacoli\, site spec
 ific\, formati peformativi in dialogo con lo straordinario paesaggio natur
 ale e archeologico di questo polmone verde della metropoli policentrica in
  un’ottica green.\nSono otto i giorni di spettacoli al Parco di Torre de
 l Fiscale: il 18\,19\,20\,21\, 25\, 26\,27\,28 settembre\nIl percorso del 
 festival prosegue il 4 e 5 ottobre negli gli spazi urbani del centro stori
 co di Toffia (Rieti) dove propone due giornate di spettacoli dedicate alle
  nuove generazioni di spettatori.\n\nSempre all’interno della scelta del
  festival di porsi in una dinamica ecologica una parte del programma si sv
 olge in orari inconsueti: in ogni giornata il festival inizia con delle pe
 rformance accompagnato dalla luce naturale\, per poi spostarsi nella dimen
 sione luminosa del tramonto / crepuscolo e infine della notte.\n\nL’elem
 ento che accomuna i diversi formati performativi proposti è la loro modal
 ità “morbida” di relazionarsi con il pubblico e il paesaggio\, creand
 o degli habitat accoglienti e inclusivi. Questa dinamica relazionale costr
 uisce una linea di ricerca artistica generativa capace di delineare una mo
 dalità ecologica delle relazioni tra le persone e tra l’uomo e l’ambi
 ente.\n\nAttraversamenti Multipli 2025 coinvolge 25 compagnie di artistie 
 presenta 38 performance / spettacoli / site specific di cui nove in prima 
 nazionale e sono quattro i formati performativi creati in esclusiva per il
  festival\n\nNel programma di Attraversamenti Multipli 2025 nella prospett
 iva della interconnessione tra azione artistica / spettatori / natura urba
 na\, sono presenti: site specific creati per il festival in interazione co
 n gli spazi che li accolgono\, progetti artistici con formati relazionali 
 particolari che cercano di dissolvere i confini tra performers e spettator
 i\, percorsi sonori immersivi\, spettacoli dedicati alle nuove generazioni
  di spettatori\, performance che ibridano diversi generi artistici.\n\nINF
 ORMAZIONI\n\nROMA | Parco di Torre Del Fiscale – via dell’Acquedotto F
 elice 120\ndate eventi artistici: 18\,19\,20\,21\, 25\, 26\, 27\, 28 sette
 mbre\n\nBIGLIETTO GIORNALIERO: 12 Euro\nRidotto (Under 26 e Over 65) … 6
  Euro\n\nIl biglietto giornaliero dà diritto a seguire tutte le performan
 ce / gli spettacoli in programma in una singola giornata.\n\nIl biglietto 
 giornaliero è previsto per le performance / gli spettacoli in programma n
 ei giorni\n18\,19\,20\, 21\, 25\, 26\, 27 settembre.\n\nPer gli spettacoli
  / le performance in programma il giorno 28 settembre è previsto il bigli
 etto singolo per ogni spettacolo / performance con biglietto ridotto a 6 E
 uro per tutt_\n\nAVVISI\n&gt\; le performance “Peripatetiche dell’asco
 lto” (21 settembre) e “Resti dell’Antropocene” (27 settembre)\nSON
 O RIVOLTE A UN NUMERO LIMITATO DI SPETTATORI.\nSono comprese nel biglietto
  giornaliero ma è RICHIESTA LA PRENOTAZIONE scrivendo a info@attraversame
 ntimultipli.it\n\n&gt\; lo spettacolo “Alberi maestri kids” per bambin
 i/e dai 4 anni (28 settembre h 11.30 e h 16.30)\n&gt\; la performance / ta
 lk “Con gli occhi aperti in un ruggito” di Dom- (28 settembre h 18 )\n
 prevedono il BIGLIETTO SINGOLO A PREZZO RIDOTTO PER TUTTI_ ( = 6 euro per 
 ogni spettacolo)\n\nIL BIGLIETTO GIORNALIERO SI PUÒ ACQUISTARE:\n\n&gt\; 
 ONLINE &gt\;\nsu Marte Ticket &gt\; (in vendita dal 20 agosto)\n\n&gt\; al
 la Biglietteria del Festival nei giorni degli eventi:\nLa Biglietteria si 
 trova all’entrata principale del PARCO DI TORRE DEL FISCALE\,\nVia Dell
 ’Acquedotto Felice 120\, Roma\nÈ aperta tutti i GIORNI DEGLI EVENTI (ap
 re 1 ora prima dell’inizio degli spettacoli)\n\nMOBILITÀ SOSTENIBILE &g
 t\; COME RAGGIUNGERE IL PARCO DI TORRE DEL FISCALE\n\nPer chi raggiunge Il
  Parco di Torre del Fiscale con mezzi pubblici: Metro linea A fermata “P
 orta Furba”\n\nIn bicicletta è raggiungibile attraverso la pista cicla
 bile della via Tuscolana e del Parco dell’Appia Antica.\n\nIl Parco di T
 orre del Fiscale è dotato di due parcheggi gratuiti:\nun parcheggio all
 ’ingresso principale in via dell’Acquedotto Felice 120 dove si trova a
 nche l’info-point e la Biglietteria del Festival e un parcheggio all’e
 ntrata in Via di Torre Branca snc (difronte ai n. 104 – 106)\n\nwww.attr
 aversamentimultipli.it\ninformazioni: info@attraversamentimultipli.it\ntel
 efono e ws: 351.9832005\nIL PROGRAMMA SINTETICO\nROMA / Parco di Torre del
  Fiscale / Via dell’Acquedotto Felice 120\nGIOVEDI 18 SETTEMBRE\nh 18.30
  | performance | danza | Libano |\nSAMER ZAHER / Beirut Physical Lab\nAnce
 stral echoes\n\nh 19 | performance | danza | Libano |\nCHRISTOPHE AL HABER
  / Beirut Physical Lab\nFragmentation\n\nh 20 | spettacolo | danza e music
 a |\nRODRIGO D'ERASMO + NICOLA GALLI\nSconfinamenti\n\ndalle h 18 | instal
 lazione sonora immersiva | site specific |\nLACASADARGILLA\nLettere al lup
 o\n\ndalle h 18 | installazione | teatro | site specific |\nROBERTO LATINI
  + GIANLUCA MISITI\nTre Balene\n\ndalle h 20 | video live performance | vi
 sual site specific |\nLIZ + FLxER\nCoexistence\nVENERDI 19 SETTEMBRE\nh 18
  | performance | site specific | danza |\nNICOLA GALLI / TIR DANZA\nCosmor
 ama\n\nh 19 | performance | danza |\nMICHELLE SCAPPA\nPapillon\n\nh 19.30 
 | concerto |\nCATERINA PALAZZI e FRANCESCO BUCCI\nDuo degli abissi marini\
 n\ndalle h 18 | installazione sonora immersiva | site specific |\nLACASADA
 RGILLA\nLettere al lupo\n\ndalle h 18 | installazione | site specific | te
 atro |\nROBERTO LATINI + GIANLUCA MISITI\nTre Balene\nSABATO 20 SETTEMBRE\
 nh 18.30 | performance | site specific | danza |\nMICHELLE SCAPPA\nThere i
 s a Planet\n\nh 19 | performance | danza | Spagna |\nARNAU PÉREZ\nVibrà!
 \n\nh 20 | presentazione progetto editoriale + reading performativo |\nGiu
 liano Scabia – TEATRO\nCollana in sei volumi a cura di Massimo Marino (e
 d. Marsilio)\nGiuliano Scabia – TEATRO Nello spazio degli scontri 1964-1
 971\na cura di Massimo Marino (ed. Marsilio\, 2024)\npresentazione a cura 
 di Valentina Valentini e Massimo Marino\n\nh 20 | reading performativo | t
 eatro |\nLACASADARGILLA\nCarta\, parole\, vermi. Liquori\, dolori\, denti 
 d’oro\n\ndalle h 18 | installazione sonora immersiva | site specific |\n
 LACASADARGILLA\nLettere al lupo\n\ndalle h 18 | installazione | site speci
 fic | teatro |\nROBERTO LATINI + GIANLUCA MISITI\nTre Balene\n\ndalle h 20
  | video live performance | visual site specific |\nLIZ + FLxER\nCoexisten
 ce\nDOMENICA 21 SETTEMBRE\nh 16 | performance sonora | pratiche + esploraz
 ioni sonore | site specific\nFABRIZIO SAIU\nPeripatetiche dell’ascolto\n
 \nh 18 | site specific | danza |\nMK\nUno stato eternamente nascente - sim
 ulazioni di prossimità\n\ndalle h 16 | installazione sonora immersiva | s
 ite specific |\nLACASADARGILLA\nLettere al lupo\n\ndalle h 16 | installazi
 one | site specific | teatro |\nROBERTO LATINI + GIANLUCA MISITI\nTre Bale
 ne\nGIOVEDI 25 SETTEMBRE\nh 19 | performance | site specific | danza |\nMA
 RGINE OPERATIVO\nI’ll be back\n\nh 19.30 | performance | esito laborator
 io | canto corale |\nFRANCESCO LEINERI\nPolifonie Urbane_ecosistemi\n\nh 2
 0 | performance | musica |\nFRANCESCO LEINERI + ANGELICA SIMEONI\nMondi lo
 ntanissimi\n\ndalle h 18 | installazione sonora immersiva | site specific 
 |\nLACASADARGILLA\nLettere al lupo\n\ndalle h 18 | installazione | site sp
 ecific | teatro |\nROBERTO LATINI + GIANLUCA MISITI\nTre Balene\nVENERDI 2
 6 SETTEMBRE\nh 17.30 | talk | incontro | pratiche performative |\nFARSI CO
 RPO\ncon Carlo Massari / C&amp\;C Company\n\nh 18.30 | performance | site 
 specific | danza |\nELISA SBARAGLI / TIR DANZA\nMirada\n\nh 19 | performan
 ce | site specific | danza |\nMICHELA DEPETRIS / Codeduomo\nWWW (ambient)\
 n\nh 20 | performance | site specific | danza |\nCARLO MASSARI / C&amp\;C 
 Company\nStrano\n\ndalle h 17 | installazione sonora immersiva | site spec
 ific\nLACASADARGILLA\nLettere al lupo\n\ndalle h 17 | installazione | site
  specific | teatro |\nROBERTO LATINI + GIANLUCA MISITI\nTre Balene\n\ndall
 e h 20 | video live performance | visual site specific |\nLIZ + FLxER\nCoe
 xistence\nSABATO 27 SETTEMBRE\nh 17.30 | performance itinerante | site spe
 cific | teatro |\nULTIMI FUOCHI TEATRO\nResti dell'antropocene\n\nh 19 | p
 erformance | site specific | danza |\nCORNELIA\nThe Nature of\nh 19.30 | p
 erformance | site specific | danza |\nCARLO MASSARI / C&amp\;C Company\nSt
 rano\n\nh 20 | spettacolo | teatro |\nATELIERSI\nWe did it!\n\ndalle 17 | 
 installazione sonora immersiva | site specific |\nLACASADARGILLA\nLettere 
 al lupo\ndalle h 17 | installazione | site specific | teatro |\n\nROBERTO 
 LATINI + GIANLUCA MISITI\nTre Balene\ndalle h 20 | video live performance 
 | visual site specific |\nLIZ + FLxER\nCoexistence\nDOMENICA 28 SETTEMBRE\
 nh 11.30 | spettacolo itinerante | site specifc | teatro | per bambini/e d
 ai 4 anni\nCAMPSIRAGO RESIDENZA\nAlberi maestri Kids\n\nh 16.30 | spettaco
 lo itinerante | site specific | teatro | per bambini/e dai 4 anni\nCAMPSIR
 AGO RESIDENZA\nAlberi maestri Kids\n\nh 18 | talk performativo + proiezion
 i video |\nDOM-\nCon gli occhi aperti in un ruggito\nil teatro di paesaggi
 o di Dom-\n\ndalle h 11 | installazione sonora immersiva | site specific\n
 LACASADARGILLA\nLettere al lupo\n\ndalle h 11 | installazione | site speci
 fic | teatro |\nROBERTO LATINI + GIANLUCA MISITI\nTre Balene\n\nTOFFIA (Ri
 eti)\nPiazza Umberto I\nSabato 4 OTTOBRE\nh 16.30 | spettacolo | circo con
 temporaneo | dai 0 ai 99 anni\nSILVIA MARTINI\nHappy Hop\n\ndalle h 16 | i
 nstallazione sonora immersiva | site specific\nLACASADARGILLA\nLettere al 
 lupo\nDomenica 5 OTTOBRE\n16.30 | spettacolo | circo contemporaneo | dai 0
  ai 99 ani\nANDREA MINEO / COLLETTIVO CLOWN\nBoato\ndalle h 16 | installaz
 ione sonora immersiva | site specific\n\nLACASADARGILLA\nLettere al lupo\n
 \nwww.attraversamentimultipli.it\ninformazioni: info@attraversamentimultip
 li.it\ntelefono e ws: 351.9832005
ATTACH;FMTTYPE=image/jpeg:https://lazioeventi.com/wp-content/uploads/2019/
 09/Attraversamenti-Multipli-2025-Programma-1.jpg
CATEGORIES:Musica, Spettacoli e Danza nel Lazio
LOCATION:Roma\, Via Leopardi\, Roma\, Roma\, Lazio\, Italia
GEO:41.8942;12.5017
X-APPLE-STRUCTURED-LOCATION;VALUE=URI;X-ADDRESS=Via Leopardi\, Roma\, Roma\
 , Lazio\, Italia;X-APPLE-RADIUS=100;X-TITLE=Roma:geo:41.8942,12.5017
END:VEVENT
END:VCALENDAR