BEGIN:VCALENDAR
VERSION:2.0
PRODID:-//wp-events-plugin.com//7.2.3.1//EN
TZID:Europe/Rome
X-WR-TIMEZONE:Europe/Rome
BEGIN:VEVENT
UID:29968@lazioeventi.com
DTSTART;TZID=Europe/Rome:20220317T000000
DTEND;TZID=Europe/Rome:20220320T000000
DTSTAMP:20220303T212643Z
URL:https://lazioeventi.com/eventi/attraverso-la-finestra
SUMMARY:Attraverso la Finestra - Cerveteri - 17 Marzo 22 00:00
DESCRIPTION:Secondo festival etrusco contro il razzismo\nMargot Theatre è 
 felice di annunciare che a marzo avrà luogo la seconda edizione del Festi
 val etrusco contro il Razzismo!\n\nUn evento tanto atteso per la sua porta
 ta: integrazione\, cultura\, condivisione ed espressione.\n\nVi aspettiamo
  numerosi\, non perdetevelo!\n\nUna rassegna di quattro giorni\, con narra
 zioni e esibizioni\, collegate dal nucleo tematico dell'apertura verso l'A
 ltro.\n\nNella sua seconda edizione il Festival vuole fare solo una rifles
 sione negativa: al contrario\, la rassegna vuole celebrare l'apertura vers
 o le altre culture.\n\nQuattro giorni di multiculturalismo e ricchezza esp
 ressiva per creare un ambiente ricco\, dove il dialogo non sia tra cultura
  ospitante e cultura ospitata\, ma tra cittadini del mondo.
ATTACH;FMTTYPE=image/jpeg:https://lazioeventi.com/wp-content/uploads/2022/
 03/attraverso-la-finestra.jpg
CATEGORIES:Varie,Arte e Cultura nel Lazio
LOCATION:Cerveteri\, Comune di Cerveteri\, Cerveteri\, Roma\, Lazio\, Itali
 a
GEO:41.9938;12.0935
X-APPLE-STRUCTURED-LOCATION;VALUE=URI;X-ADDRESS=Comune di Cerveteri\, Cerve
 teri\, Roma\, Lazio\, Italia;X-APPLE-RADIUS=100;X-TITLE=Cerveteri:geo:41.9
 938,12.0935
END:VEVENT
BEGIN:VTIMEZONE
TZID:Europe/Rome
X-LIC-LOCATION:Europe/Rome
BEGIN:STANDARD
DTSTART:20211031T020000
TZOFFSETFROM:+0200
TZOFFSETTO:+0100
TZNAME:CET
END:STANDARD
END:VTIMEZONE
END:VCALENDAR