BEGIN:VCALENDAR
VERSION:2.0
PRODID:-//wp-events-plugin.com//7.2.3.1//EN
TZID:Europe/Rome
X-WR-TIMEZONE:Europe/Rome
BEGIN:VEVENT
UID:26743@lazioeventi.com
DTSTART;TZID=Europe/Rome:20200705T103000
DTEND;TZID=Europe/Rome:20200705T200000
DTSTAMP:20200625T070120Z
URL:https://lazioeventi.com/eventi/autoproduci-amo-pane-saponi-ben-essere
SUMMARY:Autoproduci-Amo: Pane\, Saponi\, Ben-Essere - Montenero Sabino - 5 
 Luglio 20 10:30
DESCRIPTION:Una giornata immersi nella Natura della Sabina al Pianeta Verde
 . Sotto l’ampia veranda con vista sulle montagne\, verrai guidato dall
 ’esperta Isabella Martines in due autoproduzioni: dei saponi e/o del pan
 e. Riduciamo i consumi\, riduciamo l’inqu
ATTACH;FMTTYPE=image/jpeg:https://lazioeventi.com/wp-content/uploads/2020/
 06/saponi.jpg
CATEGORIES:Varie
LOCATION:Montenero Sabino\, Comune Montenero Sabino\, Montenero Sabino\, It
 alia
GEO:42.2814388;12.813188099999934
X-APPLE-STRUCTURED-LOCATION;VALUE=URI;X-ADDRESS=Comune Montenero Sabino\, M
 ontenero Sabino\, Italia;X-APPLE-RADIUS=100;X-TITLE=Montenero Sabino:geo:4
 2.2814388,12.813188099999934
END:VEVENT
BEGIN:VTIMEZONE
TZID:Europe/Rome
X-LIC-LOCATION:Europe/Rome
BEGIN:DAYLIGHT
DTSTART:20200329T030000
TZOFFSETFROM:+0100
TZOFFSETTO:+0200
TZNAME:CEST
END:DAYLIGHT
END:VTIMEZONE
END:VCALENDAR