BEGIN:VCALENDAR
VERSION:2.0
PRODID:-//wp-events-plugin.com//7.2.3.1//EN
TZID:Europe/Rome
X-WR-TIMEZONE:Europe/Rome
BEGIN:VEVENT
UID:28464@lazioeventi.com
DTSTART;TZID=Europe/Rome:20211016T180000
DTEND;TZID=Europe/Rome:20211017T193000
DTSTAMP:20211014T160501Z
URL:https://lazioeventi.com/eventi/beethoven-festival-sutri-2021-2021-10-1
 6
SUMMARY:Beethoven Festival Sutri 2021 - Sutri - 16 Ottobre 21 18:00
DESCRIPTION:Il concerto del 16 ottobre del QUARTETTO RASNA è stato ANNULLA
 TO per motivi tecnici.\n\nLa grande musica è diva a Sutri con la ventesim
 a edizione del Beethoven Festival Sutri.\n\nÈ alle porte il BEETHOVEN FES
 TIVAL SUTRI 2021 che\, lanciato nel 2002 dall’Associazione Amici della M
 usica di Sutri in uno dei borghi più antichi e misteriosi del Lazio\, rag
 giunge così l’ambizioso traguardo di ventesima edizione con circa 200 c
 oncerti realizzati negli anni. Quasi tutti gli undici appuntamenti della m
 anifestazione\, organizzata con il contributo del Comune di Sutri\, della 
 Fondazione Carivit e della Banca Lazio Nord\, prenderanno vita nella splen
 dida sede della Chiesa romanica di San Francesco nell’incantevole locali
 tà della Tuscia. L’emergenza sanitaria da Covid-19 ha determinato un ca
 mbio di periodo del Festival che anche quest’anno è stato posticipato e
  si realizzerà dal 4 settembre al 30 ottobre. Come consolidata tradizione
  i concerti in programma sono stati scelti con estrema cura e attenzione\,
  rendendo il cartellone un mosaico di alto livello nonché di grande respi
 ro. L’Associazione Amici della Musica di Sutri dunque\, con l’entusias
 mo e la vitalità che l’ha sempre contraddistinta\, presenta il cartello
 ne dell’edizione 2021.\n\nA inaugurare la stagione sarà la pianista Ann
 a Lisa Bellini che è tra i fondatori del Beethoven Festival Sutri nonché
  ideatrice e curatrice dell’aspetto artistico. Sabato 4 settembre ore 18
 \, Chiesa di san Francesco (Sutri)\, sarà proprio il suo recital pianisti
 co dal titolo “È possibile narrare il tempo?” a omaggiare e celebrare
  il considerevole traguardo del ventennale. La pianista\, molto amata dal 
 publbico del festival\, eseguirà la Sonata op.109 di Beethoven\, Passeggi
 ata in riva al mare di Mario Guido Scappucci (composizione a lei dedicata 
 che verrà eseguita in prima assoluta) e i celeberrimi 24 Preludi op.28 di
  Chopin.\n\nSabato 11 settembre alle ore 18\, Chiesa di san Francesco (Sut
 ri)\, prenderà vita un appuntamento di straordinario interesse dal titolo
  “Dalla prima alla seconda scuola di Vienna”. Il concerto sarà affida
 to al Quartetto di Fiesole che\, in attività da oltre trenta anni\, è un
 a delle formazioni di punta del panorama cameristico italiano. Alina Compa
 ny e Simone Ferrari violino\, Flaminia Zanelli viola e Sandra Bacci violon
 cello\, porteranno in scena tre grandi compositori. Il programma si aprir
 à\, infatti\, con il quartetto in do maggiore KV157 di Mozart e Langsamer
  Satz di Webern\, per concludersi con il celeberrimo Quartetto op.29 “Ro
 samunda” di Schubert.\n\nEvento di prestigio sarà il terzo appuntamento
  che\, sabato 18 settembre ore 18 Chiesa di san Francesco (Sutri)\, vedrà
  protagonisti il grande violinista Carlo Maria Parazzoli\, primo violino s
 olista dell’Orchestra dell’Accademia Nazionale di Santa Cecilia\, e la
  coinvolgente pianista Anna Lisa Bellini. I due artisti collaborano insiem
 e da oltre trenta anni ed eseguiranno due capolavori per violino e pianofo
 rte del tardo Romanticismo francese: la Sonata op.13 di Faurè e la Sonata
  in la maggiore di Franck.\n\nOrganizzato in collaborazione con la Direzio
 ne Regionale Musei Lazio\, il quarto imperdibile appuntamento si svolgerà
  eccezionalmente nella Sala della Conversazione del Casino Montalto a Vill
 a Lante ( Bagnaia) e sarà affidato al talentuoso fisarmonicista Gianluca 
 Campi\, vincitore del Trofeo Mondiale nel 2000 in Portogallo. Il concerto 
 in programma domenica 19 settembre alle ore 18\, come suggerito dal titolo
  “Elaborazioni e variazioni”\, sarà interamente dedicato a composizio
 ni di Vivaldi\, Paganini\, Strauss\, Rossini\, Larionov\, Monti e Brahms\,
  originalmente scritte per altri organici e magistralmente rielaborate per
  fisarmonica dallo stesso Campi.\n\nSabato 25 settembre alle ore 18\, Chie
 sa di san Francesco (Sutri)\, sarà la volta del concerto dal titolo “Tr
 a Classicismo e Romanticismo”\, secondo recital pianistico in cartellone
 . Protagonista sarà l’acclamato pianista Marco Vincenzi\, già ospite e
 stremamente apprezzato in passate edizioni\, che eseguirà al pianoforte l
 a Sonata op. 13 “Patetica” di Beethoven incastonata tra altri due capo
 lavori: la sonata in do maggiore K330 di Mozart e gli Studi Sinfonici op.1
 3 di Schumann.\n\nAltro evento di prestigio sarà il quinto appuntamento i
 n programma\, lunedì 27 settembre alle ore 19.30 nella Chiesa di san Fran
 cesco (Sutri). In scena andrà il grande violinista Vincenzo Bolognese\, p
 rimo violino di spalla del teatro dell'Opera di Roma\, impegnato in un con
 certo dedicato all’integrale dei 24 Capricci di Paganini. L’opera è u
 n autentico capolavoro del grande compositore genovese che\, con meravigli
 osa essenzialità nonché ricchezza\, spazia nei vari campi della tecnica 
 violinistica.\n\nL’immancabile momento dedicato ai giovani talenti emerg
 enti si svolgerà lunedì 4 ottobre alle ore 19.30 (ingresso libero)\, Chi
 esa di san Francesco a Sutri. Vincitori di importanti concorsi nazionali\,
  Matteo Bonaccorso flauto\, e Marco Nucci flauto\, insieme al pianista Sim
 one Mechelli\, daranno vita ad un programma particolarmente interessante. 
 Verranno eseguiti il Duetto IV in do maggiore da Sei Duetti per due flauti
  op.2 di Quantz\, la Sonata n.2 per due flauti di Telemann\, il Concerto i
 n sol maggiore per due flauti di Cimarosa\, Momento musicale op.16 n.4 di 
 Rachamninoff e la sesta Raposida ungherese di Liszt per pianoforte\, per c
 oncludere con la Fantasia su Rigoletto op.38 di Cimarosa.\n\n“Ricordi it
 aliani e spagnoli per 88 tasti e 6 corde” è il titolo dell’ottavo app
 untamento in programma sabato 9 ottobre alle 18\, Chiesa di san Francesco 
 (Sutri). Sul palco saliranno Lapo Vannucci chitarra e Luca Torrigiani pian
 oforte\, due artisti legati da profonda amicizia uniti in duo con l'intent
 o di esplorare nuovi ambiti della musica. I due acclamati interpreti\, in 
 una combinazione cameristica insolita quanto ricercata\, proporranno una s
 erie di brani che\, per autori o per ”colori”\, saranno dedicati all
 ’Italia e alla Spagna\, spaziando tra autori come Mozart\, Beethoven\, R
 ossini\, Carcassi\, Castelnuovo-Tedesco\, Torroba\, Tárrega\, Procaccini\
 , Di Fiore e Bigazzi &amp\; Colonna.\n\nIn primo piano per il nono appunta
 mento\, in programma sabato 16 ottobre alle ore 18 (Chiesa di San Francesc
 o - Sutri)\, ci sarà il Quartetto Rasna\, formazione costituita da quattr
 o musicisti di eccellenza che sono orgoglio della Tuscia: Alessandro Cervo
  violino\, Gianluca Giganti violoncello\, Gianluca Saggini viola e Anna Li
 sa Bellini pianoforte. Per gli appassionati del Beethoven Festival Sutri i
  quattro artisti hanno scelto un programma molto avvincente dal titolo “
 Nella linea maestra dei grandi Quartetti” . Verranno messi a confronto d
 ue capisaldi del repertorio per archi e pianoforte: il Quartetto in mib ma
 ggiore op.16 di Beethoven e il Quartetto in mib maggiore op.47 di Schumann
 .\n\nGli ultimi due appuntamenti\, a cento anni dalla nascita\, renderanno
  omaggio al grande compositore argentino Astor Piazzolla. Sabato 23 ottobr
 e ore 18\, Chiesa di San Francesco Sutri\, Ivo Scarponi al violoncello e M
 oira Michelini al pianoforte saliranno sul palco per regalare un concerto 
 molto ricco e allettante dal titolo “Anima Argentina”. I due grandi so
 listi eseguiranno Pampeana n.2 di Ginastera incastonata tra 3 Tangos\, Obl
 ivion\, Esqualo\, Adiós Nonino e Le Grand Tango di Astor Piazzolla.\n\nL
 ’appuntamento conlcusivo della XX edizione del Beethoven Festival Sutri\
 , sabato 30 ottobre ore 18\, Chiesa di San Francesco Sutri\, sarà affidat
 o al travolgente Duo Maclè formato dalle pianiste Sabrina Dente e Annamar
 ia Garibaldi: quattro mani che accarezzano ed esaltano i tasti del pianofo
 rte. Il programma dal titolo “Blu Tango” si aprirà con una ricercata 
 selezione di brani di Astor Piazzolla (Adiós Nonino\, La muerte del Angel
 \, Introduccion al Angel\, Fracanapa\, Fuga y misterio\, Allegro tangabile
 \, Tres minutos con la realidad e Primavera Porteña) per concludersi con 
 la Rapsodia in blu\, una delle più famose composizioni dello statunitense
  George Gershwin.\n\n-----------------------------------------------------
 --------------------------------------------\nIl Beethoven Festival Sutri 
 2021 è organizzato nel rispetto delle norme per la sicurezza sanitaria in
  vigore. È vivamente consigliata la prenotazione tramite WhatsApp (o SMS)
  al numero telefonico 353.3756855 oppure all’indirizzo email info@beetho
 venfestivalsutri.com entro le ore 12.00 del giorno del concerto. I bigliet
 ti (ingresso 10 Euro) si potranno acquistare all'ingresso a partire da un'
 ora prima dell'inizio dei concerti ed i posti saranno abbinati alle prenot
 azioni. Esclusivamente per il concerto derl 19.09.21\, l’accesso è cons
 entito a seguito di prenotazione obbligatoria da richiedere all’indirizz
 o mail drm-laz.villalante@beniculturali.it .\nPer informazioni più dettag
 liate si invita a consultare il sito www.beethovenfestivalsutri.com.\n----
 --------------------------------------------------------------------------
 --------------------
ATTACH;FMTTYPE=image/jpeg:https://lazioeventi.com/wp-content/uploads/2021/
 09/manifesto-2021-web.jpg
CATEGORIES:Arte e Cultura nel Lazio,Musica, Spettacoli e Danza nel Lazio
LOCATION:Sutri\, Comune\, Sutri\, Viterbo\, Lazio\, Italia
GEO:42.2419;12.2247
X-APPLE-STRUCTURED-LOCATION;VALUE=URI;X-ADDRESS=Comune\, Sutri\, Viterbo\, 
 Lazio\, Italia;X-APPLE-RADIUS=100;X-TITLE=Sutri:geo:42.2419,12.2247
END:VEVENT
BEGIN:VTIMEZONE
TZID:Europe/Rome
X-LIC-LOCATION:Europe/Rome
BEGIN:DAYLIGHT
DTSTART:20210328T030000
TZOFFSETFROM:+0100
TZOFFSETTO:+0200
TZNAME:CEST
END:DAYLIGHT
END:VTIMEZONE
END:VCALENDAR