BEGIN:VCALENDAR
VERSION:2.0
PRODID:-//wp-events-plugin.com//7.2.3.1//EN
TZID:Europe/Rome
X-WR-TIMEZONE:Europe/Rome
BEGIN:VEVENT
UID:42498@lazioeventi.com
DTSTART;TZID=Europe/Rome:20251109T180000
DTEND;TZID=Europe/Rome:20251109T193000
DTSTAMP:20251105T201422Z
URL:https://lazioeventi.com/eventi/beethoven-festival-sutri-2025-10-05-202
 5-10-12-2025-10-19-2025-10-26-2025-11-02-2025-11-09
SUMMARY:Beethoven Festival Sutri - Sutri - 9 Novembre 25 18:00
DESCRIPTION:Domenica 9 novembre alle ore 18 (ingresso libero)\, dopo una se
 ttimana di sospensione\, la 24ª edizione del Beethoven Festival Sutri rip
 rende il suo viaggio in onore della grande pianista Maria Tipo\, recenteme
 nte scomparsa. \n\nLa Chiesa di San Francesco di Sutri\, sede storica dell
 a manifestazione e teatro di tutti gli appuntamenti in programma quest’a
 nno\, ospiterà il secondo concerto che la kermesse dedica a giovani e tal
 entuosi musicisti del territorio\, studenti o ex studenti del Liceo Musica
 le “S. Rosa da Viterbo” tra cui alcuni “allievi degli allievi di Mar
 ia Tipo”. \n\nSin dalla fondazione il Beethoven Festival Sutri ha sempre
  valorizzato le nuove generazioni di talenti emergenti della Tuscia che ha
 nno intrapreso un percorso di formazione altamente professionale. \n\nAlcu
 ni tra i protagonisti dell’evento in programma hanno in curriculum numer
 osi primi premi e riconoscimenti in importanti Concorsi Musicali e sono gi
 à noti al pubblico di appassionati che segue la manifestazione. \n\nEntra
 ndo nel dettaglio\, il programma del concerto vedrà l’esecuzione dell
 ’Improvviso in sol bemolle maggiore op. 90 n.4 di Schubert (Marco Scatol
 ini pianoforte)\, la Sonata in fa minore op.2 n.1 di Beethoven (Ludovico P
 recoma pianoforte)\, la Sonata in do maggiore Hob: XVI:50 di Haydn (Daniel
 e Tarantino pianoforte)\, la Partita in si bemolle maggiore BWV 825 di Bac
 h ( Simone Mechelli pianoforte)\, l’ Andante Cantabile e Allegro dalla S
 onata op. 65 per due violini di Prokofieff (Gabriele e Matteo Lucarelli vi
 olini)\, per concludere con il Capriccio n.24 di Paganini (Gabriele Lucare
 lli violino).\n\nIl Beethoven Festival Sutri 2025\, ideato e curato sin da
 lla fondazione dall’Associazione Amici della Musica di Sutri sotto la di
 rezione artistica di Anna-Lisa Bellini\, è organizzato dall’ Ass. Amici
  della Musica di Sutri insieme al Comune di Sutri\, con il contributo dell
 a Regione Lazio\, della Provincia di Viterbo nonché della Banca Lazio Nor
 d e dell’Agenzia Funebre Fabrizi.
ATTACH;FMTTYPE=image/jpeg:https://lazioeventi.com/wp-content/uploads/2020/
 08/Beethoven-Festival-Sutri.jpg
CATEGORIES:Musica, Spettacoli e Danza nel Lazio
LOCATION:Sutri\, Comune\, Sutri\, Viterbo\, Lazio\, Italia
GEO:42.2419;12.2247
X-APPLE-STRUCTURED-LOCATION;VALUE=URI;X-ADDRESS=Comune\, Sutri\, Viterbo\, 
 Lazio\, Italia;X-APPLE-RADIUS=100;X-TITLE=Sutri:geo:42.2419,12.2247
END:VEVENT
BEGIN:VTIMEZONE
TZID:Europe/Rome
X-LIC-LOCATION:Europe/Rome
BEGIN:STANDARD
DTSTART:20251026T020000
TZOFFSETFROM:+0200
TZOFFSETTO:+0100
TZNAME:CET
END:STANDARD
END:VTIMEZONE
END:VCALENDAR