BEGIN:VCALENDAR
VERSION:2.0
PRODID:-//wp-events-plugin.com//7.2.3.1//EN
TZID:Europe/Rome
X-WR-TIMEZONE:Europe/Rome
BEGIN:VEVENT
UID:37510@lazioeventi.com
DTSTART;TZID=Europe/Rome:20231028T183000
DTEND;TZID=Europe/Rome:20231028T203000
DTSTAMP:20231024T075152Z
URL:https://lazioeventi.com/eventi/bernini-e-borromini
SUMMARY:Bernini e Borromini - Itri - 28 Ottobre 23 18:30
DESCRIPTION:Non Fatevelo Raccontare\n\nAd Itri tornano gli appuntamenti con
  la Grande Arte con uno tra i più importanti Critici d'Arte e Accademici 
 Italiani\, Filosofo e Saggista il Prof. GIUSEPPE DI GIACOMO e con la parte
 cipazione straordinaria del Direttore Culturale del Cinema Farnese di Roma
 \, il dott. Riccardo Tavani.\n\nLezione sull'Arte \n"Bernini e Borromini"\
 nSabato 28 Ottobre\nOre 18.30\nAula Consiliare - Comune di Itri\nIngresso 
 Gratuito \n\nQueste due grandi personalità del ‘600 lasciarono un’imp
 ronta indelebile nella Città Eterna\, ma cosa si nasconde dietro le loro 
 opere?\nBernini e Borromini non erano soltanto dei grandissimi architetti 
 e scultori ma dei veri e propri geni della loro epoca.\nMaestri assoluti s
 enza ombra di dubbio\, diversi ma interdipendenti\, opposti ma complementa
 ri. \n\nPresentano:\nRobert Rivera e Jennifer Assaiante 
ATTACH;FMTTYPE=image/jpeg:https://lazioeventi.com/wp-content/uploads/2023/
 10/lezioni-arte.jpg
CATEGORIES:Arte e Cultura nel Lazio
LOCATION:Itri\, Piazza Umberto I\, Itri\, Latina\, Lazio\, Italia
GEO:41.290876;13.531233
X-APPLE-STRUCTURED-LOCATION;VALUE=URI;X-ADDRESS=Piazza Umberto I\, Itri\, L
 atina\, Lazio\, Italia;X-APPLE-RADIUS=100;X-TITLE=Itri:geo:41.290876,13.53
 1233
END:VEVENT
BEGIN:VTIMEZONE
TZID:Europe/Rome
X-LIC-LOCATION:Europe/Rome
BEGIN:DAYLIGHT
DTSTART:20230326T030000
TZOFFSETFROM:+0100
TZOFFSETTO:+0200
TZNAME:CEST
END:DAYLIGHT
END:VTIMEZONE
END:VCALENDAR