BEGIN:VCALENDAR
VERSION:2.0
PRODID:-//wp-events-plugin.com//7.2.3.1//EN
TZID:Europe/Rome
X-WR-TIMEZONE:Europe/Rome
BEGIN:VEVENT
UID:38759@lazioeventi.com
DTSTART;TZID=Europe/Rome:20240323T151500
DTEND;TZID=Europe/Rome:20240323T173000
DTSTAMP:20240312T164932Z
URL:https://lazioeventi.com/eventi/bernini-vs-borromini-al-quirinale-santa
 ndrea-e-san-carlino
SUMMARY:Bernini vs Borromini al Quirinale: Sant’Andrea e San Carlino - Ro
 ma - 23 Marzo 24 15:15
DESCRIPTION:Una visita guidata assolutamente da non perdere per andare insi
 eme alla scoperta di due straordinari capolavori artistici ed architettoni
 ci\, dove lo scontro tra Bernini e Borromini si è fatto sublime! E’ sul
  Quirinale infatti\, a pochi metri di distanza\, che sorgono due important
 i chiese capitoline\, l’una dedicata a Sant’Andrea Apostolo e costruit
 a da Gian Lorenzo Bernini nella fase tarda della sua vita\, tra il 1658 e 
 il 1678\; l’altra edificata in onore della SS. Trinità e di San Carlo B
 orromeo – detta San Carlino – da Francesco Borromini\, che molto aveva
  a cuore il suo santo protettore. I loro caratteri forti e irascibili\, la
  loro genialità e il loro modo di “interpretare” il mondo\, li hanno 
 portati spesso allo scontro\, ma anche a posizionarsi agli antipodi dell
 ’arte barocca del Seicento. Insomma una visita a cui è impossibile manc
 are: ti aspettiamo!\n\n\nQuando: Sabato 23 Marzo 2024 ore 15:15\nAppuntame
 nto in Via del Quirinale n. 30\, all’ingresso della Chiesa di Sant’And
 rea\nCosti: € 12 a persona + € 4 offerta chiese. Prenotazione obbligat
 oria.\nInfo e prenotazioni: L’Asino d’Oro Associazione Culturale | 346
  5920077 | info@lasinodoro.it
ATTACH;FMTTYPE=image/jpeg:https://lazioeventi.com/wp-content/uploads/2024/
 03/bernini-vs-borromini.jpg
CATEGORIES:Arte e Cultura nel Lazio
LOCATION:Roma\, Via Leopardi\, Roma\, Roma\, Lazio\, Italia
GEO:41.8942;12.5017
X-APPLE-STRUCTURED-LOCATION;VALUE=URI;X-ADDRESS=Via Leopardi\, Roma\, Roma\
 , Lazio\, Italia;X-APPLE-RADIUS=100;X-TITLE=Roma:geo:41.8942,12.5017
END:VEVENT
BEGIN:VTIMEZONE
TZID:Europe/Rome
X-LIC-LOCATION:Europe/Rome
BEGIN:STANDARD
DTSTART:20231029T020000
TZOFFSETFROM:+0200
TZOFFSETTO:+0100
TZNAME:CET
END:STANDARD
END:VTIMEZONE
END:VCALENDAR