BEGIN:VCALENDAR
VERSION:2.0
PRODID:-//wp-events-plugin.com//7.2.3.1//EN
TZID:Europe/Rome
X-WR-TIMEZONE:Europe/Rome
BEGIN:VEVENT
UID:33531@lazioeventi.com
DTSTART;TZID=Europe/Rome:20221223T200000
DTEND;TZID=Europe/Rome:20221223T220000
DTSTAMP:20221221T210743Z
URL:https://lazioeventi.com/eventi/big-soul-mama-gospel-choir
SUMMARY:Big Soul Mama Gospel Choir - Formia - 23 Dicembre 22 20:00
DESCRIPTION:Venerdì 23 Dicembre\, alle ore 20:00\, presso la Chiesa Parroc
 chiale dei Santi Lorenzo e Giovanni Battista\, si terrà il concerto "Big 
 Soul Mama Gospel Choir". \n\nL'ingresso è libero.
ATTACH;FMTTYPE=image/jpeg:https://lazioeventi.com/wp-content/uploads/2022/
 12/big-soul-mama-formia.jpg
CATEGORIES:Musica, Spettacoli e Danza nel Lazio
LOCATION:Formia\, Comune\, Formia\, Latina\, Lazio\, Italia
GEO:41.2559;13.6059
X-APPLE-STRUCTURED-LOCATION;VALUE=URI;X-ADDRESS=Comune\, Formia\, Latina\, 
 Lazio\, Italia;X-APPLE-RADIUS=100;X-TITLE=Formia:geo:41.2559,13.6059
END:VEVENT
BEGIN:VTIMEZONE
TZID:Europe/Rome
X-LIC-LOCATION:Europe/Rome
BEGIN:STANDARD
DTSTART:20221030T020000
TZOFFSETFROM:+0200
TZOFFSETTO:+0100
TZNAME:CET
END:STANDARD
END:VTIMEZONE
END:VCALENDAR