BEGIN:VCALENDAR
VERSION:2.0
PRODID:-//wp-events-plugin.com//7.2.3.1//EN
TZID:Europe/Rome
X-WR-TIMEZONE:Europe/Rome
BEGIN:VEVENT
UID:29810@lazioeventi.com
DTSTART;TZID=Europe/Rome:20220305T090000
DTEND;TZID=Europe/Rome:20220626T210000
DTSTAMP:20220204T161834Z
URL:https://lazioeventi.com/eventi/bill-viola-icons-of-light
SUMMARY:BILL VIOLA. Icons of light - Roma - 5 Marzo 22 09:00
DESCRIPTION:BILL VIOLA. Icons of light è il titolo della prossima mostra d
 i Palazzo Bonaparte che\, a partire dal 5 marzo 2022\, renderà omaggio al
  più grande artista della video-arte dagli anni 70 a oggi: BILL VIOLA.\nN
 ei raffinati saloni che furono dimora di Madama Letizia Ramolino Bonaparte
 \, madre di Napoleone\, i visitatori saranno avvolti dalla magia delle ope
 re di Viola\, ipnotizzati dalle immagini di capolavori quali Ascension (20
 00) e i celeberrimi Water Portraits (2015).\n\nIl progetto espositivo\, a 
 cura di Kira Perov\, che prevede l’esposizione di 10 lavori di Bill Viol
 a\, rappresenta un momento di riflessione sull’iperbole concettuale dell
 ’artista statunitense che\, da oltre 40 anni\, realizza lavori che si ri
 volgono costantemente alla dicotomia vita/morte e legati indissolubilmente
  dai contrasti tra oriente e occidente.\n\nI lavori presenti in mostra rap
 presentano una sintesi emblematica del lavoro di Viola\, uno spazio tempor
 ale che ritrae quindi anche lo sviluppo storico della stessa video-arte: a
 ttraverso le più conosciute videoinstallazioni e videoproiezioni\, la ret
 rospettiva narra quelli che possono essere definiti i viaggi più intimi e
  spirituali dell’artista attraverso il mezzo elettronico.\n\nUna mostra 
 concepita come un percorso emozionale nel quale il pubblico potrà acceder
 e a spazi dall'atmosfera ovattata che ricordano luoghi di profonda intimit
 à\, quasi dei sacrari della propria memoria\, un visionario spazio di cul
 to dove il visitatore è invitato a stabilire una profonda connessione vis
 iva e spirituale con l’opera d’arte.\n\nLa mostra BILL VIOLA. Icons of
  light è prodotta e organizzata da Arthemisia.\nBill Viola\, nato nel 195
 1\, è un pioniere nello sviluppo del video come mezzo principale di arte 
 contemporanea. Da oltre 40 anni realizza lavori che si rivolgono costantem
 ente alla vita\, la morte e il viaggio intermedio. Nato a New York City\, 
 Viola si è laureato nel 1973 presso il College of Visual and Performing A
 rts della Syracuse University\, dove ha studiato musica elettronica\, perf
 ormance art e film sperimentali e ha creato il suo primo video funziona co
 n la tempestiva invenzione della videocamera/registratore portatile.\nDopo
  la laurea\, Viola ha trascorso 18 mesi a lavorare a Firenze\, immerso nel
 l’arte e architettura Rinascimentale. In seguito\, insieme a Kira Perov\
 , sua moglie e collaboratrice\, vive in Giappone dal 1980 al 1981\, studia
 ndo la filosofia buddista Zen e sperimentando l'architettura\, la calligra
 fia\, il teatro Noh e molti altri aspetti della cultura giapponese che han
 no influenzato il suo lavoro. Viola si trasferisce poi nel sud della Calif
 ornia\, sebbene lunghi viaggi lo portino alle Isole Salomone nel Pacifico 
 meridionale\, i deserti della Tunisia\, i monasteri buddisti tibetani\, le
  cerimonie di camminata sul fuoco indù nelle Fiji e siti archeologici dei
  nativi americani nel sud-ovest degli Stati Uniti.\nViola ha rappresentato
  gli Stati Uniti nel 1995 alla Venezia Biennale\, e due anni dopo\, una su
 a importante rassegna ha viaggiato a livello internazionale\, tra cui a LA
 CMA.\nAttualmente vive a Long Beach\, California.\n\nOrari\n( dal 5 marzo 
 2022 )dal lunedì al venerdì 9.00 – 19.00\nsabato e domenica 9.00 –
  21.00
ATTACH;FMTTYPE=image/jpeg:https://lazioeventi.com/wp-content/uploads/2022/
 02/descrizione-mostra-bill-viola-01.jpg
CATEGORIES:Arte e Cultura nel Lazio
LOCATION:Roma\, Via Leopardi\, Roma\, Roma\, Lazio\, Italia
GEO:41.8942;12.5017
X-APPLE-STRUCTURED-LOCATION;VALUE=URI;X-ADDRESS=Via Leopardi\, Roma\, Roma\
 , Lazio\, Italia;X-APPLE-RADIUS=100;X-TITLE=Roma:geo:41.8942,12.5017
END:VEVENT
BEGIN:VTIMEZONE
TZID:Europe/Rome
X-LIC-LOCATION:Europe/Rome
BEGIN:STANDARD
DTSTART:20211031T020000
TZOFFSETFROM:+0200
TZOFFSETTO:+0100
TZNAME:CET
END:STANDARD
BEGIN:DAYLIGHT
DTSTART:20220327T030000
TZOFFSETFROM:+0100
TZOFFSETTO:+0200
TZNAME:CEST
END:DAYLIGHT
END:VTIMEZONE
END:VCALENDAR