BEGIN:VCALENDAR
VERSION:2.0
PRODID:-//wp-events-plugin.com//7.2.3.1//EN
TZID:Europe/Rome
X-WR-TIMEZONE:Europe/Rome
BEGIN:VEVENT
UID:26967@lazioeventi.com
DTSTART;TZID=Europe/Rome:20200801T080000
DTEND;TZID=Europe/Rome:20200801T140000
DTSTAMP:20200710T141053Z
URL:https://lazioeventi.com/eventi/blsd-unificato
SUMMARY:BLSD Unificato - Terracina - 1 Agosto 20 08:00
DESCRIPTION:Corso BLSD Unificato (Basic Life Support and Defibrillation) Su
 pporto Vitale di Base con Defibrillazione Al termine di questo corso il pa
 rtecipante sarà in grado di effettuare le manovre di primo intervento e s
 occorso in caso di emergenza grave\, anc
ATTACH;FMTTYPE=image/jpeg:https://lazioeventi.com/wp-content/uploads/2020/
 07/blsd.jpg
CATEGORIES:Varie
LOCATION:Terracina\, Comune\, Terracina\, Latina\, Lazio\, Italia
GEO:41.2912;13.2492
X-APPLE-STRUCTURED-LOCATION;VALUE=URI;X-ADDRESS=Comune\, Terracina\, Latina
 \, Lazio\, Italia;X-APPLE-RADIUS=100;X-TITLE=Terracina:geo:41.2912,13.2492
END:VEVENT
BEGIN:VTIMEZONE
TZID:Europe/Rome
X-LIC-LOCATION:Europe/Rome
BEGIN:DAYLIGHT
DTSTART:20200329T030000
TZOFFSETFROM:+0100
TZOFFSETTO:+0200
TZNAME:CEST
END:DAYLIGHT
END:VTIMEZONE
END:VCALENDAR