BEGIN:VCALENDAR
VERSION:2.0
PRODID:-//wp-events-plugin.com//7.2.3.1//EN
TZID:Europe/Rome
X-WR-TIMEZONE:Europe/Rome
BEGIN:VEVENT
UID:32178@lazioeventi.com
DTSTART;TZID=Europe/Rome:20220910T180000
DTEND;TZID=Europe/Rome:20220910T234500
DTSTAMP:20220904T085352Z
URL:https://lazioeventi.com/eventi/bollicine-in-veroli
SUMMARY:Bollicine in Veroli - Veroli - 10 Settembre 22 18:00
DESCRIPTION:"BOLLICINE IN VEROLI" è l'appuntamento da non perdere del pros
 simo 10 settembre 2022!\n\nNella splendida cornice del centro storico di V
 eroli (FR)\, dalle 18 alle 24\, passeremo una divertente serata all'insegn
 a della qualità made in Italy degustando più di 100 Spumanti diversi. An
 che questa quarta edizione di "BOLLICINE IN VEROLI" è stata organizzata d
 al Comune di Veroli\, dalla Pro Loco di Veroli e dalla Fondazione Italiana
  Sommelier e con il patrocinio della Regione Lazio\, con l'intento di prom
 uovere e divulgare la conoscenza di una parte importante dell'enologia ita
 liana\, lo spumante appunto\, oltre che per valorizzare la bellezza di uno
  dei più importanti centri storici della Ciociaria.\n\nIl palcoscenico sa
 rà sempre il centro storico di Veroli\, antica città ernica\, con quattr
 o isole naturali dove verranno allestiti i banchi di assaggio: Chiostro di
  Sant'Agostino\, Piazza Duomo\, Chiostro Santa Salome\, Terrazza del Vesco
 vado\, Piazza Trulli. In ogni area saranno predisposte delle oasi che acco
 glieranno le aziende vitivinicole presiedute dai nostri preparatissimi som
 melier. Accanto ai banchi d'assaggio dei vini verranno predisposte delle a
 ree per il food con diverse proposte gourmet. Avremo\, come ogni anno\, i 
 fritti del Domus Bistrot\, la simpatica Alicetta targata Osteria Santa Luc
 ia che porta ovunque il sapore del mare\, le mozzarelle di bufala di Amase
 no della Fattoria di Nonna Pitta preparate al momento\, il banco dei forma
 ggi firmato Forme D’autore ed avremo un’area dedicata al premiatissimo
  panettone di Dolcemascolo che potremo degustare in abbinamento a tantissi
 mi spumanti dolci…..non mancheranno inoltre altre gustose proposte. Ad a
 llietare la serata con tanta buona musica.\n\nIl Comune di Veroli\, la Pro
 vincia di Frosinone\, la Camera di Commercio e la Regione Lazio patrociner
 anno l'evento.\n\nQuesta edizione di Bollicine in Veroli è dedicata a Gio
 rgio\, una persona speciale che ha partecipato all'ideazione di questo eve
 nto e che manca molto a tutti noi.\n\nOrario: dalle 18:00 in poi- Prezzo: 
 € 20\,00 (carnet 15 assaggi vini con calice)\nOrario: dalle 17:00 Contri
 buto Degustazione "FRANCIACORTA VS TRENTODOC " € 25\,00 (solo su prenota
 zione)\n\nI temi ed i vini in degustazione\nIl nostro esperto docente\, Lu
 ciano Mallozzi\, vi racconterà la storia di queste due importanti denomin
 azioni italiane che verranno messe a confronto. Parlare di Franciacorta e 
 di Trentodoc significa trattare dei principali vini spumanti\, prodotti co
 n Metodo Classico\, in Italia. Franciacorta e Trentodoc infatti si attesta
 no ai vertici della produzione di vini spumanti di alta qualità in Italia
 . Due prodotti dalla natura simile che sottintende tuttavia due approcci d
 ifferenti alla vinificazione e alla concezione stessa delle bollicine all
 ’italiana. Produzioni\, entrambe\, di assoluto livello che riscuotono ap
 prezzamento sia in Italia che all’estero.\nIn vini verranno rigorosament
 e serviti a temperatura “mallozziana”!\n*TRENTODOC*\n- MONSIEUR MARTIS
  ROSÉ DE NOIR 2017 - Maso Martis\n- ORO ROSSO DOSAGGIO ZERO RISERVA 2017 
 - Cembra Cantina di Montagna\n- VALENTINI DI WEINFELD RISERVA ARMINIO 2015
  - Valentini di Weinfeld\n\n*FRANCIACORTA*\n- FRANCIACORTA EXTRA BRUT "ANI
 MANTE" - Barone Pizzini\n- FRANCIACORTA DOSAGGIO ZERO ERETIQ 2016 - Quadra
 \n- FRANCIACORTA ROSÉ BRUT '61- Berlucchi\n\nAziende partecipanti\nCa’ 
 Del Bosco\, Ferrari\, Berlucchi\, Bellavista\, Uberti\, Monte Rossa\, Tenu
 ta San Leonardo\, Bersano\, Franz Haas\, Kettmeir\, Maso Poli\, Vite Colte
 \, Sergio Mottura\, Mossi 1558\, Zenato\, Farina Wines\, Beni di Batasiolo
 \, Cembra\, Giangirolami\, Ettore Germano\, Castello Bonomi\, Faccioli\, G
 enagricola\, F.lli Berlucchi\, Maeli\, Tenuta Gorghi Tondi\, Vespa\, March
 esi di Montalto\, Zaccagnini\, La Madeleine\, Cincinnato\, Marchesi Antino
 ri\, Mosnel\, Mirabella\, Enrico Serafino\, Casale Luciano\, Adami\, Ceci\
 , Cantina Cominium\, Corte Aura\, D’Araprì\, Poggio Le Volpi\, Ricci Cu
 rbastro\, Bersi Serlini\, Leone de Castris\, Cantina Schiavella\, Bortolom
 iol\, Az. Agricola Casa Divina Provvidenza\, Bedin\, Drusian\, Perlage Win
 ery\, Corvée srl\, Milazzo\, Feudi del Pisciotto\, Francesco Bellei\, La 
 Claudina\, Casale della Ioria\, Marco Carpineti\, Famiglia Cotarella\, Can
 tine Vitevis\, Velenosi\, Monsupello\, Cantine del Notaio\, La Scolca\, F
 èlsina\, Feudi di San Gregorio\, Fongaro\, Cesarini Sforza\, Rotari\, Sel
 la & Mosca\, F.lli Berlucchi\, Historia Antigua\, Quadrigato\, Cantina Mus
 eo Albea\, Logodaj Winery\, Viticoltori dei Colli Cimini\, LaTunella\, San
  Patrignano\, Vigne del Patrimonio\, Villa Raiano\, Arnaldo Caprai\, Tondi
 ni\, Barone Pizzini\, Cantina Puiatti\, Gaierhof\, Valdo … e molto altro
 .\nPartner dell'evento: ACQUA FILETTE\n\nIN CASO DI PIOGGIA LA MANIFESTAZI
 ONE SI TERRA’ ALL’INTERNO DEL PALAZZETTO DELLO SPORT "PALA COCCIA" LOC
 ALITA' AIA DEI FRANCHI (lungo strada provinciale per Alatri)\nPrezzo carne
 t banchi d’assaggio con calice: € 20\,00 (15 assaggi con calice in vet
 ro)\nContributo Degustazione FRANCIACORTA VS TRENTODOC € 25\,00\, alle o
 re 17\,00 presso l’Hotel Relais Filonardi (se si acquista anche il carne
 t per Bollicine in Veroli il prezzo totale sarà di € 40\,00 anzichè 
 € 45\,00 solo per i soci in prevendita)\n\nPrenotazione obbligatoria con
  pre-vendita per le degustazioni e per il ticket d’ingresso. Per le moda
 lità consultare la sezione riguardante la Procedura di Accesso alle Attiv
 ità di Fondazione Italiana Sommelier.
ATTACH;FMTTYPE=image/jpeg:https://lazioeventi.com/wp-content/uploads/2022/
 09/bollicine_veroli2022.jpg
LOCATION:Veroli\, Comune di Veroli\, Veroli\, Frosinone\, Lazio\, Italia
GEO:41.6911;13.4178
X-APPLE-STRUCTURED-LOCATION;VALUE=URI;X-ADDRESS=Comune di Veroli\, Veroli\,
  Frosinone\, Lazio\, Italia;X-APPLE-RADIUS=100;X-TITLE=Veroli:geo:41.6911,
 13.4178
END:VEVENT
BEGIN:VTIMEZONE
TZID:Europe/Rome
X-LIC-LOCATION:Europe/Rome
BEGIN:DAYLIGHT
DTSTART:20220327T030000
TZOFFSETFROM:+0100
TZOFFSETTO:+0200
TZNAME:CEST
END:DAYLIGHT
END:VTIMEZONE
END:VCALENDAR