BEGIN:VCALENDAR
VERSION:2.0
PRODID:-//wp-events-plugin.com//7.2.3.1//EN
TZID:Europe/Rome
X-WR-TIMEZONE:Europe/Rome
BEGIN:VEVENT
UID:38886@lazioeventi.com
DTSTART;TZID=Europe/Rome:20240413T100000
DTEND;TZID=Europe/Rome:20240414T180000
DTSTAMP:20240404T131715Z
URL:https://lazioeventi.com/eventi/bonum-bonta-enogastronomiche-rare-e-par
 ticolari
SUMMARY:Bonum -Bontà Enogastronomiche Rare e Particolari - Roma - 13 April
 e 24 10:00
DESCRIPTION:La Città dell'Altra Economia di Testaccio diventa palcoscenico
  per un evento dedicato alle meraviglie del palato: "Bonum - Bontà Enogas
 tronomiche Rare e Particolari".\n\nPromosso dall'Associazione Culturale St
 rangedays ed Aromarte – Cultura in tavola\, questo evento esclusivo si t
 errà nei giorni 13 e 14 aprile\, dalle 10:00 alle 18:00\, offrendo ai vis
 itatori una totale immersione nelle eccellenze enogastronomiche italiane.\
 n\n"Bonum" si pone come punto di riferimento per gli operatori del settore
 \, per gli amanti del buon cibo e per chi desidera scoprire o riscoprire s
 apori autentici\, frutto di antiche ricette e innovativi\nprocedimenti che
  contraddistinguono le eccellenze italiane nel panorama gastronomico mondi
 ale. L'evento è un'ode alla cultura del cibo di qualità\, promuovendo pr
 odotti enogastronomici rari e particolari che incarnano la tradizione e l'
 innovazione del nostro Paese. Grazie alla preziosa collaborazione con pres
 tigiosi Partner\, tra cui il Liceo Artistico di Via di Ripetta - Roma\, ch
 e allieterà i visitatori con opere d'arte e laboratori creativi il 13 apr
 ile\, AMIRA (Associazione Maitre Italiani Ristoranti e Alberghi)\, Associa
 zione Cibo Futuro\, ONAF (Associazione Italiana Assaggiatori di Formaggio)
 \, Università degli Studi della Tuscia\, AIBES (Associazione Italiana Bar
 man e Sostenitori)\, Ristorante 100% BIO e DMO "H2O Tevere Mare"\, l'event
 o promette di essere un'esperienza unica nel suo genere.\n\nVi sarà una f
 iera mercato con circa 23 aziende espositrici di bontà enogastronomiche v
 arie a livello nazionale\, ed i partecipanti avranno l'opportunità di deg
 ustare - acquistare prodotti\, partecipare a workshop culturali ed assiste
 re a Master Class condotte da relatori esperti che condivideranno la loro 
 passione e conoscenza sul mondo enogastronomico.\n\nDomenica 14 una giuria
  autorevole valuterà le aziende e con il PREMIO BONUM 2024 verranno premi
 ate le migliori 3 in termini di qualità gusto olfattiva\, presentazione d
 ei prodotti e sostenibilità alimentare. "Bonum - Bontà Enogastronomiche 
 Rare e Particolari" non è solo una vetrina per le eccellenze italiane ma 
 anche un momento di confronto e di crescita culturale intorno ai valori di
  sostenibilità\, qualità e tradizione che il buon cibo e il buon bere po
 ssono trasmettere.\n\nPer ulteriori informazioni sull'evento e per il prog
 ramma dettagliato\, vi invitiamo a seguire i nostri canali social per aggi
 ornamenti in tempo reale.\n\nORARI: sabato 13 e domenica 14 aprile dalle 1
 0 alle 18\nCONTATTI:\n\nwww.fierabonum.it\nTel. 334-8403607\nFacebook: bon
 um\nInstagram: fiera_
ATTACH;FMTTYPE=image/jpeg:https://lazioeventi.com/wp-content/uploads/2024/
 04/image018.jpg
CATEGORIES:Fiere e Mercatini nel Lazio,Sagre, Gastronomia e Tradizioni nel
 Lazio
LOCATION:Roma\, Via Leopardi\, Roma\, Roma\, Lazio\, Italia
GEO:41.8942;12.5017
X-APPLE-STRUCTURED-LOCATION;VALUE=URI;X-ADDRESS=Via Leopardi\, Roma\, Roma\
 , Lazio\, Italia;X-APPLE-RADIUS=100;X-TITLE=Roma:geo:41.8942,12.5017
END:VEVENT
BEGIN:VTIMEZONE
TZID:Europe/Rome
X-LIC-LOCATION:Europe/Rome
BEGIN:DAYLIGHT
DTSTART:20240331T030000
TZOFFSETFROM:+0100
TZOFFSETTO:+0200
TZNAME:CEST
END:DAYLIGHT
END:VTIMEZONE
END:VCALENDAR