BEGIN:VCALENDAR
VERSION:2.0
PRODID:-//wp-events-plugin.com//7.2.3.1//EN
TZID:Europe/Rome
X-WR-TIMEZONE:Europe/Rome
BEGIN:VEVENT
UID:33198@lazioeventi.com
DTSTART;TZID=Europe/Rome:20221127T100000
DTEND;TZID=Europe/Rome:20221127T140000
DTSTAMP:20221123T133424Z
URL:https://lazioeventi.com/eventi/borgo-di-formello-e-il-mav-museo-agro-v
 eientano-con-nomos-trek
SUMMARY:Borgo di Formello e il MAV ( museo agro veientano) con Nomos Trek -
  Formello - 27 Novembre 22 10:00
DESCRIPTION:Conoscete Formello e il suo borgo?\nSiamo nel Parco di Veio\, u
 n territorio ricco di natura e storia\, il mito dell'antica città di Ve
 io che gli scrittori paragonavano ad Atene\, appassiona ancora e colpisce 
 il nostro immaginario.\nFin da medioevo e ancora oggi il territorio era at
 traversato dai pellegrini che percorrevano la via Francigena per raggiung
 ere Roma. Nel museo dell' Agro Veientano\, sito nel Palazzo Chigi antica 
 famiglia senese\, vedremo reperti di varie epoche\; Etrusca\, la ricostruz
 ione di una antichissima Tomba \, "Tomba Campana"\, 600a.C\, reperti di ep
 oca Romana e altomedievale\, come ceramiche e attrezzi da lavoro.\nFrutto 
 della collaborazione tra istituzioni e comunità il Museo è uno scrigno p
 ieno di tesori. che racconta la storia grazie anche alle nuove tecnologie
 .\nVisiteremo poi la chiesa di San Lorenzo patrono di Formello\,dove recen
 temente è stata ripristinata l'antica meridiana del 1700\, aperitivo...a 
 finire\n\nAPPUNTAMENTO h 10.00  P.zza della Repubblica Formello\, parche
 ggio pubblico\nBiglietto d'entrata al Museo MAV 5\,00€.\nmassimo 15 pers
 one.\nQUOTA SOCIALE:\nEscursione 15 € + Tessera Nomos Trek in corso di v
 alidità.\nPer i non tesserati inviare comunicazione via tel/sms etc. con 
 i propri dati (nome/cognome\, luogo e data di nascita e cf) entro le 18 de
 l giorno precedente l'escursione\nIl solo "Parteciperò" messo all'evento 
 non sarà preso in considerazione se non si è poi contattata la guida.\nI
 NFORMAZIONI e PRENOTAZIONI: (preferibilmente whatsapp)Laura De Angelis\nCe
 ll 3455101698\nPer ricevere aggiornamenti sull'evento :\n1) Mettere "parte
 ciperò"\;\n2) Mettere “mi piace” alla pagina Nomos Trek - Escursioni 
 e Trekking\ne cliccare sul tasto “segui”\n3) iscriversi al gruppo pubb
 lico Nomos Trek- Associazione Escursionistica\n4) canale telegram https:/
 /web.telegram.org/#/im?p=@nomostrekescursioni\n5) Chat Telegram https://t
 .me/+5JYvtRdqIH9jZDJk\n6)https://www.tiktok.com/@nomostrek\nL’iniziativa
  è riservata ai soci in regola con l’iscrizione relativa all’anno 202
 2 ed in possesso della relativa tessera. Le Guide si riservano il diritto 
 insindacabile di modificare il programma stabilito in caso di condizioni m
 eteorologiche avverse tali da rendere pericoloso l’itinerario\, in caso 
 di impraticabilità di un sentiero\, in caso di impossibilità di un parte
 cipante a continuare l’escursione.\nSi prega inoltre di avvertire gli ac
 compagnatori della presenza di eventuali patologie\, o di problematiche ch
 e potrebbero manifestarsi nel corso dell'escursione\, grazie per la collab
 orazione
ATTACH;FMTTYPE=image/jpeg:https://lazioeventi.com/wp-content/uploads/2022/
 11/315761347_575571567905568_2016258986843473761_n.jpg
CATEGORIES:Arte e Cultura nel Lazio
LOCATION:Formello\, Comune\, Formello\, Roma\, Lazio\, Italia
GEO:42.0801;12.4005
X-APPLE-STRUCTURED-LOCATION;VALUE=URI;X-ADDRESS=Comune\, Formello\, Roma\, 
 Lazio\, Italia;X-APPLE-RADIUS=100;X-TITLE=Formello:geo:42.0801,12.4005
END:VEVENT
BEGIN:VTIMEZONE
TZID:Europe/Rome
X-LIC-LOCATION:Europe/Rome
BEGIN:STANDARD
DTSTART:20221030T020000
TZOFFSETFROM:+0200
TZOFFSETTO:+0100
TZNAME:CET
END:STANDARD
END:VTIMEZONE
END:VCALENDAR