BEGIN:VCALENDAR
VERSION:2.0
PRODID:-//wp-events-plugin.com//7.2.3.1//EN
TZID:Europe/Rome
X-WR-TIMEZONE:Europe/Rome
BEGIN:VEVENT
UID:41535@lazioeventi.com
DTSTART;TZID=Europe/Rome;VALUE=DATE:20250517
DTEND;TZID=Europe/Rome;VALUE=DATE:20250519
DTSTAMP:20250515T070941Z
URL:https://lazioeventi.com/eventi/borgo-e-sapori
SUMMARY:Borgo e Sapori - Isola del Liri - 17 Maggio 25 00:00
DESCRIPTION:Sapori\, tradizione e meraviglia!\nA  Isola del Liri un weekend
  tra eccellenze enogastronomiche e scorci unici.\n\nIl 17 e 18 maggio 2025
  Isola del Liri tornerà protagonista con "Borgo e Sapori"\, l’evento ch
 e celebra il gusto delle tradizioni e la voglia di vivere la città. Dopo 
 il grande successo della Cascata di Vino\, che ha trasformato il centro in
  un grande "cantina" a cielo aperto\, la città è pronta a ripetersi\, pu
 ntando ancora una volta sulla sua voglia di stoire.\n\nNon mancare\, il bo
 rgo ti aspetta con un calice in mano!
ATTACH;FMTTYPE=image/jpeg:https://lazioeventi.com/wp-content/uploads/2025/
 05/borgo-e-sapori.jpg
CATEGORIES:Sagre, Gastronomia e Tradizioni nel Lazio
LOCATION:Isola del Liri\, Comune\, Isola del Liri\, Frosinone\, Lazio\, Ita
 lia
GEO:41.6787;13.5741
X-APPLE-STRUCTURED-LOCATION;VALUE=URI;X-ADDRESS=Comune\, Isola del Liri\, F
 rosinone\, Lazio\, Italia;X-APPLE-RADIUS=100;X-TITLE=Isola del Liri:geo:41
 .6787,13.5741
END:VEVENT
BEGIN:VTIMEZONE
TZID:Europe/Rome
X-LIC-LOCATION:Europe/Rome
BEGIN:DAYLIGHT
DTSTART:20250330T030000
TZOFFSETFROM:+0100
TZOFFSETTO:+0200
TZNAME:CEST
END:DAYLIGHT
END:VTIMEZONE
END:VCALENDAR