BEGIN:VCALENDAR
VERSION:2.0
PRODID:-//wp-events-plugin.com//7.2.3.1//EN
TZID:Europe/Rome
X-WR-TIMEZONE:Europe/Rome
BEGIN:VEVENT
UID:41621@lazioeventi.com
DTSTART;TZID=Europe/Rome:20250601T180000
DTEND;TZID=Europe/Rome:20250601T233000
DTSTAMP:20250521T104445Z
URL:https://lazioeventi.com/eventi/borgo-in-festa-castro-dei-volsci
SUMMARY:Borgo in Festa - Castro dei Volsci - 1 Giugno 25 18:00
DESCRIPTION:La "Scarana APS" con il patrocinio del Comune di Castro dei Vol
 sci\, organizza per Domenica 1 Giugno: BORGO IN FESTA\n\nPercorso nell'Art
 e\, nel Gusto e nella Tradizione lungo Via Civita di Castro dei Volsci.\n\
 nPROGRAMMA:\nDalle 18:00 lungo il percorso della Via Civita e Belvedere di
  S.Oliva apertura di stand gastronomici e botteghe artigiane\nIntrattenime
 nto musicale:\n- Piazza IV Novembre "Gli Stornellatori"\n- Piazzetta La Bi
 rba "La fisarmonica di Mimmo Mirabelli"\n- Salita di S.Oliva "Balli di Gru
 ppo e Musica Danza"\n- Musica folkloristica itinerante a cura dell'Ass.ne 
 Centro Anziani A.Berardi\na partire dalle ore 22:00 Piazza S. Pietro - Osp
 ite speciale "4Play"
ATTACH;FMTTYPE=image/jpeg:https://lazioeventi.com/wp-content/uploads/2025/
 05/borgo-festa-castro-volsci.jpg
CATEGORIES:Musica, Spettacoli e Danza nel Lazio,Sagre, Gastronomia e
 Tradizioni nel Lazio
LOCATION:Castro dei Volsci\, Comune di Castro dei Volsci\, Castro dei Volsc
 i\, Frosinone\, Lazio\, Italia
GEO:41.508621;13.406827000000021
X-APPLE-STRUCTURED-LOCATION;VALUE=URI;X-ADDRESS=Comune di Castro dei Volsci
 \, Castro dei Volsci\, Frosinone\, Lazio\, Italia;X-APPLE-RADIUS=100;X-TIT
 LE=Castro dei Volsci:geo:41.508621,13.406827000000021
END:VEVENT
BEGIN:VTIMEZONE
TZID:Europe/Rome
X-LIC-LOCATION:Europe/Rome
BEGIN:DAYLIGHT
DTSTART:20250330T030000
TZOFFSETFROM:+0100
TZOFFSETTO:+0200
TZNAME:CEST
END:DAYLIGHT
END:VTIMEZONE
END:VCALENDAR