BEGIN:VCALENDAR
VERSION:2.0
PRODID:-//wp-events-plugin.com//7.2.3.1//EN
TZID:Europe/Rome
X-WR-TIMEZONE:Europe/Rome
BEGIN:VEVENT
UID:43138@lazioeventi.com
DTSTART;TZID=Europe/Rome:20251207T163000
DTEND;TZID=Europe/Rome:20251207T233000
DTSTAMP:20251119T115213Z
URL:https://lazioeventi.com/eventi/borgo-incantato
SUMMARY:Borgo Incantato - Monte San Biagio - 7 Dicembre 25 16:30
DESCRIPTION:NATALE A MONTE SAN BIAGIO: IL 7 DICEMBRE TORNA LA MAGIA DE "IL 
 BORGO INCANTATO"\nVI Edizione dell’evento che accende il centro storico:
  dai cori dei bambini all'arrivo di Babbo Natale\, fino allo street food e
  alla musica popolare dei "Cantastorie degli Ausoni".\nL’atmosfera delle
  feste è pronta ad avvolgere il centro storico di Monte San Biagio. Domen
 ica 7 dicembre 2025 torna\, con la sua attesa VI Edizione\, l'evento "Il B
 orgo Incantato".\nOrganizzata dall’Associazione "La Piazza del Centro" e
  dal Comune di Monte San Biagio\, con il prezioso contributo della Regione
  Lazio e di ARSIAL (Agenzia Regionale per lo Sviluppo e l'Innovazione dell
 'Agricoltura del Lazio)\, la manifestazione trasformerà il cuore del paes
 e in un villaggio natalizio a cielo aperto\, dedicato alle famiglie\, ai b
 ambini e alle tradizioni.\nUN POMERIGGIO DI EMOZIONI E MUSICA Il sipario s
 i alzerà alle ore 16:30 in Chiesa\, dove le voci bianche saranno protagon
 iste: si esibirà infatti il Coro dei Bambini\, in una suggestiva collabor
 azione con il Coro dei Ragazzi della Parrocchia San Giovanni Battista.\nIl
  momento clou istituzionale e simbolico è fissato per le ore 17:30 in Pia
 zza\, con la cerimonia di accensione e benedizione dell’Albero di Natale
 \, un rito che dà ufficialmente il via alle festività cittadine.\nDIVERT
 IMENTO PER I PIÙ PICCOLI Subito dopo l'accensione\, spazio alla magia pur
 a per i bambini: è previsto l’arrivo di Babbo Natale\, che aprirà le p
 orte della sua Casa e dell’Ufficio Postale per raccogliere le letterine.
  Il pomeriggio proseguirà tra giochi e golosità con l'animazione a cura 
 de "La Tua Mascotte"\, laboratori a tema (Lab Christmas)\, merende\, pop-c
 orn e zucchero filato per tutti.\nSERATA TRA GUSTO E FOLKLORE La festa con
 tinuerà anche dopo il tramonto. Dalle ore 20:00\, i vicoli si riempiranno
  dei profumi dello Street Food e delle note della musica dal vivo. A risca
 ldare la serata ci penseranno i "Cantastorie degli Ausoni"\, portando in s
 cena l'allegria della musica popolare e tradizionale del territorio.\nL'am
 ministrazione comunale e l'associazione invitano tutta la cittadinanza e i
  visitatori dei paesi limitrofi a partecipare a questa giornata di festa\,
  per riscoprire la bellezza dello stare insieme nel suggestivo scenario de
 l centro storico.\nUn pomeriggio speciale dove il nostro borgo si veste di
  magia:\n\n 	Canti natalizi\n 	Zucchero filato e pop corn\n 	Merenda golos
 a\n 	Animazione per bambini\n 	Incontro con Babbo Natale\n 	Ufficio postal
 e per imbucare le letterine\n 	Apertura della Casa di Babbo Natale\n\nNon 
 mancate… il Natale più dolce e incantato dell’anno vi aspetta!
ATTACH;FMTTYPE=image/jpeg:https://lazioeventi.com/wp-content/uploads/2025/
 11/borgo-incantato-monte-san-biagio.jpg
CATEGORIES:Fiere e Mercatini nel Lazio,Sport, Tempo Libero e Divertimento
 nel Lazio
LOCATION:Monte San Biagio\, Comune\, Monte San Biagio\, Latina\, Lazio\, It
 alia
GEO:41.3528;13.3512
X-APPLE-STRUCTURED-LOCATION;VALUE=URI;X-ADDRESS=Comune\, Monte San Biagio\,
  Latina\, Lazio\, Italia;X-APPLE-RADIUS=100;X-TITLE=Monte San Biagio:geo:4
 1.3528,13.3512
END:VEVENT
BEGIN:VTIMEZONE
TZID:Europe/Rome
X-LIC-LOCATION:Europe/Rome
BEGIN:STANDARD
DTSTART:20251026T020000
TZOFFSETFROM:+0200
TZOFFSETTO:+0100
TZNAME:CET
END:STANDARD
END:VTIMEZONE
END:VCALENDAR