BEGIN:VCALENDAR
VERSION:2.0
PRODID:-//wp-events-plugin.com//7.2.3.1//EN
TZID:Europe/Rome
X-WR-TIMEZONE:Europe/Rome
BEGIN:VEVENT
UID:29006@lazioeventi.com
DTSTART;TZID=Europe/Rome:20211111T180000
DTEND;TZID=Europe/Rome:20211114T234500
DTSTAMP:20211104T211622Z
URL:https://lazioeventi.com/eventi/botti-da-orbi
SUMMARY:Botti da Orbi - Ceccano - 11 Novembre 21 18:00
DESCRIPTION:Rassegna brassicola dedicata alla selezione dei birrifici artig
 ianali del nostro territorio.\nLa manifestazione si svolgerà all'esterno 
 del nostro locale\, dove saranno disponibili 16 vie alla spina\, con la pr
 esenza degli amici del beer-truck SpillaBirra\, e una roulotte adibita a p
 aninoteca.\nTutto l'evento è pensato self service con sedute libere all'i
 nterno di un tendone esclusivo per la manifestazione.\n\nProduttori presen
 ti:\nTsunami - Ceccano (FR)\nEureka - Castrocielo (FR)\nDeep Beer - Sora (
 FR)\nThirsty Brothers - Atina (FR)\nSancti Benedicti - Cassino (FR)\nKashm
 ir - Filignano (IS)
ATTACH;FMTTYPE=image/jpeg:https://lazioeventi.com/wp-content/uploads/2021/
 11/botti-orsi.jpg
CATEGORIES:Sagre, Gastronomia e Tradizioni nel Lazio
LOCATION:Ceccano\, Comune di Ceccano\, Ceccano\, Frosinone\, Lazio\, Italia
GEO:41.5684;13.3336
X-APPLE-STRUCTURED-LOCATION;VALUE=URI;X-ADDRESS=Comune di Ceccano\, Ceccano
 \, Frosinone\, Lazio\, Italia;X-APPLE-RADIUS=100;X-TITLE=Ceccano:geo:41.56
 84,13.3336
END:VEVENT
BEGIN:VTIMEZONE
TZID:Europe/Rome
X-LIC-LOCATION:Europe/Rome
BEGIN:STANDARD
DTSTART:20211031T020000
TZOFFSETFROM:+0200
TZOFFSETTO:+0100
TZNAME:CET
END:STANDARD
END:VTIMEZONE
END:VCALENDAR