BEGIN:VCALENDAR
VERSION:2.0
PRODID:-//wp-events-plugin.com//7.2.3.1//EN
TZID:Europe/Rome
X-WR-TIMEZONE:Europe/Rome
BEGIN:VEVENT
UID:41668@lazioeventi.com
DTSTART;TZID=Europe/Rome;VALUE=DATE:20250605
DTEND;TZID=Europe/Rome;VALUE=DATE:20250630
DTSTAMP:20250527T055903Z
URL:https://lazioeventi.com/eventi/boville-estate-2
SUMMARY:Boville Estate - Marino - 5 Giugno 25 00:00
DESCRIPTION:Da giovedì 5 giugno e fino a domenica 29 giugno si terrà la m
 anifestazione “Boville Estate”\, un’iniziativa realizzata dalla Pro 
 Loco Boville con il Patrocinio del Comune di Marino. \n\nL’evento preved
 e un ricco calendario di attività ludiche e ricreative all’interno del 
 Parco della Pace di Cava dei Selci.\n\nDurante questo periodo sarà possib
 ile assistere a spettacoli\, balli\, musica\, animazione\, sport\, cinema 
 e intrattenimento per tutte le età in un contesto festoso con giochi per 
 bambini\, street food e vari stand grazie anche alla partecipazione delle 
 tante realtà del territorio che hanno collaborato alla realizzazione di q
 uesta lunga rassegna di spettacoli gratuiti per tutti.
ATTACH;FMTTYPE=image/jpeg:https://lazioeventi.com/wp-content/uploads/2025/
 05/boville-estate-giugno.jpg
CATEGORIES:Arte e Cultura nel Lazio,Musica, Spettacoli e Danza nel
 Lazio,Sport, Tempo Libero e Divertimento nel Lazio,Varie
LOCATION:Marino\, Comune\, Marino\, Roma\, Lazio\, Italia
GEO:41.7698;12.6586
X-APPLE-STRUCTURED-LOCATION;VALUE=URI;X-ADDRESS=Comune\, Marino\, Roma\, La
 zio\, Italia;X-APPLE-RADIUS=100;X-TITLE=Marino:geo:41.7698,12.6586
END:VEVENT
BEGIN:VTIMEZONE
TZID:Europe/Rome
X-LIC-LOCATION:Europe/Rome
BEGIN:DAYLIGHT
DTSTART:20250330T030000
TZOFFSETFROM:+0100
TZOFFSETTO:+0200
TZNAME:CEST
END:DAYLIGHT
END:VTIMEZONE
END:VCALENDAR