BEGIN:VCALENDAR
VERSION:2.0
PRODID:-//wp-events-plugin.com//7.2.3.1//EN
TZID:Europe/Rome
X-WR-TIMEZONE:Europe/Rome
BEGIN:VEVENT
UID:44274@lazioeventi.com
DTSTART;TZID=Europe/Rome:20260620T110000
DTEND;TZID=Europe/Rome:20260621T190000
DTSTAMP:20260422T151411Z
URL:https://lazioeventi.com/eventi/bracciano-medievale-arti-e-mestieri
SUMMARY:Bracciano Medievale - Arti e mestieri - Bracciano - 20 Giugno 26 11
 :00
DESCRIPTION:Bracciano Medievale – Arti e Mestieri 2026 20-21 giugno 2026 
 | Piazza Mazzini\, Bracciano (RM) | Ingresso gratuito\n\nPer due giorni il
  centro storico di Bracciano si trasforma in un borgo medievale vivente. L
 a Compagnia del Castello\, gruppo di rievocazione storica attivo dal 2009 
 e legato al Castello Orsini-Odescalchi\, anima la manifestazione con accam
 pamento medievale\, arcieri in costume d'epoca\, spettacoli itineranti\, d
 imostrazioni di arti e mestieri e animazione per famiglie e bambini.\n\nL'
 evento si svolge con il patrocinio del Comune di Bracciano ed è aperto a 
 tutta la comunità.\n\nUlteriori informazioni: compagniacastello.it
ATTACH;FMTTYPE=image/jpeg:https://lazioeventi.com/wp-content/uploads/2026/
 04/copertina-bracciano-medievale-.jpeg
CATEGORIES:Arte e Cultura nel Lazio,Varie
LOCATION:Bracciano\, Comune di Bracciano\, Bracciano\, Roma\, Lazio\, Itali
 a
GEO:42.1036;12.1756
X-APPLE-STRUCTURED-LOCATION;VALUE=URI;X-ADDRESS=Comune di Bracciano\, Bracc
 iano\, Roma\, Lazio\, Italia;X-APPLE-RADIUS=100;X-TITLE=Bracciano:geo:42.1
 036,12.1756
END:VEVENT
BEGIN:VTIMEZONE
TZID:Europe/Rome
X-LIC-LOCATION:Europe/Rome
BEGIN:DAYLIGHT
DTSTART:20260329T030000
TZOFFSETFROM:+0100
TZOFFSETTO:+0200
TZNAME:CEST
END:DAYLIGHT
END:VTIMEZONE
END:VCALENDAR